BEGIN:VCALENDAR
VERSION:2.0
PRODID:-//Our Lady of Mt. Carmel - ECPv6.15.20//NONSGML v1.0//EN
CALSCALE:GREGORIAN
METHOD:PUBLISH
X-ORIGINAL-URL:https://www.olmcfssp.org
X-WR-CALDESC:Events for Our Lady of Mt. Carmel
REFRESH-INTERVAL;VALUE=DURATION:PT1H
X-Robots-Tag:noindex
X-PUBLISHED-TTL:PT1H
BEGIN:VTIMEZONE
TZID:America/Denver
BEGIN:DAYLIGHT
TZOFFSETFROM:-0700
TZOFFSETTO:-0600
TZNAME:MDT
DTSTART:20220313T090000
END:DAYLIGHT
BEGIN:STANDARD
TZOFFSETFROM:-0600
TZOFFSETTO:-0700
TZNAME:MST
DTSTART:20221106T080000
END:STANDARD
BEGIN:DAYLIGHT
TZOFFSETFROM:-0700
TZOFFSETTO:-0600
TZNAME:MDT
DTSTART:20230312T090000
END:DAYLIGHT
BEGIN:STANDARD
TZOFFSETFROM:-0600
TZOFFSETTO:-0700
TZNAME:MST
DTSTART:20231105T080000
END:STANDARD
BEGIN:DAYLIGHT
TZOFFSETFROM:-0700
TZOFFSETTO:-0600
TZNAME:MDT
DTSTART:20240310T090000
END:DAYLIGHT
BEGIN:STANDARD
TZOFFSETFROM:-0600
TZOFFSETTO:-0700
TZNAME:MST
DTSTART:20241103T080000
END:STANDARD
END:VTIMEZONE
BEGIN:VEVENT
DTSTART;TZID=America/Denver:20230303T093000
DTEND;TZID=America/Denver:20230304T080000
DTSTAMP:20260423T023630
CREATED:20230224T195305Z
LAST-MODIFIED:20230224T212958Z
UID:4348-1677835800-1677916800@www.olmcfssp.org
SUMMARY:First Friday Adoration
DESCRIPTION:
URL:https://www.olmcfssp.org/calendar/first-friday-adoration/
LOCATION:Church
END:VEVENT
BEGIN:VEVENT
DTSTART;TZID=America/Denver:20230303T164500
DTEND;TZID=America/Denver:20230303T180000
DTSTAMP:20260423T023630
CREATED:20230224T194004Z
LAST-MODIFIED:20230224T213053Z
UID:4304-1677861900-1677866400@www.olmcfssp.org
SUMMARY:Meatless Soup Potluck
DESCRIPTION:All are welcome to attend this communal meal and please bring a soup to share!
URL:https://www.olmcfssp.org/calendar/meatless-soup-potluck-2/
LOCATION:Parish Hall
END:VEVENT
BEGIN:VEVENT
DTSTART;TZID=America/Denver:20230303T180000
DTEND;TZID=America/Denver:20230303T184500
DTSTAMP:20260423T023630
CREATED:20230224T195305Z
LAST-MODIFIED:20230224T213108Z
UID:4347-1677866400-1677869100@www.olmcfssp.org
SUMMARY:Stations of the Cross
DESCRIPTION:
URL:https://www.olmcfssp.org/calendar/stations-of-the-cross-2/
LOCATION:Church
END:VEVENT
END:VCALENDAR