BEGIN:VCALENDAR
VERSION:2.0
PRODID:-//Our Lady of Mt. Carmel - ECPv6.15.20//NONSGML v1.0//EN
CALSCALE:GREGORIAN
METHOD:PUBLISH
X-ORIGINAL-URL:https://www.olmcfssp.org
X-WR-CALDESC:Events for Our Lady of Mt. Carmel
REFRESH-INTERVAL;VALUE=DURATION:PT1H
X-Robots-Tag:noindex
X-PUBLISHED-TTL:PT1H
BEGIN:VTIMEZONE
TZID:America/Denver
BEGIN:DAYLIGHT
TZOFFSETFROM:-0700
TZOFFSETTO:-0600
TZNAME:MDT
DTSTART:20220313T090000
END:DAYLIGHT
BEGIN:STANDARD
TZOFFSETFROM:-0600
TZOFFSETTO:-0700
TZNAME:MST
DTSTART:20221106T080000
END:STANDARD
BEGIN:DAYLIGHT
TZOFFSETFROM:-0700
TZOFFSETTO:-0600
TZNAME:MDT
DTSTART:20230312T090000
END:DAYLIGHT
BEGIN:STANDARD
TZOFFSETFROM:-0600
TZOFFSETTO:-0700
TZNAME:MST
DTSTART:20231105T080000
END:STANDARD
BEGIN:DAYLIGHT
TZOFFSETFROM:-0700
TZOFFSETTO:-0600
TZNAME:MDT
DTSTART:20240310T090000
END:DAYLIGHT
BEGIN:STANDARD
TZOFFSETFROM:-0600
TZOFFSETTO:-0700
TZNAME:MST
DTSTART:20241103T080000
END:STANDARD
END:VTIMEZONE
BEGIN:VEVENT
DTSTART;TZID=America/Denver:20230316T190000
DTEND;TZID=America/Denver:20230316T203000
DTSTAMP:20260423T014218
CREATED:20230224T195906Z
LAST-MODIFIED:20230224T222706Z
UID:4387-1678993200-1678998600@www.olmcfssp.org
SUMMARY:God Within Class by In Ipso
DESCRIPTION:12-week course on authentic Catholic spirituality to help you grow in prayer. Tuition is $240\, and scholarships are available. Family members enjoy 50% discount on the second enrollee. Learn more at www.in-ipso.org or contact andrea@in-ipso.org / 720-203-4499. Register by Feb 15.
URL:https://www.olmcfssp.org/calendar/god-within-class-by-in-ipso-3/
LOCATION:St. Albert of Jerusalem Basement Room
END:VEVENT
END:VCALENDAR