BEGIN:VCALENDAR
VERSION:2.0
PRODID:-//Our Lady of Mt. Carmel - ECPv6.15.20//NONSGML v1.0//EN
CALSCALE:GREGORIAN
METHOD:PUBLISH
X-WR-CALNAME:Our Lady of Mt. Carmel
X-ORIGINAL-URL:https://www.olmcfssp.org
X-WR-CALDESC:Events for Our Lady of Mt. Carmel
REFRESH-INTERVAL;VALUE=DURATION:PT1H
X-Robots-Tag:noindex
X-PUBLISHED-TTL:PT1H
BEGIN:VTIMEZONE
TZID:America/Denver
BEGIN:DAYLIGHT
TZOFFSETFROM:-0700
TZOFFSETTO:-0600
TZNAME:MDT
DTSTART:20220313T090000
END:DAYLIGHT
BEGIN:STANDARD
TZOFFSETFROM:-0600
TZOFFSETTO:-0700
TZNAME:MST
DTSTART:20221106T080000
END:STANDARD
BEGIN:DAYLIGHT
TZOFFSETFROM:-0700
TZOFFSETTO:-0600
TZNAME:MDT
DTSTART:20230312T090000
END:DAYLIGHT
BEGIN:STANDARD
TZOFFSETFROM:-0600
TZOFFSETTO:-0700
TZNAME:MST
DTSTART:20231105T080000
END:STANDARD
BEGIN:DAYLIGHT
TZOFFSETFROM:-0700
TZOFFSETTO:-0600
TZNAME:MDT
DTSTART:20240310T090000
END:DAYLIGHT
BEGIN:STANDARD
TZOFFSETFROM:-0600
TZOFFSETTO:-0700
TZNAME:MST
DTSTART:20241103T080000
END:STANDARD
END:VTIMEZONE
BEGIN:VEVENT
DTSTART;TZID=America/Denver:20230407T091500
DTEND;TZID=America/Denver:20230407T101500
DTSTAMP:20260423T004128
CREATED:20230324T174428Z
LAST-MODIFIED:20230324T175502Z
UID:4672-1680858900-1680862500@www.olmcfssp.org
SUMMARY:No First Friday Adoration
DESCRIPTION:
URL:https://www.olmcfssp.org/calendar/no-first-friday-adoration/
END:VEVENT
BEGIN:VEVENT
DTSTART;TZID=America/Denver:20230407T091500
DTEND;TZID=America/Denver:20230407T161500
DTSTAMP:20260423T004128
CREATED:20230324T180047Z
LAST-MODIFIED:20230324T180047Z
UID:4717-1680858900-1680884100@www.olmcfssp.org
SUMMARY:Parish Office Closed
DESCRIPTION:
URL:https://www.olmcfssp.org/calendar/parish-office-closed-2/
END:VEVENT
BEGIN:VEVENT
DTSTART;TZID=America/Denver:20230407T120000
DTEND;TZID=America/Denver:20230407T140000
DTSTAMP:20260423T004128
CREATED:20230324T174428Z
LAST-MODIFIED:20230324T175645Z
UID:4674-1680868800-1680876000@www.olmcfssp.org
SUMMARY:Confessions
DESCRIPTION:
URL:https://www.olmcfssp.org/calendar/confessions/
LOCATION:Church
END:VEVENT
BEGIN:VEVENT
DTSTART;TZID=America/Denver:20230407T140000
DTEND;TZID=America/Denver:20230407T144500
DTSTAMP:20260423T004128
CREATED:20230324T174428Z
LAST-MODIFIED:20230324T175655Z
UID:4673-1680876000-1680878700@www.olmcfssp.org
SUMMARY:Stations of the Cross
DESCRIPTION:
URL:https://www.olmcfssp.org/calendar/stations-of-the-cross-7/
LOCATION:Church
END:VEVENT
BEGIN:VEVENT
DTSTART;TZID=America/Denver:20230407T150000
DTEND;TZID=America/Denver:20230407T170000
DTSTAMP:20260423T004128
CREATED:20230324T174428Z
LAST-MODIFIED:20230324T175706Z
UID:4675-1680879600-1680886800@www.olmcfssp.org
SUMMARY:Solemn Liturgy
DESCRIPTION:
URL:https://www.olmcfssp.org/calendar/solemn-liturgy/
LOCATION:Church
END:VEVENT
BEGIN:VEVENT
DTSTART;TZID=America/Denver:20230407T190000
DTEND;TZID=America/Denver:20230407T203000
DTSTAMP:20260423T004128
CREATED:20230324T174428Z
LAST-MODIFIED:20230324T175714Z
UID:4676-1680894000-1680899400@www.olmcfssp.org
SUMMARY:Tenebrae
DESCRIPTION:
URL:https://www.olmcfssp.org/calendar/tenebrae-3/
LOCATION:Church
END:VEVENT
END:VCALENDAR