BEGIN:VCALENDAR
VERSION:2.0
PRODID:-//Our Lady of Mt. Carmel - ECPv6.15.20//NONSGML v1.0//EN
CALSCALE:GREGORIAN
METHOD:PUBLISH
X-WR-CALNAME:Our Lady of Mt. Carmel
X-ORIGINAL-URL:https://www.olmcfssp.org
X-WR-CALDESC:Events for Our Lady of Mt. Carmel
REFRESH-INTERVAL;VALUE=DURATION:PT1H
X-Robots-Tag:noindex
X-PUBLISHED-TTL:PT1H
BEGIN:VTIMEZONE
TZID:America/Denver
BEGIN:DAYLIGHT
TZOFFSETFROM:-0700
TZOFFSETTO:-0600
TZNAME:MDT
DTSTART:20220313T090000
END:DAYLIGHT
BEGIN:STANDARD
TZOFFSETFROM:-0600
TZOFFSETTO:-0700
TZNAME:MST
DTSTART:20221106T080000
END:STANDARD
BEGIN:DAYLIGHT
TZOFFSETFROM:-0700
TZOFFSETTO:-0600
TZNAME:MDT
DTSTART:20230312T090000
END:DAYLIGHT
BEGIN:STANDARD
TZOFFSETFROM:-0600
TZOFFSETTO:-0700
TZNAME:MST
DTSTART:20231105T080000
END:STANDARD
BEGIN:DAYLIGHT
TZOFFSETFROM:-0700
TZOFFSETTO:-0600
TZNAME:MDT
DTSTART:20240310T090000
END:DAYLIGHT
BEGIN:STANDARD
TZOFFSETFROM:-0600
TZOFFSETTO:-0700
TZNAME:MST
DTSTART:20241103T080000
END:STANDARD
END:VTIMEZONE
BEGIN:VEVENT
DTSTART;TZID=America/Denver:20230425T083000
DTEND;TZID=America/Denver:20230425T091500
DTSTAMP:20260423T004143
CREATED:20230324T174430Z
LAST-MODIFIED:20230324T175503Z
UID:4686-1682411400-1682414100@www.olmcfssp.org
SUMMARY:High Mass\, St. Mark
DESCRIPTION:
URL:https://www.olmcfssp.org/calendar/high-mass-st-mark/
END:VEVENT
BEGIN:VEVENT
DTSTART;TZID=America/Denver:20230425T093000
DTEND;TZID=America/Denver:20230425T110000
DTSTAMP:20260423T004143
CREATED:20230324T171722Z
LAST-MODIFIED:20230324T172110Z
UID:4582-1682415000-1682420400@www.olmcfssp.org
SUMMARY:Tuesday Morning Book Club
DESCRIPTION:The Tuesday morning book club meets to read and discuss a selected book that assists with spiritual growth and knowledge of our wonderful Catholic faith. All members of the parish are welcome to drop by and check us out.
URL:https://www.olmcfssp.org/calendar/tuesday-morning-book-club-8/
LOCATION:St. John of the Cross Conference Room
END:VEVENT
BEGIN:VEVENT
DTSTART;TZID=America/Denver:20230425T170000
DTEND;TZID=America/Denver:20230425T180000
DTSTAMP:20260423T004143
CREATED:20230324T174430Z
LAST-MODIFIED:20230324T175941Z
UID:4687-1682442000-1682445600@www.olmcfssp.org
SUMMARY:Shepherds of Christ Prayer Group
DESCRIPTION:
URL:https://www.olmcfssp.org/calendar/shepherds-of-christ-prayer-group-8/
LOCATION:Church
END:VEVENT
END:VCALENDAR