BEGIN:VCALENDAR
VERSION:2.0
PRODID:-//Our Lady of Mt. Carmel - ECPv6.15.20//NONSGML v1.0//EN
CALSCALE:GREGORIAN
METHOD:PUBLISH
X-WR-CALNAME:Our Lady of Mt. Carmel
X-ORIGINAL-URL:https://www.olmcfssp.org
X-WR-CALDESC:Events for Our Lady of Mt. Carmel
REFRESH-INTERVAL;VALUE=DURATION:PT1H
X-Robots-Tag:noindex
X-PUBLISHED-TTL:PT1H
BEGIN:VTIMEZONE
TZID:America/Denver
BEGIN:DAYLIGHT
TZOFFSETFROM:-0700
TZOFFSETTO:-0600
TZNAME:MDT
DTSTART:20220313T090000
END:DAYLIGHT
BEGIN:STANDARD
TZOFFSETFROM:-0600
TZOFFSETTO:-0700
TZNAME:MST
DTSTART:20221106T080000
END:STANDARD
BEGIN:DAYLIGHT
TZOFFSETFROM:-0700
TZOFFSETTO:-0600
TZNAME:MDT
DTSTART:20230312T090000
END:DAYLIGHT
BEGIN:STANDARD
TZOFFSETFROM:-0600
TZOFFSETTO:-0700
TZNAME:MST
DTSTART:20231105T080000
END:STANDARD
BEGIN:DAYLIGHT
TZOFFSETFROM:-0700
TZOFFSETTO:-0600
TZNAME:MDT
DTSTART:20240310T090000
END:DAYLIGHT
BEGIN:STANDARD
TZOFFSETFROM:-0600
TZOFFSETTO:-0700
TZNAME:MST
DTSTART:20241103T080000
END:STANDARD
END:VTIMEZONE
BEGIN:VTIMEZONE
TZID:UTC
BEGIN:STANDARD
TZOFFSETFROM:+0000
TZOFFSETTO:+0000
TZNAME:UTC
DTSTART:20220101T000000
END:STANDARD
END:VTIMEZONE
BEGIN:VEVENT
DTSTART;TZID=America/Denver:20230427T073000
DTEND;TZID=America/Denver:20230427T083000
DTSTAMP:20260423T004143
CREATED:20230324T171722Z
LAST-MODIFIED:20230324T185303Z
UID:4583-1682580600-1682584200@www.olmcfssp.org
SUMMARY:St. Joseph Business Club Meeting
DESCRIPTION:We are a group of individuals who are interested in growing our businesses and connecting with other Catholic professionals. We share personal business experiences; both operational and financial\, assist and mentor new entrepreneurs\, learn ways in which we can support one other\, and much more. Each meeting consists of a presentation concerning business knowledge or advice\, discussing a rotating topic which aims to help each individual with their business\, and also the opportunity to connect with other professionals in the club which can lead to referrals\, business deals\, advice\, etc. Even if you do not own your own company\, you are welcome to come and learn more about how you can better your work\, no matter what you do!
URL:https://www.olmcfssp.org/calendar/st-joseph-business-club-meeting-4/
LOCATION:St. John of the Cross Conference Room
END:VEVENT
BEGIN:VEVENT
DTSTART;TZID=UTC:20230427T190000
DTEND;TZID=UTC:20230427T203000
DTSTAMP:20260423T004143
CREATED:20230324T171352Z
LAST-MODIFIED:20230324T171537Z
UID:4569-1682622000-1682627400@www.olmcfssp.org
SUMMARY:God Within Class by In Ipso
DESCRIPTION:12-week course on authentic Catholic spirituality to help you grow in prayer. Tuition is $240\, and scholarships are available. Family members enjoy 50% discount on the second enrollee. Learn more at www.in-ipso.org or contact andrea@in-ipso.org / 720-203-4499. Register by Feb 15.
URL:https://www.olmcfssp.org/calendar/god-within-class-by-in-ipso-8/
LOCATION:St. Albert of Jerusalem Basement Room
END:VEVENT
END:VCALENDAR