BEGIN:VCALENDAR
VERSION:2.0
PRODID:-//Our Lady of Mt. Carmel - ECPv6.15.20//NONSGML v1.0//EN
CALSCALE:GREGORIAN
METHOD:PUBLISH
X-ORIGINAL-URL:https://www.olmcfssp.org
X-WR-CALDESC:Events for Our Lady of Mt. Carmel
REFRESH-INTERVAL;VALUE=DURATION:PT1H
X-Robots-Tag:noindex
X-PUBLISHED-TTL:PT1H
BEGIN:VTIMEZONE
TZID:America/Denver
BEGIN:DAYLIGHT
TZOFFSETFROM:-0700
TZOFFSETTO:-0600
TZNAME:MDT
DTSTART:20220313T090000
END:DAYLIGHT
BEGIN:STANDARD
TZOFFSETFROM:-0600
TZOFFSETTO:-0700
TZNAME:MST
DTSTART:20221106T080000
END:STANDARD
BEGIN:DAYLIGHT
TZOFFSETFROM:-0700
TZOFFSETTO:-0600
TZNAME:MDT
DTSTART:20230312T090000
END:DAYLIGHT
BEGIN:STANDARD
TZOFFSETFROM:-0600
TZOFFSETTO:-0700
TZNAME:MST
DTSTART:20231105T080000
END:STANDARD
BEGIN:DAYLIGHT
TZOFFSETFROM:-0700
TZOFFSETTO:-0600
TZNAME:MDT
DTSTART:20240310T090000
END:DAYLIGHT
BEGIN:STANDARD
TZOFFSETFROM:-0600
TZOFFSETTO:-0700
TZNAME:MST
DTSTART:20241103T080000
END:STANDARD
END:VTIMEZONE
BEGIN:VEVENT
DTSTART;TZID=America/Denver:20230507T073000
DTEND;TZID=America/Denver:20230507T143000
DTSTAMP:20260422T230117
CREATED:20230426T200842Z
LAST-MODIFIED:20230426T203824Z
UID:4969-1683444600-1683469800@www.olmcfssp.org
SUMMARY:Mother's Day Craft Fair
DESCRIPTION:Mother’s Day Craft Fair after all Sunday Masses. Purchase the perfect gift to celebrate a mom you know or to give to a child receiving their first sacraments. Support both parishioner-owned businesses and help fundraise for the bus that will take the OLMC chapter to the 3 Hearts Pilgrimage.
URL:https://www.olmcfssp.org/calendar/mothers-day-craft-fair/
END:VEVENT
BEGIN:VEVENT
DTSTART;TZID=America/Denver:20230507T140000
DTEND;TZID=America/Denver:20230507T170000
DTSTAMP:20260422T230117
CREATED:20230426T201758Z
LAST-MODIFIED:20230426T201759Z
UID:4991-1683468000-1683478800@www.olmcfssp.org
SUMMARY:Laeta Vita
DESCRIPTION:Leata Vita (Joyful Life) is a group for single women ages 18-35. The purpose of our group is to meet and grow in fellowship with other women who are in a similar season of life. We meet two times a month. The first meeting of the month consists of discussing a book as part of our book club and socializing with each other. The second meeting of the month consists of a fun outing or activity (and every now and then something charitable for the parish or some other organization)\, meant to give the members a chance to get out and have some fun.
URL:https://www.olmcfssp.org/calendar/laeta-vita/
END:VEVENT
BEGIN:VEVENT
DTSTART;TZID=America/Denver:20230507T170000
DTEND;TZID=America/Denver:20230507T180000
DTSTAMP:20260422T230117
CREATED:20230324T174430Z
LAST-MODIFIED:20230426T200453Z
UID:4688-1683478800-1683482400@www.olmcfssp.org
SUMMARY:Sung Vespers
DESCRIPTION:
URL:https://www.olmcfssp.org/calendar/vespers-10/
LOCATION:Church
END:VEVENT
END:VCALENDAR