BEGIN:VCALENDAR
VERSION:2.0
PRODID:-//Our Lady of Mt. Carmel - ECPv6.15.20//NONSGML v1.0//EN
CALSCALE:GREGORIAN
METHOD:PUBLISH
X-ORIGINAL-URL:https://www.olmcfssp.org
X-WR-CALDESC:Events for Our Lady of Mt. Carmel
REFRESH-INTERVAL;VALUE=DURATION:PT1H
X-Robots-Tag:noindex
X-PUBLISHED-TTL:PT1H
BEGIN:VTIMEZONE
TZID:America/Denver
BEGIN:DAYLIGHT
TZOFFSETFROM:-0700
TZOFFSETTO:-0600
TZNAME:MDT
DTSTART:20220313T090000
END:DAYLIGHT
BEGIN:STANDARD
TZOFFSETFROM:-0600
TZOFFSETTO:-0700
TZNAME:MST
DTSTART:20221106T080000
END:STANDARD
BEGIN:DAYLIGHT
TZOFFSETFROM:-0700
TZOFFSETTO:-0600
TZNAME:MDT
DTSTART:20230312T090000
END:DAYLIGHT
BEGIN:STANDARD
TZOFFSETFROM:-0600
TZOFFSETTO:-0700
TZNAME:MST
DTSTART:20231105T080000
END:STANDARD
BEGIN:DAYLIGHT
TZOFFSETFROM:-0700
TZOFFSETTO:-0600
TZNAME:MDT
DTSTART:20240310T090000
END:DAYLIGHT
BEGIN:STANDARD
TZOFFSETFROM:-0600
TZOFFSETTO:-0700
TZNAME:MST
DTSTART:20241103T080000
END:STANDARD
END:VTIMEZONE
BEGIN:VEVENT
DTSTART;TZID=America/Denver:20230514T160000
DTEND;TZID=America/Denver:20230514T170000
DTSTAMP:20260422T230231
CREATED:20230426T200843Z
LAST-MODIFIED:20230426T203740Z
UID:4972-1684080000-1684083600@www.olmcfssp.org
SUMMARY:Homeschool Co-Op Play: The Enchanted Bookshop
DESCRIPTION:Schola Rosa Homeschool Co-Op presents their spring play\, The Enchanted Bookshop at 6:30pm in the parish hall. Donations gratefully accepted. Dessert reception to follow.
URL:https://www.olmcfssp.org/calendar/homeschool-co-op-play-the-enchanted-bookshop/
END:VEVENT
BEGIN:VEVENT
DTSTART;TZID=America/Denver:20230514T170000
DTEND;TZID=America/Denver:20230514T180000
DTSTAMP:20260422T230231
CREATED:20230324T174427Z
LAST-MODIFIED:20230426T200454Z
UID:4666-1684083600-1684087200@www.olmcfssp.org
SUMMARY:Sung Vespers
DESCRIPTION:
URL:https://www.olmcfssp.org/calendar/vespers-6/
LOCATION:Church
END:VEVENT
END:VCALENDAR