BEGIN:VCALENDAR
VERSION:2.0
PRODID:-//Our Lady of Mt. Carmel - ECPv6.15.20//NONSGML v1.0//EN
CALSCALE:GREGORIAN
METHOD:PUBLISH
X-ORIGINAL-URL:https://www.olmcfssp.org
X-WR-CALDESC:Events for Our Lady of Mt. Carmel
REFRESH-INTERVAL;VALUE=DURATION:PT1H
X-Robots-Tag:noindex
X-PUBLISHED-TTL:PT1H
BEGIN:VTIMEZONE
TZID:America/Denver
BEGIN:DAYLIGHT
TZOFFSETFROM:-0700
TZOFFSETTO:-0600
TZNAME:MDT
DTSTART:20220313T090000
END:DAYLIGHT
BEGIN:STANDARD
TZOFFSETFROM:-0600
TZOFFSETTO:-0700
TZNAME:MST
DTSTART:20221106T080000
END:STANDARD
BEGIN:DAYLIGHT
TZOFFSETFROM:-0700
TZOFFSETTO:-0600
TZNAME:MDT
DTSTART:20230312T090000
END:DAYLIGHT
BEGIN:STANDARD
TZOFFSETFROM:-0600
TZOFFSETTO:-0700
TZNAME:MST
DTSTART:20231105T080000
END:STANDARD
BEGIN:DAYLIGHT
TZOFFSETFROM:-0700
TZOFFSETTO:-0600
TZNAME:MDT
DTSTART:20240310T090000
END:DAYLIGHT
BEGIN:STANDARD
TZOFFSETFROM:-0600
TZOFFSETTO:-0700
TZNAME:MST
DTSTART:20241103T080000
END:STANDARD
END:VTIMEZONE
BEGIN:VEVENT
DTSTART;TZID=America/Denver:20230527T093000
DTEND;TZID=America/Denver:20230527T103000
DTSTAMP:20260422T230127
CREATED:20230426T200456Z
LAST-MODIFIED:20230426T200456Z
UID:4961-1685179800-1685183400@www.olmcfssp.org
SUMMARY:Holy Face Devotion Group
DESCRIPTION:His Holy Face Ministry’s mission is to bring the Face of God back into the world to breathe life into souls by making reparation for the sins committed against the majesty of God and the Catholic Church. Join us as a community in making public reparation before a 2nd class relic image of the Veil of St. Veronica on the second Tuesday or third Saturday of each month after the 8:30 AM mass. We also offer presentations on the Holy Face Devotion\, a Home Enthronement Program with the image\, and a Parish Enthronement Program to share with a wider audience.
URL:https://www.olmcfssp.org/calendar/holy-face-devotion-group-7/
END:VEVENT
BEGIN:VEVENT
DTSTART;TZID=America/Denver:20230527T093000
DTEND;TZID=America/Denver:20230527T113000
DTSTAMP:20260422T230127
CREATED:20230426T200844Z
LAST-MODIFIED:20230428T211707Z
UID:4977-1685179800-1685187000@www.olmcfssp.org
SUMMARY:Women's Group
DESCRIPTION:Please RSVP at https://www.signupgenius.com/go/60B0545ADA82EA5FE3-womens
URL:https://www.olmcfssp.org/calendar/womens-group-3/
ATTACH;FMTTYPE=image/jpeg:https://www.olmcfssp.org/wp-content/uploads/2023/04/May-Womens-Brunch.jpg
END:VEVENT
BEGIN:VEVENT
DTSTART;TZID=America/Denver:20230527T101500
DTEND;TZID=America/Denver:20230527T110000
DTSTAMP:20260422T230127
CREATED:20230324T180047Z
LAST-MODIFIED:20230426T201507Z
UID:4719-1685182500-1685185200@www.olmcfssp.org
SUMMARY:Planned Parenthood Prayer Vigil
DESCRIPTION:Please join us for our monthly parish prayer vigil at Planned Parenthood starting at 10:15 am. The facility is located at 7155 E 38th Ave. in Denver.
URL:https://www.olmcfssp.org/calendar/planned-parenthood-prayer-vigil-2/
LOCATION:Planned Parenthood\, 7155 E 38th Ave\, Denver\, CO\, 80207\, United States
END:VEVENT
BEGIN:VEVENT
DTSTART;TZID=America/Denver:20230527T161500
DTEND;TZID=America/Denver:20230527T181500
DTSTAMP:20260422T230127
CREATED:20230426T200456Z
LAST-MODIFIED:20230426T200456Z
UID:4962-1685204100-1685211300@www.olmcfssp.org
SUMMARY:Vigil of Pentecost Liturgy
DESCRIPTION:
URL:https://www.olmcfssp.org/calendar/vigil-of-pentecost-liturgy/
END:VEVENT
END:VCALENDAR