BEGIN:VCALENDAR
VERSION:2.0
PRODID:-//Our Lady of Mt. Carmel - ECPv6.15.20//NONSGML v1.0//EN
CALSCALE:GREGORIAN
METHOD:PUBLISH
X-ORIGINAL-URL:https://www.olmcfssp.org
X-WR-CALDESC:Events for Our Lady of Mt. Carmel
REFRESH-INTERVAL;VALUE=DURATION:PT1H
X-Robots-Tag:noindex
X-PUBLISHED-TTL:PT1H
BEGIN:VTIMEZONE
TZID:America/Denver
BEGIN:DAYLIGHT
TZOFFSETFROM:-0700
TZOFFSETTO:-0600
TZNAME:MDT
DTSTART:20220313T090000
END:DAYLIGHT
BEGIN:STANDARD
TZOFFSETFROM:-0600
TZOFFSETTO:-0700
TZNAME:MST
DTSTART:20221106T080000
END:STANDARD
BEGIN:DAYLIGHT
TZOFFSETFROM:-0700
TZOFFSETTO:-0600
TZNAME:MDT
DTSTART:20230312T090000
END:DAYLIGHT
BEGIN:STANDARD
TZOFFSETFROM:-0600
TZOFFSETTO:-0700
TZNAME:MST
DTSTART:20231105T080000
END:STANDARD
BEGIN:DAYLIGHT
TZOFFSETFROM:-0700
TZOFFSETTO:-0600
TZNAME:MDT
DTSTART:20240310T090000
END:DAYLIGHT
BEGIN:STANDARD
TZOFFSETFROM:-0600
TZOFFSETTO:-0700
TZNAME:MST
DTSTART:20241103T080000
END:STANDARD
END:VTIMEZONE
BEGIN:VEVENT
DTSTART;TZID=America/Denver:20230610T093000
DTEND;TZID=America/Denver:20230610T113000
DTSTAMP:20260422T024157
CREATED:20230525T170232Z
LAST-MODIFIED:20230525T170234Z
UID:5191-1686389400-1686396600@www.olmcfssp.org
SUMMARY:Holy Name Society Meeting
DESCRIPTION:The Holy Name Society is an organization of men striving to grow in holiness. The group is open to all men of the parish over the age of 18. Meetings include Mass\, the recitation of the Holy Rosary\, breakfast and a spiritual talk.
URL:https://www.olmcfssp.org/calendar/holy-name-society-meeting-3/
END:VEVENT
BEGIN:VEVENT
DTSTART;TZID=America/Denver:20230610T093000
DTEND;TZID=America/Denver:20230610T170000
DTSTAMP:20260422T024157
CREATED:20230525T165844Z
LAST-MODIFIED:20230525T171438Z
UID:5166-1686389400-1686416400@www.olmcfssp.org
SUMMARY:Volunteer Spring Cleaning
DESCRIPTION:Volunteer Spring Cleaning: Please consider coming to help the parish with some spring cleaning both inside and outside the church + parish hall! Bring the whole family and please sign-up on the flocknote!
URL:https://www.olmcfssp.org/calendar/volunteer-spring-cleaning/
END:VEVENT
BEGIN:VEVENT
DTSTART;TZID=America/Denver:20230610T130000
DTEND;TZID=America/Denver:20230610T160000
DTSTAMP:20260422T024157
CREATED:20230525T170232Z
LAST-MODIFIED:20230525T170235Z
UID:5192-1686402000-1686412800@www.olmcfssp.org
SUMMARY:Hibernia Music Group
DESCRIPTION:
URL:https://www.olmcfssp.org/calendar/hibernia-music-group-7/
END:VEVENT
BEGIN:VEVENT
DTSTART;TZID=America/Denver:20230610T180000
DTEND;TZID=America/Denver:20230610T203000
DTSTAMP:20260422T024157
CREATED:20230525T165844Z
LAST-MODIFIED:20230525T165845Z
UID:5167-1686420000-1686429000@www.olmcfssp.org
SUMMARY:Trivia Night - Ages 17-25
DESCRIPTION:Young Adult Trivia Night\n17-25 year olds are invited to a trivia night hosted by Fr Krager on Saturday June 10th from 6PM-830PM. There will be pizza provided. Scan this QR code to sign up and get ready for a profound experience of humiliation as you try to test your knowledge against that of your peers!
URL:https://www.olmcfssp.org/calendar/trivia-night-ages-17-25/
END:VEVENT
END:VCALENDAR