BEGIN:VCALENDAR
VERSION:2.0
PRODID:-//Our Lady of Mt. Carmel - ECPv6.15.20//NONSGML v1.0//EN
CALSCALE:GREGORIAN
METHOD:PUBLISH
X-WR-CALNAME:Our Lady of Mt. Carmel
X-ORIGINAL-URL:https://www.olmcfssp.org
X-WR-CALDESC:Events for Our Lady of Mt. Carmel
REFRESH-INTERVAL;VALUE=DURATION:PT1H
X-Robots-Tag:noindex
X-PUBLISHED-TTL:PT1H
BEGIN:VTIMEZONE
TZID:America/Denver
BEGIN:DAYLIGHT
TZOFFSETFROM:-0700
TZOFFSETTO:-0600
TZNAME:MDT
DTSTART:20230312T090000
END:DAYLIGHT
BEGIN:STANDARD
TZOFFSETFROM:-0600
TZOFFSETTO:-0700
TZNAME:MST
DTSTART:20231105T080000
END:STANDARD
BEGIN:DAYLIGHT
TZOFFSETFROM:-0700
TZOFFSETTO:-0600
TZNAME:MDT
DTSTART:20240310T090000
END:DAYLIGHT
BEGIN:STANDARD
TZOFFSETFROM:-0600
TZOFFSETTO:-0700
TZNAME:MST
DTSTART:20241103T080000
END:STANDARD
BEGIN:DAYLIGHT
TZOFFSETFROM:-0700
TZOFFSETTO:-0600
TZNAME:MDT
DTSTART:20250309T090000
END:DAYLIGHT
BEGIN:STANDARD
TZOFFSETFROM:-0600
TZOFFSETTO:-0700
TZNAME:MST
DTSTART:20251102T080000
END:STANDARD
END:VTIMEZONE
BEGIN:VEVENT
DTSTART;TZID=America/Denver:20240525T101500
DTEND;TZID=America/Denver:20240525T110000
DTSTAMP:20260420T004400
CREATED:20231027T172755Z
LAST-MODIFIED:20231027T172757Z
UID:6467-1716632100-1716634800@www.olmcfssp.org
SUMMARY:Planned Parenthood Prayer Vigil
DESCRIPTION:Please join us for our monthly parish prayer vigil at Planned Parenthood starting at 10:15 am. The facility is located at 7155 E 38th Ave. in Denver.
URL:https://www.olmcfssp.org/calendar/planned-parenthood-prayer-vigil-14/
END:VEVENT
BEGIN:VEVENT
DTSTART;TZID=America/Denver:20240525T180000
DTEND;TZID=America/Denver:20240525T200000
DTSTAMP:20260420T004400
CREATED:20230922T162857Z
LAST-MODIFIED:20240110T230759Z
UID:5932-1716660000-1716667200@www.olmcfssp.org
SUMMARY:Youth Group Night
DESCRIPTION:St. John Bosco Youth Group: For teens ages 13-18\, now with anew format. The 1st and 3rd Thu of the month will includetalks\, studies and discussions and there will be a monthly Satfun night\, all led by Fr. Krager. We hope to see you there!
URL:https://www.olmcfssp.org/calendar/youth-group-night-7/
END:VEVENT
END:VCALENDAR