BEGIN:VCALENDAR
VERSION:2.0
PRODID:-//Our Lady of Mt. Carmel - ECPv6.15.20//NONSGML v1.0//EN
CALSCALE:GREGORIAN
METHOD:PUBLISH
X-WR-CALNAME:Our Lady of Mt. Carmel
X-ORIGINAL-URL:https://www.olmcfssp.org
X-WR-CALDESC:Events for Our Lady of Mt. Carmel
REFRESH-INTERVAL;VALUE=DURATION:PT1H
X-Robots-Tag:noindex
X-PUBLISHED-TTL:PT1H
BEGIN:VTIMEZONE
TZID:America/Denver
BEGIN:DAYLIGHT
TZOFFSETFROM:-0700
TZOFFSETTO:-0600
TZNAME:MDT
DTSTART:20230312T090000
END:DAYLIGHT
BEGIN:STANDARD
TZOFFSETFROM:-0600
TZOFFSETTO:-0700
TZNAME:MST
DTSTART:20231105T080000
END:STANDARD
BEGIN:DAYLIGHT
TZOFFSETFROM:-0700
TZOFFSETTO:-0600
TZNAME:MDT
DTSTART:20240310T090000
END:DAYLIGHT
BEGIN:STANDARD
TZOFFSETFROM:-0600
TZOFFSETTO:-0700
TZNAME:MST
DTSTART:20241103T080000
END:STANDARD
BEGIN:DAYLIGHT
TZOFFSETFROM:-0700
TZOFFSETTO:-0600
TZNAME:MDT
DTSTART:20250309T090000
END:DAYLIGHT
BEGIN:STANDARD
TZOFFSETFROM:-0600
TZOFFSETTO:-0700
TZNAME:MST
DTSTART:20251102T080000
END:STANDARD
END:VTIMEZONE
BEGIN:VEVENT
DTSTART;TZID=America/Denver:20240714T123000
DTEND;TZID=America/Denver:20240714T140000
DTSTAMP:20260420T161915
CREATED:20231027T173118Z
LAST-MODIFIED:20240712T220700Z
UID:6749-1720960200-1720965600@www.olmcfssp.org
SUMMARY:Knights of Columbus Meeting
DESCRIPTION:As faithful Catholics\, we are called to be salt and light in this material world. As traditional Catholics within the Church Universal\, we are sometimes called\, in charity\, to bring more illumination and flavor to our fellow Catholics. Let us join with him in spreading the message within the Knights of Columbus.
URL:https://www.olmcfssp.org/calendar/knights-of-columbus-meeting-16/
END:VEVENT
BEGIN:VEVENT
DTSTART;TZID=America/Denver:20240714T170000
DTEND;TZID=America/Denver:20240714T180000
DTSTAMP:20260420T161915
CREATED:20231027T172442Z
LAST-MODIFIED:20240712T215010Z
UID:6252-1720976400-1720980000@www.olmcfssp.org
SUMMARY:Sung Vespers
DESCRIPTION:
URL:https://www.olmcfssp.org/calendar/sung-vespers-62/
END:VEVENT
END:VCALENDAR