BEGIN:VCALENDAR
VERSION:2.0
PRODID:-//Our Lady of Mt. Carmel - ECPv6.15.20//NONSGML v1.0//EN
CALSCALE:GREGORIAN
METHOD:PUBLISH
X-ORIGINAL-URL:https://www.olmcfssp.org
X-WR-CALDESC:Events for Our Lady of Mt. Carmel
REFRESH-INTERVAL;VALUE=DURATION:PT1H
X-Robots-Tag:noindex
X-PUBLISHED-TTL:PT1H
BEGIN:VTIMEZONE
TZID:America/Denver
BEGIN:DAYLIGHT
TZOFFSETFROM:-0700
TZOFFSETTO:-0600
TZNAME:MDT
DTSTART:20230312T090000
END:DAYLIGHT
BEGIN:STANDARD
TZOFFSETFROM:-0600
TZOFFSETTO:-0700
TZNAME:MST
DTSTART:20231105T080000
END:STANDARD
BEGIN:DAYLIGHT
TZOFFSETFROM:-0700
TZOFFSETTO:-0600
TZNAME:MDT
DTSTART:20240310T090000
END:DAYLIGHT
BEGIN:STANDARD
TZOFFSETFROM:-0600
TZOFFSETTO:-0700
TZNAME:MST
DTSTART:20241103T080000
END:STANDARD
BEGIN:DAYLIGHT
TZOFFSETFROM:-0700
TZOFFSETTO:-0600
TZNAME:MDT
DTSTART:20250309T090000
END:DAYLIGHT
BEGIN:STANDARD
TZOFFSETFROM:-0600
TZOFFSETTO:-0700
TZNAME:MST
DTSTART:20251102T080000
END:STANDARD
END:VTIMEZONE
BEGIN:VEVENT
DTSTART;TZID=America/Denver:20240727T101500
DTEND;TZID=America/Denver:20240727T110000
DTSTAMP:20260420T171415
CREATED:20231027T172758Z
LAST-MODIFIED:20231027T172758Z
UID:6476-1722075300-1722078000@www.olmcfssp.org
SUMMARY:Planned Parenthood Prayer Vigil
DESCRIPTION:Please join us for our monthly parish prayer vigil at Planned Parenthood starting at 10:15 am. The facility is located at 7155 E 38th Ave. in Denver.
URL:https://www.olmcfssp.org/calendar/planned-parenthood-prayer-vigil-16/
END:VEVENT
BEGIN:VEVENT
DTSTART;TZID=America/Denver:20240727T180000
DTEND;TZID=America/Denver:20240727T210000
DTSTAMP:20260420T171415
CREATED:20240712T220934Z
LAST-MODIFIED:20240726T225346Z
UID:9422-1722103200-1722114000@www.olmcfssp.org
SUMMARY:Leisure and Culture Live Clue Night
DESCRIPTION:From 6-9pm in the parish hall for adults 21+. Come solve an interactive mystery with us! Please come dressed in 1930s-50s evening wear or your Sunday best. Prizes for the winning team. Needed RSVPs can be made at tinyurl.com/cluenight. Contact Hope Hecker\, (h2jcxavier@gmail.com) with any questions.
URL:https://www.olmcfssp.org/calendar/leisure-and-culture-live-clue-night/
END:VEVENT
END:VCALENDAR