BEGIN:VCALENDAR
VERSION:2.0
PRODID:-//Our Lady of Mt. Carmel - ECPv6.15.20//NONSGML v1.0//EN
CALSCALE:GREGORIAN
METHOD:PUBLISH
X-WR-CALNAME:Our Lady of Mt. Carmel
X-ORIGINAL-URL:https://www.olmcfssp.org
X-WR-CALDESC:Events for Our Lady of Mt. Carmel
REFRESH-INTERVAL;VALUE=DURATION:PT1H
X-Robots-Tag:noindex
X-PUBLISHED-TTL:PT1H
BEGIN:VTIMEZONE
TZID:America/Denver
BEGIN:DAYLIGHT
TZOFFSETFROM:-0700
TZOFFSETTO:-0600
TZNAME:MDT
DTSTART:20230312T090000
END:DAYLIGHT
BEGIN:STANDARD
TZOFFSETFROM:-0600
TZOFFSETTO:-0700
TZNAME:MST
DTSTART:20231105T080000
END:STANDARD
BEGIN:DAYLIGHT
TZOFFSETFROM:-0700
TZOFFSETTO:-0600
TZNAME:MDT
DTSTART:20240310T090000
END:DAYLIGHT
BEGIN:STANDARD
TZOFFSETFROM:-0600
TZOFFSETTO:-0700
TZNAME:MST
DTSTART:20241103T080000
END:STANDARD
BEGIN:DAYLIGHT
TZOFFSETFROM:-0700
TZOFFSETTO:-0600
TZNAME:MDT
DTSTART:20250309T090000
END:DAYLIGHT
BEGIN:STANDARD
TZOFFSETFROM:-0600
TZOFFSETTO:-0700
TZNAME:MST
DTSTART:20251102T080000
END:STANDARD
END:VTIMEZONE
BEGIN:VEVENT
DTSTART;VALUE=DATE:20241010
DTEND;VALUE=DATE:20241013
DTSTAMP:20260422T061823
CREATED:20240712T215451Z
LAST-MODIFIED:20241012T015329Z
UID:9195-1728518400-1728777599@www.olmcfssp.org
SUMMARY:Three Hearts Pilgrimage
DESCRIPTION:You are invited to join the OLMC Chapter for the 2024 THP! This is a 35-mile sacrificial trek in Hulbert\, OK to Our Lady of Clear Creek Benedictine Monastery. Transportation to and from Oklahoma is offered through the OLMC Colorado Chapter. Visit olmcthreehearts.com to register or to learn more about the THP at threeheartspilgrimage.org.
URL:https://www.olmcfssp.org/calendar/three-hearts-pilgrimage/
END:VEVENT
BEGIN:VEVENT
DTSTART;TZID=America/Denver:20241012T083000
DTEND;TZID=America/Denver:20241012T160000
DTSTAMP:20260422T061823
CREATED:20240802T232336Z
LAST-MODIFIED:20241012T015329Z
UID:9938-1728721800-1728748800@www.olmcfssp.org
SUMMARY:FNE
DESCRIPTION:
URL:https://www.olmcfssp.org/calendar/fne-4/
END:VEVENT
BEGIN:VEVENT
DTSTART;TZID=America/Denver:20241012T093000
DTEND;TZID=America/Denver:20241012T113000
DTSTAMP:20260422T061823
CREATED:20231027T172912Z
LAST-MODIFIED:20241012T010947Z
UID:6550-1728725400-1728732600@www.olmcfssp.org
SUMMARY:Holy Name Society Meeting
DESCRIPTION:The Holy Name Society is an organization of men striving to grow in holiness. The group is open to all men of the parish over the age of 18. Meetings include Mass\, the recitation of the Holy Rosary\, breakfast and a spiritual talk.
URL:https://www.olmcfssp.org/calendar/holy-name-society-meeting-18/
END:VEVENT
BEGIN:VEVENT
DTSTART;TZID=America/Denver:20241012T093000
DTEND;TZID=America/Denver:20241012T130000
DTSTAMP:20260422T061823
CREATED:20231027T174344Z
LAST-MODIFIED:20241011T230830Z
UID:7290-1728725400-1728738000@www.olmcfssp.org
SUMMARY:St. Teresa of Jesus Association
DESCRIPTION:A formation in the spirituality of St. Teresa of Jesus within a Study Group composed of men and women over the age of 25 years. This formation includes daily Mass\, Lectio Divina\, Divine Office and the living a life of apostolic endeavors: ministering to our families and the world.  The members endeavor to give glory to God\, to honor our Blessed Lady of Carmel and to aid our Holy Mother the Church by their prayers.
URL:https://www.olmcfssp.org/calendar/st-teresa-of-jesus-association-19/
END:VEVENT
BEGIN:VEVENT
DTSTART;TZID=America/Denver:20241012T130000
DTEND;TZID=America/Denver:20241012T160000
DTSTAMP:20260422T061823
CREATED:20231027T173128Z
LAST-MODIFIED:20241012T013832Z
UID:6802-1728738000-1728748800@www.olmcfssp.org
SUMMARY:Hibernia Music Group
DESCRIPTION:An OLMC acoustic music group. We play traditional Irish\, Folk and Americana music. All are welcome to join us\, beginner or advanced\, Instrumentalist or Vocalist. Our goal is to sharpen our skills\, increase our musical knowledge\, have good Catholic fellowship\, and share our music.
URL:https://www.olmcfssp.org/calendar/hibernia-music-group-38/
END:VEVENT
END:VCALENDAR