BEGIN:VCALENDAR
VERSION:2.0
PRODID:-//Our Lady of Mt. Carmel - ECPv6.15.20//NONSGML v1.0//EN
CALSCALE:GREGORIAN
METHOD:PUBLISH
X-ORIGINAL-URL:https://www.olmcfssp.org
X-WR-CALDESC:Events for Our Lady of Mt. Carmel
REFRESH-INTERVAL;VALUE=DURATION:PT1H
X-Robots-Tag:noindex
X-PUBLISHED-TTL:PT1H
BEGIN:VTIMEZONE
TZID:America/Denver
BEGIN:DAYLIGHT
TZOFFSETFROM:-0700
TZOFFSETTO:-0600
TZNAME:MDT
DTSTART:20230312T090000
END:DAYLIGHT
BEGIN:STANDARD
TZOFFSETFROM:-0600
TZOFFSETTO:-0700
TZNAME:MST
DTSTART:20231105T080000
END:STANDARD
BEGIN:DAYLIGHT
TZOFFSETFROM:-0700
TZOFFSETTO:-0600
TZNAME:MDT
DTSTART:20240310T090000
END:DAYLIGHT
BEGIN:STANDARD
TZOFFSETFROM:-0600
TZOFFSETTO:-0700
TZNAME:MST
DTSTART:20241103T080000
END:STANDARD
BEGIN:DAYLIGHT
TZOFFSETFROM:-0700
TZOFFSETTO:-0600
TZNAME:MDT
DTSTART:20250309T090000
END:DAYLIGHT
BEGIN:STANDARD
TZOFFSETFROM:-0600
TZOFFSETTO:-0700
TZNAME:MST
DTSTART:20251102T080000
END:STANDARD
END:VTIMEZONE
BEGIN:VTIMEZONE
TZID:America/Chicago
BEGIN:DAYLIGHT
TZOFFSETFROM:-0600
TZOFFSETTO:-0500
TZNAME:CDT
DTSTART:20230312T080000
END:DAYLIGHT
BEGIN:STANDARD
TZOFFSETFROM:-0500
TZOFFSETTO:-0600
TZNAME:CST
DTSTART:20231105T070000
END:STANDARD
BEGIN:DAYLIGHT
TZOFFSETFROM:-0600
TZOFFSETTO:-0500
TZNAME:CDT
DTSTART:20240310T080000
END:DAYLIGHT
BEGIN:STANDARD
TZOFFSETFROM:-0500
TZOFFSETTO:-0600
TZNAME:CST
DTSTART:20241103T070000
END:STANDARD
BEGIN:DAYLIGHT
TZOFFSETFROM:-0600
TZOFFSETTO:-0500
TZNAME:CDT
DTSTART:20250309T080000
END:DAYLIGHT
BEGIN:STANDARD
TZOFFSETFROM:-0500
TZOFFSETTO:-0600
TZNAME:CST
DTSTART:20251102T070000
END:STANDARD
END:VTIMEZONE
BEGIN:VEVENT
DTSTART;TZID=America/Denver:20241206T093000
DTEND;TZID=America/Denver:20241207T080000
DTSTAMP:20260423T005552
CREATED:20230922T160150Z
LAST-MODIFIED:20241206T235333Z
UID:5854-1733477400-1733558400@www.olmcfssp.org
SUMMARY:First Friday Adoration
DESCRIPTION:
URL:https://www.olmcfssp.org/calendar/first-friday-adoration-22/
END:VEVENT
BEGIN:VEVENT
DTSTART;TZID=America/Chicago:20241207T060000
DTEND;TZID=America/Chicago:20241207T070000
DTSTAMP:20260423T005552
CREATED:20241122T181119Z
LAST-MODIFIED:20241122T181119Z
UID:10833-1733551200-1733554800@www.olmcfssp.org
SUMMARY:Rorate Mass
DESCRIPTION:The ‘Rorate’ Mass is the Saturday Mass of the BVM in Advent\, sung before dawn by candlelight recalling the darkness which shrouded the earth before the Incarnation\, well worth making the effort to attend.
URL:https://www.olmcfssp.org/calendar/rorate-mass-3/
LOCATION:Church
ORGANIZER;CN="Our Lady of Mt. Carmel":MAILTO:secretary@olmcfssp.org
END:VEVENT
BEGIN:VEVENT
DTSTART;TZID=America/Denver:20241207T093000
DTEND;TZID=America/Denver:20241207T113000
DTSTAMP:20260423T005552
CREATED:20231027T172913Z
LAST-MODIFIED:20241122T192219Z
UID:6555-1733563800-1733571000@www.olmcfssp.org
SUMMARY:Confraternity of Christian Mothers
DESCRIPTION:Do you see other woman as a threat? Is social isolation a recurring theme in your life? All women of the parish who are married\, widowed\, single\, and teens are invited to a Freedom From Comparison workshop Saturday\, December 7 at 9:30am in the St. Albert room. Bring a friend (or foe) and a brunch dish to share. Childcare provided. \nAll women aged 17 and up of all walks of life are invited to attend. Some of us are called to physical motherhood\, but we are all called to spiritual motherhood.  \n 
URL:https://www.olmcfssp.org/calendar/confraternity-of-christian-mothers-19/
END:VEVENT
END:VCALENDAR