BEGIN:VCALENDAR
VERSION:2.0
PRODID:-//Our Lady of Mt. Carmel - ECPv6.15.20//NONSGML v1.0//EN
CALSCALE:GREGORIAN
METHOD:PUBLISH
X-ORIGINAL-URL:https://www.olmcfssp.org
X-WR-CALDESC:Events for Our Lady of Mt. Carmel
REFRESH-INTERVAL;VALUE=DURATION:PT1H
X-Robots-Tag:noindex
X-PUBLISHED-TTL:PT1H
BEGIN:VTIMEZONE
TZID:America/Denver
BEGIN:DAYLIGHT
TZOFFSETFROM:-0700
TZOFFSETTO:-0600
TZNAME:MDT
DTSTART:20230312T090000
END:DAYLIGHT
BEGIN:STANDARD
TZOFFSETFROM:-0600
TZOFFSETTO:-0700
TZNAME:MST
DTSTART:20231105T080000
END:STANDARD
BEGIN:DAYLIGHT
TZOFFSETFROM:-0700
TZOFFSETTO:-0600
TZNAME:MDT
DTSTART:20240310T090000
END:DAYLIGHT
BEGIN:STANDARD
TZOFFSETFROM:-0600
TZOFFSETTO:-0700
TZNAME:MST
DTSTART:20241103T080000
END:STANDARD
BEGIN:DAYLIGHT
TZOFFSETFROM:-0700
TZOFFSETTO:-0600
TZNAME:MDT
DTSTART:20250309T090000
END:DAYLIGHT
BEGIN:STANDARD
TZOFFSETFROM:-0600
TZOFFSETTO:-0700
TZNAME:MST
DTSTART:20251102T080000
END:STANDARD
END:VTIMEZONE
BEGIN:VEVENT
DTSTART;TZID=America/Denver:20241211T180000
DTEND;TZID=America/Denver:20241211T200000
DTSTAMP:20260423T092352
CREATED:20241122T002327Z
LAST-MODIFIED:20241206T002340Z
UID:10817-1733940000-1733947200@www.olmcfssp.org
SUMMARY:Third Order of St. Francis of Assisi
DESCRIPTION:  The object of the Third Order of St. Francis of Assisi is to lead its members to Eternal Salvation by a life in conformity with the “Life and Poverty of the Most High Lord Jesus Christ and His Most Holy Mother” in imitation of St. Francis. The Third Order form of Religious Life provides a structure and form of life conducive to the pursuit of virtue and Holiness for those out in the world without the obligation of Vows under sin. The Rule of this Order is adapted to all: it takes into consideration the different circumstances and frailties of human life. Those who are discerning a vocation to the MFM Third Order are welcome to attend our meetings.
URL:https://www.olmcfssp.org/calendar/third-order-of-st-francis-of-assisi-2/
END:VEVENT
BEGIN:VEVENT
DTSTART;TZID=America/Denver:20241211T190000
DTEND;TZID=America/Denver:20241211T203000
DTSTAMP:20260423T092352
CREATED:20231027T173633Z
LAST-MODIFIED:20241207T013829Z
UID:7191-1733943600-1733949000@www.olmcfssp.org
SUMMARY:Choir Practice
DESCRIPTION:
URL:https://www.olmcfssp.org/calendar/choir-practice-95/
END:VEVENT
END:VCALENDAR