BEGIN:VCALENDAR
VERSION:2.0
PRODID:-//Our Lady of Mt. Carmel - ECPv6.15.20//NONSGML v1.0//EN
CALSCALE:GREGORIAN
METHOD:PUBLISH
X-ORIGINAL-URL:https://www.olmcfssp.org
X-WR-CALDESC:Events for Our Lady of Mt. Carmel
REFRESH-INTERVAL;VALUE=DURATION:PT1H
X-Robots-Tag:noindex
X-PUBLISHED-TTL:PT1H
BEGIN:VTIMEZONE
TZID:America/Chicago
BEGIN:DAYLIGHT
TZOFFSETFROM:-0600
TZOFFSETTO:-0500
TZNAME:CDT
DTSTART:20230312T080000
END:DAYLIGHT
BEGIN:STANDARD
TZOFFSETFROM:-0500
TZOFFSETTO:-0600
TZNAME:CST
DTSTART:20231105T070000
END:STANDARD
BEGIN:DAYLIGHT
TZOFFSETFROM:-0600
TZOFFSETTO:-0500
TZNAME:CDT
DTSTART:20240310T080000
END:DAYLIGHT
BEGIN:STANDARD
TZOFFSETFROM:-0500
TZOFFSETTO:-0600
TZNAME:CST
DTSTART:20241103T070000
END:STANDARD
BEGIN:DAYLIGHT
TZOFFSETFROM:-0600
TZOFFSETTO:-0500
TZNAME:CDT
DTSTART:20250309T080000
END:DAYLIGHT
BEGIN:STANDARD
TZOFFSETFROM:-0500
TZOFFSETTO:-0600
TZNAME:CST
DTSTART:20251102T070000
END:STANDARD
END:VTIMEZONE
BEGIN:VTIMEZONE
TZID:America/Denver
BEGIN:DAYLIGHT
TZOFFSETFROM:-0700
TZOFFSETTO:-0600
TZNAME:MDT
DTSTART:20230312T090000
END:DAYLIGHT
BEGIN:STANDARD
TZOFFSETFROM:-0600
TZOFFSETTO:-0700
TZNAME:MST
DTSTART:20231105T080000
END:STANDARD
BEGIN:DAYLIGHT
TZOFFSETFROM:-0700
TZOFFSETTO:-0600
TZNAME:MDT
DTSTART:20240310T090000
END:DAYLIGHT
BEGIN:STANDARD
TZOFFSETFROM:-0600
TZOFFSETTO:-0700
TZNAME:MST
DTSTART:20241103T080000
END:STANDARD
BEGIN:DAYLIGHT
TZOFFSETFROM:-0700
TZOFFSETTO:-0600
TZNAME:MDT
DTSTART:20250309T090000
END:DAYLIGHT
BEGIN:STANDARD
TZOFFSETFROM:-0600
TZOFFSETTO:-0700
TZNAME:MST
DTSTART:20251102T080000
END:STANDARD
END:VTIMEZONE
BEGIN:VEVENT
DTSTART;TZID=America/Chicago:20241214T060000
DTEND;TZID=America/Chicago:20241214T070000
DTSTAMP:20260423T141231
CREATED:20241122T181319Z
LAST-MODIFIED:20241122T181319Z
UID:10835-1734156000-1734159600@www.olmcfssp.org
SUMMARY:Rorate Mass (Carmelite Monastery)
DESCRIPTION:The ‘Rorate’ Mass is the Saturday Mass of the BVM in Advent\, sung before dawn by candlelight recalling the darkness which shrouded the earth before the Incarnation\, well worth making the effort to attend.
URL:https://www.olmcfssp.org/calendar/rorate-mass-carmelite-monastery/
LOCATION:Carmelite Monastery\, 6138 South Gallup\, Littleton\, CO\, 80120
END:VEVENT
BEGIN:VEVENT
DTSTART;TZID=America/Denver:20241214T083000
DTEND;TZID=America/Denver:20241214T160000
DTSTAMP:20260423T141231
CREATED:20240802T232337Z
LAST-MODIFIED:20241214T030826Z
UID:9947-1734165000-1734192000@www.olmcfssp.org
SUMMARY:FNE
DESCRIPTION:
URL:https://www.olmcfssp.org/calendar/fne-8/
END:VEVENT
BEGIN:VEVENT
DTSTART;TZID=America/Denver:20241214T093000
DTEND;TZID=America/Denver:20241214T113000
DTSTAMP:20260423T141231
CREATED:20231027T172914Z
LAST-MODIFIED:20241214T025328Z
UID:6556-1734168600-1734175800@www.olmcfssp.org
SUMMARY:Holy Name Society Meeting
DESCRIPTION:The Holy Name Society is an organization of men striving to grow in holiness. The group is open to all men of the parish over the age of 18. Meetings include Mass\, the recitation of the Holy Rosary\, breakfast and a spiritual talk.
URL:https://www.olmcfssp.org/calendar/holy-name-society-meeting-20/
END:VEVENT
BEGIN:VEVENT
DTSTART;TZID=America/Denver:20241214T093000
DTEND;TZID=America/Denver:20241214T130000
DTSTAMP:20260423T141231
CREATED:20231027T174344Z
LAST-MODIFIED:20241214T002335Z
UID:7296-1734168600-1734181200@www.olmcfssp.org
SUMMARY:St. Teresa of Jesus Association
DESCRIPTION:A formation in the spirituality of St. Teresa of Jesus within a Study Group composed of men and women over the age of 25 years. This formation includes daily Mass\, Lectio Divina\, Divine Office and the living a life of apostolic endeavors: ministering to our families and the world.  The members endeavor to give glory to God\, to honor our Blessed Lady of Carmel and to aid our Holy Mother the Church by their prayers.
URL:https://www.olmcfssp.org/calendar/st-teresa-of-jesus-association-21/
END:VEVENT
BEGIN:VEVENT
DTSTART;TZID=America/Denver:20241214T130000
DTEND;TZID=America/Denver:20241214T160000
DTSTAMP:20260423T141231
CREATED:20231027T173134Z
LAST-MODIFIED:20241213T002335Z
UID:6833-1734181200-1734192000@www.olmcfssp.org
SUMMARY:Hibernia Music Group
DESCRIPTION:An OLMC acoustic music group. We play traditional Irish\, Folk and Americana music. All are welcome to join us\, beginner or advanced\, Instrumentalist or Vocalist. Our goal is to sharpen our skills\, increase our musical knowledge\, have good Catholic fellowship\, and share our music.
URL:https://www.olmcfssp.org/calendar/hibernia-music-group-42/
END:VEVENT
END:VCALENDAR