BEGIN:VCALENDAR
VERSION:2.0
PRODID:-//Our Lady of Mt. Carmel - ECPv6.15.20//NONSGML v1.0//EN
CALSCALE:GREGORIAN
METHOD:PUBLISH
X-ORIGINAL-URL:https://www.olmcfssp.org
X-WR-CALDESC:Events for Our Lady of Mt. Carmel
REFRESH-INTERVAL;VALUE=DURATION:PT1H
X-Robots-Tag:noindex
X-PUBLISHED-TTL:PT1H
BEGIN:VTIMEZONE
TZID:America/Denver
BEGIN:DAYLIGHT
TZOFFSETFROM:-0700
TZOFFSETTO:-0600
TZNAME:MDT
DTSTART:20230312T090000
END:DAYLIGHT
BEGIN:STANDARD
TZOFFSETFROM:-0600
TZOFFSETTO:-0700
TZNAME:MST
DTSTART:20231105T080000
END:STANDARD
BEGIN:DAYLIGHT
TZOFFSETFROM:-0700
TZOFFSETTO:-0600
TZNAME:MDT
DTSTART:20240310T090000
END:DAYLIGHT
BEGIN:STANDARD
TZOFFSETFROM:-0600
TZOFFSETTO:-0700
TZNAME:MST
DTSTART:20241103T080000
END:STANDARD
BEGIN:DAYLIGHT
TZOFFSETFROM:-0700
TZOFFSETTO:-0600
TZNAME:MDT
DTSTART:20250309T090000
END:DAYLIGHT
BEGIN:STANDARD
TZOFFSETFROM:-0600
TZOFFSETTO:-0700
TZNAME:MST
DTSTART:20251102T080000
END:STANDARD
END:VTIMEZONE
BEGIN:VEVENT
DTSTART;TZID=America/Denver:20241215T123000
DTEND;TZID=America/Denver:20241215T140000
DTSTAMP:20260423T155404
CREATED:20231027T173400Z
LAST-MODIFIED:20241214T003836Z
UID:7047-1734265800-1734271200@www.olmcfssp.org
SUMMARY:Creation Study Group
DESCRIPTION:This group is dedicated to studying the traditional Catholic teaching on creation and Genesis as believed and taught by the Doctors\, Fathers\, Councils and Popes for two thousand years. We explore various aspects of the creation/evolutionism debate and the effects of evolutionary thought on culture\, science and the Church. As Pope St Pius X said about Modernism\, that it is the “synthesis of all heresies.” And “the chief of their doctrines\, that of evolution.” \nAll are welcome to attend and contribute their experience and expertise.
URL:https://www.olmcfssp.org/calendar/creation-study-group-14/
END:VEVENT
BEGIN:VEVENT
DTSTART;TZID=America/Denver:20241215T140000
DTEND;TZID=America/Denver:20241215T170000
DTSTAMP:20260423T155404
CREATED:20231027T173135Z
LAST-MODIFIED:20241213T002335Z
UID:6834-1734271200-1734282000@www.olmcfssp.org
SUMMARY:Laeta Vita
DESCRIPTION:Leata Vita (Joyful Life) is a group for single women ages 18-35. The purpose of our group is to meet and grow in fellowship with other women who are in a similar season of life. We meet two times a month. The first meeting of the month consists of discussing a book as part of our book club and socializing with each other. The second meeting of the month consists of a fun outing or activity (and every now and then something charitable for the parish or some other organization)\, meant to give the members a chance to get out and have some fun.
URL:https://www.olmcfssp.org/calendar/laeta-vita-35/
END:VEVENT
BEGIN:VEVENT
DTSTART;TZID=America/Denver:20241215T170000
DTEND;TZID=America/Denver:20241215T180000
DTSTAMP:20260423T155404
CREATED:20231027T172454Z
LAST-MODIFIED:20241213T235328Z
UID:6310-1734282000-1734285600@www.olmcfssp.org
SUMMARY:Sung Vespers
DESCRIPTION:
URL:https://www.olmcfssp.org/calendar/sung-vespers-84/
END:VEVENT
BEGIN:VEVENT
DTSTART;TZID=America/Denver:20241215T180000
DTEND;TZID=America/Denver:20241215T190000
DTSTAMP:20260423T155404
CREATED:20241213T235328Z
LAST-MODIFIED:20241213T235328Z
UID:11013-1734285600-1734289200@www.olmcfssp.org
SUMMARY:Advent Lessons and Carols
DESCRIPTION:Please join us at 6pm in the church for this hour-long service centering around readings from Sacred Scripture prophesying the birth of our Lord\, interspersed with chants\, motets\, and congregational hymns. The OLMC Parish Choir\, St. Cecilia & St. Gregory Student Scholæ\, & Our Lady of Good Counsel Cooperative schola will sing. A festive reception will follow in the parish hall. All are welcome!
URL:https://www.olmcfssp.org/calendar/advent-lessons-and-carols/
END:VEVENT
END:VCALENDAR