BEGIN:VCALENDAR
VERSION:2.0
PRODID:-//Our Lady of Mt. Carmel - ECPv6.15.20//NONSGML v1.0//EN
CALSCALE:GREGORIAN
METHOD:PUBLISH
X-ORIGINAL-URL:https://www.olmcfssp.org
X-WR-CALDESC:Events for Our Lady of Mt. Carmel
REFRESH-INTERVAL;VALUE=DURATION:PT1H
X-Robots-Tag:noindex
X-PUBLISHED-TTL:PT1H
BEGIN:VTIMEZONE
TZID:America/Chicago
BEGIN:DAYLIGHT
TZOFFSETFROM:-0600
TZOFFSETTO:-0500
TZNAME:CDT
DTSTART:20230312T080000
END:DAYLIGHT
BEGIN:STANDARD
TZOFFSETFROM:-0500
TZOFFSETTO:-0600
TZNAME:CST
DTSTART:20231105T070000
END:STANDARD
BEGIN:DAYLIGHT
TZOFFSETFROM:-0600
TZOFFSETTO:-0500
TZNAME:CDT
DTSTART:20240310T080000
END:DAYLIGHT
BEGIN:STANDARD
TZOFFSETFROM:-0500
TZOFFSETTO:-0600
TZNAME:CST
DTSTART:20241103T070000
END:STANDARD
BEGIN:DAYLIGHT
TZOFFSETFROM:-0600
TZOFFSETTO:-0500
TZNAME:CDT
DTSTART:20250309T080000
END:DAYLIGHT
BEGIN:STANDARD
TZOFFSETFROM:-0500
TZOFFSETTO:-0600
TZNAME:CST
DTSTART:20251102T070000
END:STANDARD
BEGIN:DAYLIGHT
TZOFFSETFROM:-0600
TZOFFSETTO:-0500
TZNAME:CDT
DTSTART:20260308T080000
END:DAYLIGHT
BEGIN:STANDARD
TZOFFSETFROM:-0500
TZOFFSETTO:-0600
TZNAME:CST
DTSTART:20261101T070000
END:STANDARD
END:VTIMEZONE
BEGIN:VTIMEZONE
TZID:America/Denver
BEGIN:DAYLIGHT
TZOFFSETFROM:-0700
TZOFFSETTO:-0600
TZNAME:MDT
DTSTART:20230312T090000
END:DAYLIGHT
BEGIN:STANDARD
TZOFFSETFROM:-0600
TZOFFSETTO:-0700
TZNAME:MST
DTSTART:20231105T080000
END:STANDARD
BEGIN:DAYLIGHT
TZOFFSETFROM:-0700
TZOFFSETTO:-0600
TZNAME:MDT
DTSTART:20240310T090000
END:DAYLIGHT
BEGIN:STANDARD
TZOFFSETFROM:-0600
TZOFFSETTO:-0700
TZNAME:MST
DTSTART:20241103T080000
END:STANDARD
BEGIN:DAYLIGHT
TZOFFSETFROM:-0700
TZOFFSETTO:-0600
TZNAME:MDT
DTSTART:20250309T090000
END:DAYLIGHT
BEGIN:STANDARD
TZOFFSETFROM:-0600
TZOFFSETTO:-0700
TZNAME:MST
DTSTART:20251102T080000
END:STANDARD
END:VTIMEZONE
BEGIN:VEVENT
DTSTART;VALUE=DATE:20241224
DTEND;VALUE=DATE:20250102
DTSTAMP:20260424T155418
CREATED:20240925T174412Z
LAST-MODIFIED:20240925T174412Z
UID:10411-1734998400-1735775999@www.olmcfssp.org
SUMMARY:Parish Office Closed - Christmas Break
DESCRIPTION:
URL:https://www.olmcfssp.org/calendar/parish-office-closed-christmas-break/
LOCATION:Church
END:VEVENT
BEGIN:VEVENT
DTSTART;TZID=America/Chicago:20241225T000000
DTEND;TZID=America/Chicago:20241225T013000
DTSTAMP:20260424T155418
CREATED:20241122T181431Z
LAST-MODIFIED:20241122T181431Z
UID:10837-1735084800-1735090200@www.olmcfssp.org
SUMMARY:Midnight Mass (Carmelite Monastery)
DESCRIPTION:
URL:https://www.olmcfssp.org/calendar/midnight-mass-carmelite-monastery/
LOCATION:Carmelite Monastery\, 6138 South Gallup\, Littleton\, CO\, 80120
END:VEVENT
BEGIN:VEVENT
DTSTART;TZID=America/Chicago:20241225T000000
DTEND;TZID=America/Chicago:20241225T013000
DTSTAMP:20260424T155418
CREATED:20241122T183259Z
LAST-MODIFIED:20241122T183259Z
UID:10853-1735084800-1735090200@www.olmcfssp.org
SUMMARY:Midnight Mass
DESCRIPTION:
URL:https://www.olmcfssp.org/calendar/midnight-mass-2/
LOCATION:Church
ORGANIZER;CN="Our Lady of Mt. Carmel":MAILTO:secretary@olmcfssp.org
END:VEVENT
BEGIN:VEVENT
DTSTART;TZID=America/Chicago:20241225T063000
DTEND;TZID=America/Chicago:20241225T073000
DTSTAMP:20260424T155418
CREATED:20241122T182619Z
LAST-MODIFIED:20241122T182619Z
UID:10841-1735108200-1735111800@www.olmcfssp.org
SUMMARY:Low Mass - Mass of Christmas Dawn
DESCRIPTION:
URL:https://www.olmcfssp.org/calendar/low-mass-mass-of-christmas-dawn/
LOCATION:Church
ORGANIZER;CN="Our Lady of Mt. Carmel":MAILTO:secretary@olmcfssp.org
END:VEVENT
BEGIN:VEVENT
DTSTART;TZID=America/Chicago:20241225T080000
DTEND;TZID=America/Chicago:20241225T090000
DTSTAMP:20260424T155418
CREATED:20241122T182718Z
LAST-MODIFIED:20241122T182718Z
UID:10843-1735113600-1735117200@www.olmcfssp.org
SUMMARY:High Mass - Mass of Christmas Dawn
DESCRIPTION:
URL:https://www.olmcfssp.org/calendar/high-mass-mass-of-christmas-dawn/
LOCATION:Church
ORGANIZER;CN="Our Lady of Mt. Carmel":MAILTO:secretary@olmcfssp.org
END:VEVENT
BEGIN:VEVENT
DTSTART;TZID=America/Chicago:20241225T080000
DTEND;TZID=America/Chicago:20241225T090000
DTSTAMP:20260424T155418
CREATED:20241122T183006Z
LAST-MODIFIED:20241122T183006Z
UID:10846-1735113600-1735117200@www.olmcfssp.org
SUMMARY:High Mass - Mass of Christmas Dawn (Carmelite Monastery)
DESCRIPTION:
URL:https://www.olmcfssp.org/calendar/high-mass-mass-of-christmas-dawn-carmelite-monastery/
LOCATION:Carmelite Monastery\, 6138 South Gallup\, Littleton\, CO\, 80120
END:VEVENT
BEGIN:VEVENT
DTSTART;TZID=America/Chicago:20241225T093000
DTEND;TZID=America/Chicago:20241225T103000
DTSTAMP:20260424T155418
CREATED:20241122T183142Z
LAST-MODIFIED:20241122T183352Z
UID:10849-1735119000-1735122600@www.olmcfssp.org
SUMMARY:Low Mass - Mass of Christmas Day
DESCRIPTION:
URL:https://www.olmcfssp.org/calendar/low-mass/
LOCATION:Church
ORGANIZER;CN="Our Lady of Mt. Carmel":MAILTO:secretary@olmcfssp.org
END:VEVENT
BEGIN:VEVENT
DTSTART;TZID=America/Chicago:20241225T110000
DTEND;TZID=America/Chicago:20241225T121500
DTSTAMP:20260424T155418
CREATED:20241122T183220Z
LAST-MODIFIED:20241122T183220Z
UID:10851-1735124400-1735128900@www.olmcfssp.org
SUMMARY:High Mass - Mass of Christmas Day
DESCRIPTION:
URL:https://www.olmcfssp.org/calendar/high-mass-mass-of-christmas-day/
LOCATION:Church
ORGANIZER;CN="Our Lady of Mt. Carmel":MAILTO:secretary@olmcfssp.org
END:VEVENT
BEGIN:VEVENT
DTSTART;TZID=America/Denver:20241225T180000
DTEND;TZID=America/Denver:20241225T210000
DTSTAMP:20260424T155418
CREATED:20231027T173136Z
LAST-MODIFIED:20241220T002331Z
UID:6849-1735149600-1735160400@www.olmcfssp.org
SUMMARY:Hibernia Music Group
DESCRIPTION:An OLMC acoustic music group. We play traditional Irish\, Folk and Americana music. All are welcome to join us\, beginner or advanced\, Instrumentalist or Vocalist. Our goal is to sharpen our skills\, increase our musical knowledge\, have good Catholic fellowship\, and share our music.
URL:https://www.olmcfssp.org/calendar/hibernia-music-group-43/
END:VEVENT
END:VCALENDAR