BEGIN:VCALENDAR
VERSION:2.0
PRODID:-//Our Lady of Mt. Carmel - ECPv6.15.20//NONSGML v1.0//EN
CALSCALE:GREGORIAN
METHOD:PUBLISH
X-WR-CALNAME:Our Lady of Mt. Carmel
X-ORIGINAL-URL:https://www.olmcfssp.org
X-WR-CALDESC:Events for Our Lady of Mt. Carmel
REFRESH-INTERVAL;VALUE=DURATION:PT1H
X-Robots-Tag:noindex
X-PUBLISHED-TTL:PT1H
BEGIN:VTIMEZONE
TZID:America/Denver
BEGIN:DAYLIGHT
TZOFFSETFROM:-0700
TZOFFSETTO:-0600
TZNAME:MDT
DTSTART:20240310T090000
END:DAYLIGHT
BEGIN:STANDARD
TZOFFSETFROM:-0600
TZOFFSETTO:-0700
TZNAME:MST
DTSTART:20241103T080000
END:STANDARD
BEGIN:DAYLIGHT
TZOFFSETFROM:-0700
TZOFFSETTO:-0600
TZNAME:MDT
DTSTART:20250309T090000
END:DAYLIGHT
BEGIN:STANDARD
TZOFFSETFROM:-0600
TZOFFSETTO:-0700
TZNAME:MST
DTSTART:20251102T080000
END:STANDARD
BEGIN:DAYLIGHT
TZOFFSETFROM:-0700
TZOFFSETTO:-0600
TZNAME:MDT
DTSTART:20260308T090000
END:DAYLIGHT
BEGIN:STANDARD
TZOFFSETFROM:-0600
TZOFFSETTO:-0700
TZNAME:MST
DTSTART:20261101T080000
END:STANDARD
END:VTIMEZONE
BEGIN:VEVENT
DTSTART;TZID=America/Denver:20250103T093000
DTEND;TZID=America/Denver:20250104T080000
DTSTAMP:20260425T114045
CREATED:20230922T160151Z
LAST-MODIFIED:20250104T000830Z
UID:5855-1735896600-1735977600@www.olmcfssp.org
SUMMARY:First Friday Adoration
DESCRIPTION:
URL:https://www.olmcfssp.org/calendar/first-friday-adoration-23/
END:VEVENT
BEGIN:VEVENT
DTSTART;TZID=America/Denver:20250103T194500
DTEND;TZID=America/Denver:20250103T213000
DTSTAMP:20260425T114045
CREATED:20241214T003835Z
LAST-MODIFIED:20250104T005349Z
UID:11024-1735933500-1735939800@www.olmcfssp.org
SUMMARY:St. Gerard Majella Child Loss Support Group
DESCRIPTION:Are you feeling alone in your grief? Come find consolation with fellow moms. Whether you knew your child only moments or a lifetime\, a loss is a loss\, and you are most welcome. This meeting is going to focus on giving us space and time to remember our children during this Christmas season. Join us after the 7pm Mass until 9:30pm. Refreshments provided. Any questions please call or text Angie Flees 720-936-5315.
URL:https://www.olmcfssp.org/calendar/st-gerard-majella-child-loss-support-group/
END:VEVENT
END:VCALENDAR