BEGIN:VCALENDAR
VERSION:2.0
PRODID:-//Our Lady of Mt. Carmel - ECPv6.15.20//NONSGML v1.0//EN
CALSCALE:GREGORIAN
METHOD:PUBLISH
X-WR-CALNAME:Our Lady of Mt. Carmel
X-ORIGINAL-URL:https://www.olmcfssp.org
X-WR-CALDESC:Events for Our Lady of Mt. Carmel
REFRESH-INTERVAL;VALUE=DURATION:PT1H
X-Robots-Tag:noindex
X-PUBLISHED-TTL:PT1H
BEGIN:VTIMEZONE
TZID:America/Denver
BEGIN:DAYLIGHT
TZOFFSETFROM:-0700
TZOFFSETTO:-0600
TZNAME:MDT
DTSTART:20240310T090000
END:DAYLIGHT
BEGIN:STANDARD
TZOFFSETFROM:-0600
TZOFFSETTO:-0700
TZNAME:MST
DTSTART:20241103T080000
END:STANDARD
BEGIN:DAYLIGHT
TZOFFSETFROM:-0700
TZOFFSETTO:-0600
TZNAME:MDT
DTSTART:20250309T090000
END:DAYLIGHT
BEGIN:STANDARD
TZOFFSETFROM:-0600
TZOFFSETTO:-0700
TZNAME:MST
DTSTART:20251102T080000
END:STANDARD
BEGIN:DAYLIGHT
TZOFFSETFROM:-0700
TZOFFSETTO:-0600
TZNAME:MDT
DTSTART:20260308T090000
END:DAYLIGHT
BEGIN:STANDARD
TZOFFSETFROM:-0600
TZOFFSETTO:-0700
TZNAME:MST
DTSTART:20261101T080000
END:STANDARD
END:VTIMEZONE
BEGIN:VEVENT
DTSTART;TZID=America/Denver:20250105T140000
DTEND;TZID=America/Denver:20250105T170000
DTSTAMP:20260425T120641
CREATED:20231027T173137Z
LAST-MODIFIED:20250103T003833Z
UID:6853-1736085600-1736096400@www.olmcfssp.org
SUMMARY:Laeta Vita
DESCRIPTION:Leata Vita (Joyful Life) is a group for single women ages 18-35. The purpose of our group is to meet and grow in fellowship with other women who are in a similar season of life. We meet two times a month. The first meeting of the month consists of discussing a book as part of our book club and socializing with each other. The second meeting of the month consists of a fun outing or activity (and every now and then something charitable for the parish or some other organization)\, meant to give the members a chance to get out and have some fun.
URL:https://www.olmcfssp.org/calendar/laeta-vita-36/
END:VEVENT
BEGIN:VEVENT
DTSTART;TZID=America/Denver:20250105T170000
DTEND;TZID=America/Denver:20250105T180000
DTSTAMP:20260425T120641
CREATED:20231027T172456Z
LAST-MODIFIED:20250104T000830Z
UID:6317-1736096400-1736100000@www.olmcfssp.org
SUMMARY:Sung Vespers
DESCRIPTION:
URL:https://www.olmcfssp.org/calendar/sung-vespers-87/
END:VEVENT
BEGIN:VEVENT
DTSTART;TZID=America/Denver:20250105T180000
DTEND;TZID=America/Denver:20250105T203000
DTSTAMP:20260425T120641
CREATED:20241214T015331Z
LAST-MODIFIED:20250104T020858Z
UID:11074-1736100000-1736109000@www.olmcfssp.org
SUMMARY:Catechism and Cocktails
DESCRIPTION:Join other single Catholics\, aged 24 & older\, looking to deepen their faith in a relaxed setting. Fr. Nolan will give a talk about the 3 Levels of Marriage. Food and drinks will be served\, including sparkling water\, wine and a special cocktail for the evening. \nSign up here: Catechism and Cocktails RSVP- 5 January 2025
URL:https://www.olmcfssp.org/calendar/catechism-and-cocktails-2/
END:VEVENT
END:VCALENDAR