BEGIN:VCALENDAR
VERSION:2.0
PRODID:-//Our Lady of Mt. Carmel - ECPv6.15.20//NONSGML v1.0//EN
CALSCALE:GREGORIAN
METHOD:PUBLISH
X-WR-CALNAME:Our Lady of Mt. Carmel
X-ORIGINAL-URL:https://www.olmcfssp.org
X-WR-CALDESC:Events for Our Lady of Mt. Carmel
REFRESH-INTERVAL;VALUE=DURATION:PT1H
X-Robots-Tag:noindex
X-PUBLISHED-TTL:PT1H
BEGIN:VTIMEZONE
TZID:America/Denver
BEGIN:DAYLIGHT
TZOFFSETFROM:-0700
TZOFFSETTO:-0600
TZNAME:MDT
DTSTART:20240310T090000
END:DAYLIGHT
BEGIN:STANDARD
TZOFFSETFROM:-0600
TZOFFSETTO:-0700
TZNAME:MST
DTSTART:20241103T080000
END:STANDARD
BEGIN:DAYLIGHT
TZOFFSETFROM:-0700
TZOFFSETTO:-0600
TZNAME:MDT
DTSTART:20250309T090000
END:DAYLIGHT
BEGIN:STANDARD
TZOFFSETFROM:-0600
TZOFFSETTO:-0700
TZNAME:MST
DTSTART:20251102T080000
END:STANDARD
BEGIN:DAYLIGHT
TZOFFSETFROM:-0700
TZOFFSETTO:-0600
TZNAME:MDT
DTSTART:20260308T090000
END:DAYLIGHT
BEGIN:STANDARD
TZOFFSETFROM:-0600
TZOFFSETTO:-0700
TZNAME:MST
DTSTART:20261101T080000
END:STANDARD
END:VTIMEZONE
BEGIN:VEVENT
DTSTART;TZID=America/Denver:20250322T083000
DTEND;TZID=America/Denver:20250322T160000
DTSTAMP:20260425T053049
CREATED:20240802T232337Z
LAST-MODIFIED:20250322T025331Z
UID:9954-1742632200-1742659200@www.olmcfssp.org
SUMMARY:FNE
DESCRIPTION:The Federation of North American Explorers is an authentic Catholic scouting program with groups for boys and girls between the age of 6-17. Please direct any questions to info@olmcexplorers.org
URL:https://www.olmcfssp.org/calendar/fne-15/
END:VEVENT
BEGIN:VEVENT
DTSTART;TZID=America/Denver:20250322T093000
DTEND;TZID=America/Denver:20250322T110000
DTSTAMP:20260425T053049
CREATED:20241214T003836Z
LAST-MODIFIED:20250322T002331Z
UID:11040-1742635800-1742641200@www.olmcfssp.org
SUMMARY:Catholic Inquiry Class
DESCRIPTION:All those interested in learning about the Catholic Faith are welcome to attend this class taught by Fr Krager. There is no fee and no obligation to convert. If you are non-Catholic or away from the Church\, you are strongly encouraged to come. Please encourage anyone you think might be interested to come. The worst they can say is no! Email Fr Krager with any questions.
URL:https://www.olmcfssp.org/calendar/catholic-inquiry-class-11/
END:VEVENT
BEGIN:VEVENT
DTSTART;TZID=America/Denver:20250322T101500
DTEND;TZID=America/Denver:20250322T110000
DTSTAMP:20260425T053049
CREATED:20240712T215500Z
LAST-MODIFIED:20250322T025331Z
UID:9215-1742638500-1742641200@www.olmcfssp.org
SUMMARY:Planned Parenthood Prayer Vigil
DESCRIPTION:Please join us for our monthly parish prayer vigil at Planned Parenthood starting at 10:15 am. The facility is located at 7155 E 38th Ave. in Denver.
URL:https://www.olmcfssp.org/calendar/planned-parenthood-prayer-vigil-40/
END:VEVENT
END:VCALENDAR