BEGIN:VCALENDAR
VERSION:2.0
PRODID:-//Our Lady of Mt. Carmel - ECPv6.15.20//NONSGML v1.0//EN
CALSCALE:GREGORIAN
METHOD:PUBLISH
X-WR-CALNAME:Our Lady of Mt. Carmel
X-ORIGINAL-URL:https://www.olmcfssp.org
X-WR-CALDESC:Events for Our Lady of Mt. Carmel
REFRESH-INTERVAL;VALUE=DURATION:PT1H
X-Robots-Tag:noindex
X-PUBLISHED-TTL:PT1H
BEGIN:VTIMEZONE
TZID:America/Denver
BEGIN:DAYLIGHT
TZOFFSETFROM:-0700
TZOFFSETTO:-0600
TZNAME:MDT
DTSTART:20240310T090000
END:DAYLIGHT
BEGIN:STANDARD
TZOFFSETFROM:-0600
TZOFFSETTO:-0700
TZNAME:MST
DTSTART:20241103T080000
END:STANDARD
BEGIN:DAYLIGHT
TZOFFSETFROM:-0700
TZOFFSETTO:-0600
TZNAME:MDT
DTSTART:20250309T090000
END:DAYLIGHT
BEGIN:STANDARD
TZOFFSETFROM:-0600
TZOFFSETTO:-0700
TZNAME:MST
DTSTART:20251102T080000
END:STANDARD
BEGIN:DAYLIGHT
TZOFFSETFROM:-0700
TZOFFSETTO:-0600
TZNAME:MDT
DTSTART:20260308T090000
END:DAYLIGHT
BEGIN:STANDARD
TZOFFSETFROM:-0600
TZOFFSETTO:-0700
TZNAME:MST
DTSTART:20261101T080000
END:STANDARD
END:VTIMEZONE
BEGIN:VEVENT
DTSTART;TZID=America/Denver:20250404T093000
DTEND;TZID=America/Denver:20250405T080000
DTSTAMP:20260424T101906
CREATED:20230922T160151Z
LAST-MODIFIED:20250404T230833Z
UID:5858-1743759000-1743840000@www.olmcfssp.org
SUMMARY:First Friday Adoration
DESCRIPTION:
URL:https://www.olmcfssp.org/calendar/first-friday-adoration-26/
END:VEVENT
BEGIN:VEVENT
DTSTART;TZID=America/Denver:20250405T093000
DTEND;TZID=America/Denver:20250405T110000
DTSTAMP:20260424T101906
CREATED:20241214T003837Z
LAST-MODIFIED:20250405T002330Z
UID:11043-1743845400-1743850800@www.olmcfssp.org
SUMMARY:Catholic Inquiry Class
DESCRIPTION:All those interested in learning about the Catholic Faith are welcome to attend this class taught by Fr Krager. There is no fee and no obligation to convert. If you are non-Catholic or away from the Church\, you are strongly encouraged to come. Please encourage anyone you think might be interested to come. The worst they can say is no! Email Fr Krager with any questions.
URL:https://www.olmcfssp.org/calendar/catholic-inquiry-class-13/
END:VEVENT
BEGIN:VEVENT
DTSTART;TZID=America/Denver:20250405T093000
DTEND;TZID=America/Denver:20250405T113000
DTSTAMP:20260424T101906
CREATED:20240110T230805Z
LAST-MODIFIED:20250405T022328Z
UID:8756-1743845400-1743852600@www.olmcfssp.org
SUMMARY:Confraternity of Christian Mothers
DESCRIPTION:All women aged 16 and up of all walks of life are invited to attend. Some of us are called to physical motherhood\, but we are all called to spiritual motherhood. 
URL:https://www.olmcfssp.org/calendar/confraternity-of-christian-mothers-70/
END:VEVENT
END:VCALENDAR