BEGIN:VCALENDAR
VERSION:2.0
PRODID:-//Our Lady of Mt. Carmel - ECPv6.15.20//NONSGML v1.0//EN
CALSCALE:GREGORIAN
METHOD:PUBLISH
X-ORIGINAL-URL:https://www.olmcfssp.org
X-WR-CALDESC:Events for Our Lady of Mt. Carmel
REFRESH-INTERVAL;VALUE=DURATION:PT1H
X-Robots-Tag:noindex
X-PUBLISHED-TTL:PT1H
BEGIN:VTIMEZONE
TZID:America/Denver
BEGIN:DAYLIGHT
TZOFFSETFROM:-0700
TZOFFSETTO:-0600
TZNAME:MDT
DTSTART:20240310T090000
END:DAYLIGHT
BEGIN:STANDARD
TZOFFSETFROM:-0600
TZOFFSETTO:-0700
TZNAME:MST
DTSTART:20241103T080000
END:STANDARD
BEGIN:DAYLIGHT
TZOFFSETFROM:-0700
TZOFFSETTO:-0600
TZNAME:MDT
DTSTART:20250309T090000
END:DAYLIGHT
BEGIN:STANDARD
TZOFFSETFROM:-0600
TZOFFSETTO:-0700
TZNAME:MST
DTSTART:20251102T080000
END:STANDARD
BEGIN:DAYLIGHT
TZOFFSETFROM:-0700
TZOFFSETTO:-0600
TZNAME:MDT
DTSTART:20260308T090000
END:DAYLIGHT
BEGIN:STANDARD
TZOFFSETFROM:-0600
TZOFFSETTO:-0700
TZNAME:MST
DTSTART:20261101T080000
END:STANDARD
END:VTIMEZONE
BEGIN:VEVENT
DTSTART;VALUE=DATE:20250523
DTEND;VALUE=DATE:20250525
DTSTAMP:20260424T050941
CREATED:20250419T022328Z
LAST-MODIFIED:20250524T023829Z
UID:12055-1747958400-1748131199@www.olmcfssp.org
SUMMARY:Creation Seminar
DESCRIPTION:Presented by the Kolbe Center for the Study of Creation. Presenters will be Hugh Owen and Dr. Kevin Mark. Registration is free but space is limited. Breakfast and lunch provided on Saturday. Please RSVP by 4/27 with your name and number in your party to Rick at rdm3rdm3@gmail.com.
URL:https://www.olmcfssp.org/calendar/creation-seminar/
END:VEVENT
END:VCALENDAR