BEGIN:VCALENDAR
VERSION:2.0
PRODID:-//Our Lady of Mt. Carmel - ECPv6.15.20//NONSGML v1.0//EN
CALSCALE:GREGORIAN
METHOD:PUBLISH
X-ORIGINAL-URL:https://www.olmcfssp.org
X-WR-CALDESC:Events for Our Lady of Mt. Carmel
REFRESH-INTERVAL;VALUE=DURATION:PT1H
X-Robots-Tag:noindex
X-PUBLISHED-TTL:PT1H
BEGIN:VTIMEZONE
TZID:America/Denver
BEGIN:DAYLIGHT
TZOFFSETFROM:-0700
TZOFFSETTO:-0600
TZNAME:MDT
DTSTART:20250309T090000
END:DAYLIGHT
BEGIN:STANDARD
TZOFFSETFROM:-0600
TZOFFSETTO:-0700
TZNAME:MST
DTSTART:20251102T080000
END:STANDARD
BEGIN:DAYLIGHT
TZOFFSETFROM:-0700
TZOFFSETTO:-0600
TZNAME:MDT
DTSTART:20260308T090000
END:DAYLIGHT
BEGIN:STANDARD
TZOFFSETFROM:-0600
TZOFFSETTO:-0700
TZNAME:MST
DTSTART:20261101T080000
END:STANDARD
BEGIN:DAYLIGHT
TZOFFSETFROM:-0700
TZOFFSETTO:-0600
TZNAME:MDT
DTSTART:20270314T090000
END:DAYLIGHT
BEGIN:STANDARD
TZOFFSETFROM:-0600
TZOFFSETTO:-0700
TZNAME:MST
DTSTART:20271107T080000
END:STANDARD
END:VTIMEZONE
BEGIN:VEVENT
DTSTART;TZID=America/Denver:20260405T140000
DTEND;TZID=America/Denver:20260405T170000
DTSTAMP:20260420T222321
CREATED:20240726T221411Z
LAST-MODIFIED:20260403T022329Z
UID:9898-1775397600-1775408400@www.olmcfssp.org
SUMMARY:Laeta Vita
DESCRIPTION:Leata Vita (Joyful Life) is a group for single women ages 18-35. The purpose of our group is to meet and grow in fellowship with other women who are in a similar season of life. We meet two times a month. The first meeting of the month consists of discussing a book as part of our book club and socializing with each other. The second meeting of the month consists of a fun outing or activity (and every now and then something charitable for the parish or some other organization)\, meant to give the members a chance to get out and have some fun.
URL:https://www.olmcfssp.org/calendar/laeta-vita-67/
END:VEVENT
BEGIN:VEVENT
DTSTART;TZID=America/Denver:20260405T170000
DTEND;TZID=America/Denver:20260405T180000
DTSTAMP:20260420T222321
CREATED:20240712T215016Z
LAST-MODIFIED:20260404T022327Z
UID:9154-1775408400-1775412000@www.olmcfssp.org
SUMMARY:Sung Vespers
DESCRIPTION:
URL:https://www.olmcfssp.org/calendar/sung-vespers-152/
END:VEVENT
END:VCALENDAR