BEGIN:VCALENDAR
VERSION:2.0
PRODID:-//Our Lady of Mt. Carmel - ECPv6.15.20//NONSGML v1.0//EN
CALSCALE:GREGORIAN
METHOD:PUBLISH
X-WR-CALNAME:Our Lady of Mt. Carmel
X-ORIGINAL-URL:https://www.olmcfssp.org
X-WR-CALDESC:Events for Our Lady of Mt. Carmel
REFRESH-INTERVAL;VALUE=DURATION:PT1H
X-Robots-Tag:noindex
X-PUBLISHED-TTL:PT1H
BEGIN:VTIMEZONE
TZID:America/Denver
BEGIN:DAYLIGHT
TZOFFSETFROM:-0700
TZOFFSETTO:-0600
TZNAME:MDT
DTSTART:20250309T090000
END:DAYLIGHT
BEGIN:STANDARD
TZOFFSETFROM:-0600
TZOFFSETTO:-0700
TZNAME:MST
DTSTART:20251102T080000
END:STANDARD
BEGIN:DAYLIGHT
TZOFFSETFROM:-0700
TZOFFSETTO:-0600
TZNAME:MDT
DTSTART:20260308T090000
END:DAYLIGHT
BEGIN:STANDARD
TZOFFSETFROM:-0600
TZOFFSETTO:-0700
TZNAME:MST
DTSTART:20261101T080000
END:STANDARD
BEGIN:DAYLIGHT
TZOFFSETFROM:-0700
TZOFFSETTO:-0600
TZNAME:MDT
DTSTART:20270314T090000
END:DAYLIGHT
BEGIN:STANDARD
TZOFFSETFROM:-0600
TZOFFSETTO:-0700
TZNAME:MST
DTSTART:20271107T080000
END:STANDARD
END:VTIMEZONE
BEGIN:VEVENT
DTSTART;TZID=America/Denver:20260927T120000
DTEND;TZID=America/Denver:20260927T143000
DTSTAMP:20260421T125229
CREATED:20240928T005530Z
LAST-MODIFIED:20260418T055331Z
UID:10450-1790510400-1790519400@www.olmcfssp.org
SUMMARY:Adult Chess Club
DESCRIPTION:For players 18 and over. Players must RSVP to Mr. Mudd at rdm3rdm3@gmail.com to reserve their spot as space is limited.
URL:https://www.olmcfssp.org/calendar/adult-chess-club-9/
END:VEVENT
BEGIN:VEVENT
DTSTART;TZID=America/Denver:20260927T123000
DTEND;TZID=America/Denver:20260927T141500
DTSTAMP:20260421T125229
CREATED:20250207T005332Z
LAST-MODIFIED:20260417T023830Z
UID:11477-1790512200-1790518500@www.olmcfssp.org
SUMMARY:Carmel Rookies Chess Club
DESCRIPTION:Carmel Rookies Chess Club for players under 18. Players/parents must RSVP to Mr. Mudd at rdm3rdm3@gmail.com to reserve their spot as space is limited.
URL:https://www.olmcfssp.org/calendar/carmel-rookies-chess-club-78/
END:VEVENT
BEGIN:VEVENT
DTSTART;TZID=America/Denver:20260927T170000
DTEND;TZID=America/Denver:20260927T180000
DTSTAMP:20260421T125229
CREATED:20240927T223834Z
LAST-MODIFIED:20260418T022331Z
UID:10431-1790528400-1790532000@www.olmcfssp.org
SUMMARY:Sung Vespers
DESCRIPTION:
URL:https://www.olmcfssp.org/calendar/sung-vespers-177/
END:VEVENT
END:VCALENDAR