BEGIN:VCALENDAR
VERSION:2.0
PRODID:-//Our Lady of Mt. Carmel - ECPv6.15.20//NONSGML v1.0//EN
CALSCALE:GREGORIAN
METHOD:PUBLISH
X-WR-CALNAME:Our Lady of Mt. Carmel
X-ORIGINAL-URL:https://www.olmcfssp.org
X-WR-CALDESC:Events for Our Lady of Mt. Carmel
REFRESH-INTERVAL;VALUE=DURATION:PT1H
X-Robots-Tag:noindex
X-PUBLISHED-TTL:PT1H
BEGIN:VTIMEZONE
TZID:America/Denver
BEGIN:DAYLIGHT
TZOFFSETFROM:-0700
TZOFFSETTO:-0600
TZNAME:MDT
DTSTART:20250309T090000
END:DAYLIGHT
BEGIN:STANDARD
TZOFFSETFROM:-0600
TZOFFSETTO:-0700
TZNAME:MST
DTSTART:20251102T080000
END:STANDARD
BEGIN:DAYLIGHT
TZOFFSETFROM:-0700
TZOFFSETTO:-0600
TZNAME:MDT
DTSTART:20260308T090000
END:DAYLIGHT
BEGIN:STANDARD
TZOFFSETFROM:-0600
TZOFFSETTO:-0700
TZNAME:MST
DTSTART:20261101T080000
END:STANDARD
BEGIN:DAYLIGHT
TZOFFSETFROM:-0700
TZOFFSETTO:-0600
TZNAME:MDT
DTSTART:20270314T090000
END:DAYLIGHT
BEGIN:STANDARD
TZOFFSETFROM:-0600
TZOFFSETTO:-0700
TZNAME:MST
DTSTART:20271107T080000
END:STANDARD
END:VTIMEZONE
BEGIN:VEVENT
DTSTART;TZID=America/Denver:20261122T123000
DTEND;TZID=America/Denver:20261122T141500
DTSTAMP:20260421T161549
CREATED:20250314T000845Z
LAST-MODIFIED:20260417T023830Z
UID:11793-1795350600-1795356900@www.olmcfssp.org
SUMMARY:Carmel Rookies Chess Club
DESCRIPTION:Carmel Rookies Chess Club for players under 18. Players/parents must RSVP to Mr. Mudd at rdm3rdm3@gmail.com to reserve their spot as space is limited.
URL:https://www.olmcfssp.org/calendar/carmel-rookies-chess-club-80/
END:VEVENT
BEGIN:VEVENT
DTSTART;TZID=America/Denver:20261122T170000
DTEND;TZID=America/Denver:20261122T180000
DTSTAMP:20260421T161549
CREATED:20241129T235329Z
LAST-MODIFIED:20260418T022332Z
UID:10916-1795366800-1795370400@www.olmcfssp.org
SUMMARY:Sung Vespers
DESCRIPTION:
URL:https://www.olmcfssp.org/calendar/sung-vespers-185/
END:VEVENT
END:VCALENDAR