BEGIN:VCALENDAR
VERSION:2.0
PRODID:-//Our Lady of Mt. Carmel - ECPv6.15.20//NONSGML v1.0//EN
CALSCALE:GREGORIAN
METHOD:PUBLISH
X-WR-CALNAME:Our Lady of Mt. Carmel
X-ORIGINAL-URL:https://www.olmcfssp.org
X-WR-CALDESC:Events for Our Lady of Mt. Carmel
REFRESH-INTERVAL;VALUE=DURATION:PT1H
X-Robots-Tag:noindex
X-PUBLISHED-TTL:PT1H
BEGIN:VTIMEZONE
TZID:America/Denver
BEGIN:DAYLIGHT
TZOFFSETFROM:-0700
TZOFFSETTO:-0600
TZNAME:MDT
DTSTART:20260308T090000
END:DAYLIGHT
BEGIN:STANDARD
TZOFFSETFROM:-0600
TZOFFSETTO:-0700
TZNAME:MST
DTSTART:20261101T080000
END:STANDARD
BEGIN:DAYLIGHT
TZOFFSETFROM:-0700
TZOFFSETTO:-0600
TZNAME:MDT
DTSTART:20270314T090000
END:DAYLIGHT
BEGIN:STANDARD
TZOFFSETFROM:-0600
TZOFFSETTO:-0700
TZNAME:MST
DTSTART:20271107T080000
END:STANDARD
BEGIN:DAYLIGHT
TZOFFSETFROM:-0700
TZOFFSETTO:-0600
TZNAME:MDT
DTSTART:20280312T090000
END:DAYLIGHT
BEGIN:STANDARD
TZOFFSETFROM:-0600
TZOFFSETTO:-0700
TZNAME:MST
DTSTART:20281105T080000
END:STANDARD
END:VTIMEZONE
BEGIN:VEVENT
DTSTART;TZID=America/Denver:20271004T180000
DTEND;TZID=America/Denver:20271004T190000
DTSTAMP:20260422T161756
CREATED:20260123T030839Z
LAST-MODIFIED:20260417T023834Z
UID:13881-1822672800-1822676400@www.olmcfssp.org
SUMMARY:Legion of Mary Meeting
DESCRIPTION:The legion exists to be a sign of Mary’s maternal love for the world and a means of enlisting all her children in the Church’s evangelizing work. It is at the disposal of the parish priest for any form of service deemed useful for the welfare of the Church.
URL:https://www.olmcfssp.org/calendar/legion-of-mary-meeting-484/
END:VEVENT
BEGIN:VEVENT
DTSTART;TZID=America/Denver:20271003T170000
DTEND;TZID=America/Denver:20271003T180000
DTSTAMP:20260422T161756
CREATED:20251004T010842Z
LAST-MODIFIED:20260418T022334Z
UID:13166-1822582800-1822586400@www.olmcfssp.org
SUMMARY:Sung Vespers
DESCRIPTION:
URL:https://www.olmcfssp.org/calendar/sung-vespers-230/
END:VEVENT
BEGIN:VEVENT
DTSTART;TZID=America/Denver:20271002T093000
DTEND;TZID=America/Denver:20271002T113000
DTSTAMP:20260422T161756
CREATED:20251004T035501Z
LAST-MODIFIED:20260418T055332Z
UID:13177-1822469400-1822476600@www.olmcfssp.org
SUMMARY:Confraternity of Christian Mothers
DESCRIPTION:All women aged 16 and up of all walks of life are invited to attend. Some of us are called to physical motherhood\, but we are all called to spiritual motherhood. 
URL:https://www.olmcfssp.org/calendar/confraternity-of-christian-mothers-100/
END:VEVENT
BEGIN:VEVENT
DTSTART;TZID=America/Denver:20270930T093000
DTEND;TZID=America/Denver:20270930T103000
DTSTAMP:20260422T161756
CREATED:20260123T030838Z
LAST-MODIFIED:20260417T023834Z
UID:13879-1822296600-1822300200@www.olmcfssp.org
SUMMARY:Legion of Mary Meeting
DESCRIPTION:The legion exists to be a sign of Mary’s maternal love for the world and a means of enlisting all her children in the Church’s evangelizing work. It is at the disposal of the parish priest for any form of service deemed useful for the welfare of the Church.
URL:https://www.olmcfssp.org/calendar/legion-of-mary-meeting-483/
END:VEVENT
BEGIN:VEVENT
DTSTART;TZID=America/Denver:20270929T190000
DTEND;TZID=America/Denver:20270929T203000
DTSTAMP:20260422T161756
CREATED:20251004T020831Z
LAST-MODIFIED:20260418T032330Z
UID:13169-1822244400-1822249800@www.olmcfssp.org
SUMMARY:Choir Practice
DESCRIPTION:
URL:https://www.olmcfssp.org/calendar/choir-practice-241/
END:VEVENT
BEGIN:VEVENT
DTSTART;TZID=America/Denver:20270928T170000
DTEND;TZID=America/Denver:20270928T180000
DTSTAMP:20260422T161756
CREATED:20251004T010842Z
LAST-MODIFIED:20260418T022334Z
UID:13165-1822150800-1822154400@www.olmcfssp.org
SUMMARY:Shepherds of Christ Prayer Group
DESCRIPTION:
URL:https://www.olmcfssp.org/calendar/shepherds-of-christ-prayer-group-243/
END:VEVENT
BEGIN:VEVENT
DTSTART;TZID=America/Denver:20270928T093000
DTEND;TZID=America/Denver:20270928T110000
DTSTAMP:20260422T161756
CREATED:20251004T022332Z
LAST-MODIFIED:20260418T053836Z
UID:13172-1822123800-1822129200@www.olmcfssp.org
SUMMARY:Tuesday Morning Book Club
DESCRIPTION:The Tuesday morning book club meets to read and discuss a selected book that assists with spiritual growth and knowledge of our wonderful Catholic faith. All members of the parish are welcome to drop by and check us out.
URL:https://www.olmcfssp.org/calendar/tuesday-morning-book-club-242/
END:VEVENT
BEGIN:VEVENT
DTSTART;TZID=America/Denver:20270927T180000
DTEND;TZID=America/Denver:20270927T190000
DTSTAMP:20260422T161756
CREATED:20260116T030841Z
LAST-MODIFIED:20260417T023834Z
UID:13847-1822068000-1822071600@www.olmcfssp.org
SUMMARY:Legion of Mary Meeting
DESCRIPTION:The legion exists to be a sign of Mary’s maternal love for the world and a means of enlisting all her children in the Church’s evangelizing work. It is at the disposal of the parish priest for any form of service deemed useful for the welfare of the Church.
URL:https://www.olmcfssp.org/calendar/legion-of-mary-meeting-482/
END:VEVENT
BEGIN:VEVENT
DTSTART;TZID=America/Denver:20270926T170000
DTEND;TZID=America/Denver:20270926T180000
DTSTAMP:20260422T161756
CREATED:20250927T010844Z
LAST-MODIFIED:20260418T022334Z
UID:13131-1821978000-1821981600@www.olmcfssp.org
SUMMARY:Sung Vespers
DESCRIPTION:
URL:https://www.olmcfssp.org/calendar/sung-vespers-229/
END:VEVENT
BEGIN:VEVENT
DTSTART;TZID=America/Denver:20270926T123000
DTEND;TZID=America/Denver:20270926T141500
DTSTAMP:20260422T161756
CREATED:20260116T030841Z
LAST-MODIFIED:20260417T023834Z
UID:13846-1821961800-1821968100@www.olmcfssp.org
SUMMARY:Carmel Rookies Chess Club
DESCRIPTION:Carmel Rookies Chess Club for players under 18. Players/parents must RSVP to Mr. Mudd at rdm3rdm3@gmail.com to reserve their spot as space is limited.
URL:https://www.olmcfssp.org/calendar/carmel-rookies-chess-club-90/
END:VEVENT
BEGIN:VEVENT
DTSTART;TZID=America/Denver:20270926T120000
DTEND;TZID=America/Denver:20270926T143000
DTSTAMP:20260422T161756
CREATED:20250927T034002Z
LAST-MODIFIED:20260418T055332Z
UID:13146-1821960000-1821969000@www.olmcfssp.org
SUMMARY:Adult Chess Club
DESCRIPTION:For players 18 and over. Players must RSVP to Mr. Mudd at rdm3rdm3@gmail.com to reserve their spot as space is limited.
URL:https://www.olmcfssp.org/calendar/adult-chess-club-13/
END:VEVENT
BEGIN:VEVENT
DTSTART;TZID=America/Denver:20270925T101500
DTEND;TZID=America/Denver:20270925T110000
DTSTAMP:20260422T161756
CREATED:20250927T040829Z
LAST-MODIFIED:20260418T060828Z
UID:13149-1821867300-1821870000@www.olmcfssp.org
SUMMARY:Planned Parenthood Prayer Vigil
DESCRIPTION:Please join us for our monthly parish prayer vigil at Planned Parenthood starting at 10:15 am. The facility is located at 7155 E 38th Ave. in Denver.
URL:https://www.olmcfssp.org/calendar/planned-parenthood-prayer-vigil-70/
END:VEVENT
BEGIN:VEVENT
DTSTART;TZID=America/Denver:20270923T093000
DTEND;TZID=America/Denver:20270923T103000
DTSTAMP:20260422T161756
CREATED:20260116T030841Z
LAST-MODIFIED:20260417T023834Z
UID:13845-1821691800-1821695400@www.olmcfssp.org
SUMMARY:Legion of Mary Meeting
DESCRIPTION:The legion exists to be a sign of Mary’s maternal love for the world and a means of enlisting all her children in the Church’s evangelizing work. It is at the disposal of the parish priest for any form of service deemed useful for the welfare of the Church.
URL:https://www.olmcfssp.org/calendar/legion-of-mary-meeting-481/
END:VEVENT
BEGIN:VEVENT
DTSTART;TZID=America/Denver:20270922T190000
DTEND;TZID=America/Denver:20270922T203000
DTSTAMP:20260422T161756
CREATED:20250927T015429Z
LAST-MODIFIED:20260418T032330Z
UID:13136-1821639600-1821645000@www.olmcfssp.org
SUMMARY:Choir Practice
DESCRIPTION:
URL:https://www.olmcfssp.org/calendar/choir-practice-240/
END:VEVENT
BEGIN:VEVENT
DTSTART;TZID=America/Denver:20270922T180000
DTEND;TZID=America/Denver:20270922T210000
DTSTAMP:20260422T161756
CREATED:20260116T030841Z
LAST-MODIFIED:20260417T023834Z
UID:13844-1821636000-1821646800@www.olmcfssp.org
SUMMARY:Hibernia Music Group
DESCRIPTION:An OLMC acoustic music group. We play traditional Irish\, Folk and Americana music. All are welcome to join us\, beginner or advanced\, Instrumentalist or Vocalist. Our goal is to sharpen our skills\, increase our musical knowledge\, have good Catholic fellowship\, and share our music.
URL:https://www.olmcfssp.org/calendar/hibernia-music-group-109/
END:VEVENT
BEGIN:VEVENT
DTSTART;TZID=America/Denver:20270921T170000
DTEND;TZID=America/Denver:20270921T180000
DTSTAMP:20260422T161756
CREATED:20250927T010844Z
LAST-MODIFIED:20260418T022334Z
UID:13130-1821546000-1821549600@www.olmcfssp.org
SUMMARY:Shepherds of Christ Prayer Group
DESCRIPTION:
URL:https://www.olmcfssp.org/calendar/shepherds-of-christ-prayer-group-242/
END:VEVENT
BEGIN:VEVENT
DTSTART;TZID=America/Denver:20270921T093000
DTEND;TZID=America/Denver:20270921T110000
DTSTAMP:20260422T161756
CREATED:20250927T022348Z
LAST-MODIFIED:20260418T053836Z
UID:13141-1821519000-1821524400@www.olmcfssp.org
SUMMARY:Tuesday Morning Book Club
DESCRIPTION:The Tuesday morning book club meets to read and discuss a selected book that assists with spiritual growth and knowledge of our wonderful Catholic faith. All members of the parish are welcome to drop by and check us out.
URL:https://www.olmcfssp.org/calendar/tuesday-morning-book-club-241/
END:VEVENT
BEGIN:VEVENT
DTSTART;TZID=America/Denver:20270920T180000
DTEND;TZID=America/Denver:20270920T190000
DTSTAMP:20260422T161756
CREATED:20260109T030836Z
LAST-MODIFIED:20260417T023834Z
UID:13795-1821463200-1821466800@www.olmcfssp.org
SUMMARY:Legion of Mary Meeting
DESCRIPTION:The legion exists to be a sign of Mary’s maternal love for the world and a means of enlisting all her children in the Church’s evangelizing work. It is at the disposal of the parish priest for any form of service deemed useful for the welfare of the Church.
URL:https://www.olmcfssp.org/calendar/legion-of-mary-meeting-480/
END:VEVENT
BEGIN:VEVENT
DTSTART;TZID=America/Denver:20270919T170000
DTEND;TZID=America/Denver:20270919T180000
DTSTAMP:20260422T161756
CREATED:20250920T010842Z
LAST-MODIFIED:20260418T022334Z
UID:13096-1821373200-1821376800@www.olmcfssp.org
SUMMARY:Sung Vespers
DESCRIPTION:
URL:https://www.olmcfssp.org/calendar/sung-vespers-228/
END:VEVENT
BEGIN:VEVENT
DTSTART;TZID=America/Denver:20270919T123000
DTEND;TZID=America/Denver:20270919T140000
DTSTAMP:20260422T161756
CREATED:20250920T022333Z
LAST-MODIFIED:20260418T053836Z
UID:13106-1821357000-1821362400@www.olmcfssp.org
SUMMARY:Creation Study Group
DESCRIPTION:This group is dedicated to studying the traditional Catholic teaching on creation and Genesis as believed and taught by the Doctors\, Fathers\, Councils and Popes for two thousand years. We explore various aspects of the creation/evolutionism debate and the effects of evolutionary thought on culture\, science and the Church. As Pope St Pius X said about Modernism\, that it is the “synthesis of all heresies.” And “the chief of their doctrines\, that of evolution.” \nAll are welcome to attend and contribute their experience and expertise.
URL:https://www.olmcfssp.org/calendar/creation-study-group-47/
END:VEVENT
BEGIN:VEVENT
DTSTART;TZID=America/Denver:20270918T093000
DTEND;TZID=America/Denver:20270918T120000
DTSTAMP:20260422T161756
CREATED:20250920T033836Z
LAST-MODIFIED:20260418T055331Z
UID:13111-1821259800-1821268800@www.olmcfssp.org
SUMMARY:Altar and Rosary Society Meeting
DESCRIPTION:The Altar and Rosary Society is an organization of women who foster and spread devotion to the Holy Rosary\, maintain the cleanliness of the church sanctuary\, wash and iron altar linens\, and arrange flowers for the altar.
URL:https://www.olmcfssp.org/calendar/altar-and-rosary-society-meeting-48/
END:VEVENT
BEGIN:VEVENT
DTSTART;TZID=America/Denver:20270916T093000
DTEND;TZID=America/Denver:20270916T110000
DTSTAMP:20260422T161756
CREATED:20250920T013837Z
LAST-MODIFIED:20260418T025330Z
UID:13099-1821087000-1821092400@www.olmcfssp.org
SUMMARY:St. Therese Book Club
DESCRIPTION:Come and study the works of St. Therese as a group. All are welcome.
URL:https://www.olmcfssp.org/calendar/st-therese-book-club-55/
END:VEVENT
BEGIN:VEVENT
DTSTART;TZID=America/Denver:20270916T093000
DTEND;TZID=America/Denver:20270916T103000
DTSTAMP:20260422T161756
CREATED:20260109T030836Z
LAST-MODIFIED:20260417T023834Z
UID:13793-1821087000-1821090600@www.olmcfssp.org
SUMMARY:Legion of Mary Meeting
DESCRIPTION:The legion exists to be a sign of Mary’s maternal love for the world and a means of enlisting all her children in the Church’s evangelizing work. It is at the disposal of the parish priest for any form of service deemed useful for the welfare of the Church.
URL:https://www.olmcfssp.org/calendar/legion-of-mary-meeting-479/
END:VEVENT
BEGIN:VEVENT
DTSTART;TZID=America/Denver:20270915T190000
DTEND;TZID=America/Denver:20270915T203000
DTSTAMP:20260422T161756
CREATED:20250920T015335Z
LAST-MODIFIED:20260418T032329Z
UID:13102-1821034800-1821040200@www.olmcfssp.org
SUMMARY:Choir Practice
DESCRIPTION:
URL:https://www.olmcfssp.org/calendar/choir-practice-239/
END:VEVENT
BEGIN:VEVENT
DTSTART;TZID=America/Denver:20270914T170000
DTEND;TZID=America/Denver:20270914T180000
DTSTAMP:20260422T161756
CREATED:20250920T010842Z
LAST-MODIFIED:20260418T022334Z
UID:13095-1820941200-1820944800@www.olmcfssp.org
SUMMARY:Shepherds of Christ Prayer Group
DESCRIPTION:
URL:https://www.olmcfssp.org/calendar/shepherds-of-christ-prayer-group-241/
END:VEVENT
BEGIN:VEVENT
DTSTART;TZID=America/Denver:20270914T093000
DTEND;TZID=America/Denver:20270914T110000
DTSTAMP:20260422T161756
CREATED:20250920T022333Z
LAST-MODIFIED:20260418T053836Z
UID:13105-1820914200-1820919600@www.olmcfssp.org
SUMMARY:Tuesday Morning Book Club
DESCRIPTION:The Tuesday morning book club meets to read and discuss a selected book that assists with spiritual growth and knowledge of our wonderful Catholic faith. All members of the parish are welcome to drop by and check us out.
URL:https://www.olmcfssp.org/calendar/tuesday-morning-book-club-240/
END:VEVENT
BEGIN:VEVENT
DTSTART;TZID=America/Denver:20270914T093000
DTEND;TZID=America/Denver:20270914T103000
DTSTAMP:20260422T161756
CREATED:20250920T010842Z
LAST-MODIFIED:20260418T022334Z
UID:13094-1820914200-1820917800@www.olmcfssp.org
SUMMARY:Holy Face Devotion Group
DESCRIPTION:His Holy Face Ministry’s mission is to bring the Face of God back into the world to breathe life into souls by making reparation for the sins committed against the majesty of God and the Catholic Church. Join us as a community in making public reparation before a 2nd class relic image of the Veil of St. Veronica on the second Tuesday or third Saturday of each month after the 8:30 AM mass. We also offer presentations on the Holy Face Devotion\, a Home Enthronement Program with the image\, and a Parish Enthronement Program to share with a wider audience.
URL:https://www.olmcfssp.org/calendar/holy-face-devotion-group-62/
END:VEVENT
BEGIN:VEVENT
DTSTART;TZID=America/Denver:20270913T180000
DTEND;TZID=America/Denver:20270913T190000
DTSTAMP:20260422T161756
CREATED:20260102T030838Z
LAST-MODIFIED:20260417T023834Z
UID:13755-1820858400-1820862000@www.olmcfssp.org
SUMMARY:Legion of Mary Meeting
DESCRIPTION:The legion exists to be a sign of Mary’s maternal love for the world and a means of enlisting all her children in the Church’s evangelizing work. It is at the disposal of the parish priest for any form of service deemed useful for the welfare of the Church.
URL:https://www.olmcfssp.org/calendar/legion-of-mary-meeting-478/
END:VEVENT
BEGIN:VEVENT
DTSTART;TZID=America/Denver:20270912T170000
DTEND;TZID=America/Denver:20270912T180000
DTSTAMP:20260422T161756
CREATED:20250913T005351Z
LAST-MODIFIED:20260418T022334Z
UID:13061-1820768400-1820772000@www.olmcfssp.org
SUMMARY:Sung Vespers
DESCRIPTION:
URL:https://www.olmcfssp.org/calendar/sung-vespers-227/
END:VEVENT
BEGIN:VEVENT
DTSTART;TZID=America/Denver:20270912T123000
DTEND;TZID=America/Denver:20270912T140000
DTSTAMP:20260422T161756
CREATED:20260102T030838Z
LAST-MODIFIED:20260417T023834Z
UID:13754-1820752200-1820757600@www.olmcfssp.org
SUMMARY:Knights of Columbus Meeting
DESCRIPTION:As faithful Catholics\, we are called to be salt and light in this material world. As traditional Catholics within the Church Universal\, we are sometimes called\, in charity\, to bring more illumination and flavor to our fellow Catholics. Let us join with him in spreading the message within the Knights of Columbus.
URL:https://www.olmcfssp.org/calendar/knights-of-columbus-meeting-54/
END:VEVENT
END:VCALENDAR