BEGIN:VCALENDAR
VERSION:2.0
PRODID:-//Our Lady of Mt. Carmel - ECPv6.15.20//NONSGML v1.0//EN
CALSCALE:GREGORIAN
METHOD:PUBLISH
X-ORIGINAL-URL:https://www.olmcfssp.org
X-WR-CALDESC:Events for Our Lady of Mt. Carmel
REFRESH-INTERVAL;VALUE=DURATION:PT1H
X-Robots-Tag:noindex
X-PUBLISHED-TTL:PT1H
BEGIN:VTIMEZONE
TZID:America/Denver
BEGIN:DAYLIGHT
TZOFFSETFROM:-0700
TZOFFSETTO:-0600
TZNAME:MDT
DTSTART:20250309T090000
END:DAYLIGHT
BEGIN:STANDARD
TZOFFSETFROM:-0600
TZOFFSETTO:-0700
TZNAME:MST
DTSTART:20251102T080000
END:STANDARD
BEGIN:DAYLIGHT
TZOFFSETFROM:-0700
TZOFFSETTO:-0600
TZNAME:MDT
DTSTART:20260308T090000
END:DAYLIGHT
BEGIN:STANDARD
TZOFFSETFROM:-0600
TZOFFSETTO:-0700
TZNAME:MST
DTSTART:20261101T080000
END:STANDARD
BEGIN:DAYLIGHT
TZOFFSETFROM:-0700
TZOFFSETTO:-0600
TZNAME:MDT
DTSTART:20270314T090000
END:DAYLIGHT
BEGIN:STANDARD
TZOFFSETFROM:-0600
TZOFFSETTO:-0700
TZNAME:MST
DTSTART:20271107T080000
END:STANDARD
END:VTIMEZONE
BEGIN:VEVENT
DTSTART;TZID=America/Denver:20260718T093000
DTEND;TZID=America/Denver:20260718T120000
DTSTAMP:20260420T161924
CREATED:20240719T220849Z
LAST-MODIFIED:20260418T055330Z
UID:9657-1784367000-1784376000@www.olmcfssp.org
SUMMARY:Altar and Rosary Society Meeting
DESCRIPTION:The Altar and Rosary Society is an organization of women who foster and spread devotion to the Holy Rosary\, maintain the cleanliness of the church sanctuary\, wash and iron altar linens\, and arrange flowers for the altar.
URL:https://www.olmcfssp.org/calendar/altar-and-rosary-society-meeting-34/
END:VEVENT
BEGIN:VEVENT
DTSTART;TZID=America/Denver:20260719T123000
DTEND;TZID=America/Denver:20260719T140000
DTSTAMP:20260420T161924
CREATED:20240719T221049Z
LAST-MODIFIED:20260418T053834Z
UID:9842-1784464200-1784469600@www.olmcfssp.org
SUMMARY:Creation Study Group
DESCRIPTION:This group is dedicated to studying the traditional Catholic teaching on creation and Genesis as believed and taught by the Doctors\, Fathers\, Councils and Popes for two thousand years. We explore various aspects of the creation/evolutionism debate and the effects of evolutionary thought on culture\, science and the Church. As Pope St Pius X said about Modernism\, that it is the “synthesis of all heresies.” And “the chief of their doctrines\, that of evolution.” \nAll are welcome to attend and contribute their experience and expertise.
URL:https://www.olmcfssp.org/calendar/creation-study-group-33/
END:VEVENT
BEGIN:VEVENT
DTSTART;TZID=America/Denver:20260719T140000
DTEND;TZID=America/Denver:20260719T170000
DTSTAMP:20260420T161924
CREATED:20241109T032334Z
LAST-MODIFIED:20260417T023829Z
UID:10725-1784469600-1784480400@www.olmcfssp.org
SUMMARY:Laeta Vita
DESCRIPTION:Leata Vita (Joyful Life) is a group for single women ages 18-35. The purpose of our group is to meet and grow in fellowship with other women who are in a similar season of life. We meet two times a month. The first meeting of the month consists of discussing a book as part of our book club and socializing with each other. The second meeting of the month consists of a fun outing or activity (and every now and then something charitable for the parish or some other organization)\, meant to give the members a chance to get out and have some fun.
URL:https://www.olmcfssp.org/calendar/laeta-vita-74/
END:VEVENT
BEGIN:VEVENT
DTSTART;TZID=America/Denver:20260719T170000
DTEND;TZID=America/Denver:20260719T180000
DTSTAMP:20260420T161924
CREATED:20240719T215342Z
LAST-MODIFIED:20260418T022331Z
UID:9624-1784480400-1784484000@www.olmcfssp.org
SUMMARY:Sung Vespers
DESCRIPTION:
URL:https://www.olmcfssp.org/calendar/sung-vespers-167/
END:VEVENT
BEGIN:VEVENT
DTSTART;TZID=America/Denver:20260720T180000
DTEND;TZID=America/Denver:20260720T190000
DTSTAMP:20260420T161924
CREATED:20241109T032334Z
LAST-MODIFIED:20260417T023829Z
UID:10726-1784570400-1784574000@www.olmcfssp.org
SUMMARY:Legion of Mary Meeting
DESCRIPTION:The legion exists to be a sign of Mary’s maternal love for the world and a means of enlisting all her children in the Church’s evangelizing work. It is at the disposal of the parish priest for any form of service deemed useful for the welfare of the Church.
URL:https://www.olmcfssp.org/calendar/legion-of-mary-meeting-358/
END:VEVENT
BEGIN:VEVENT
DTSTART;TZID=America/Denver:20260721T093000
DTEND;TZID=America/Denver:20260721T110000
DTSTAMP:20260420T161924
CREATED:20240726T230849Z
LAST-MODIFIED:20260418T053834Z
UID:9907-1784626200-1784631600@www.olmcfssp.org
SUMMARY:Tuesday Morning Book Club
DESCRIPTION:The Tuesday morning book club meets to read and discuss a selected book that assists with spiritual growth and knowledge of our wonderful Catholic faith. All members of the parish are welcome to drop by and check us out.
URL:https://www.olmcfssp.org/calendar/tuesday-morning-book-club-180/
END:VEVENT
BEGIN:VEVENT
DTSTART;TZID=America/Denver:20260721T170000
DTEND;TZID=America/Denver:20260721T180000
DTSTAMP:20260420T161924
CREATED:20240726T220850Z
LAST-MODIFIED:20260418T022331Z
UID:9890-1784653200-1784656800@www.olmcfssp.org
SUMMARY:Shepherds of Christ Prayer Group
DESCRIPTION:
URL:https://www.olmcfssp.org/calendar/shepherds-of-christ-prayer-group-181/
END:VEVENT
BEGIN:VEVENT
DTSTART;TZID=America/Denver:20260722T180000
DTEND;TZID=America/Denver:20260722T210000
DTSTAMP:20260420T161924
CREATED:20241206T002344Z
LAST-MODIFIED:20260417T023829Z
UID:10942-1784743200-1784754000@www.olmcfssp.org
SUMMARY:Hibernia Music Group
DESCRIPTION:An OLMC acoustic music group. We play traditional Irish\, Folk and Americana music. All are welcome to join us\, beginner or advanced\, Instrumentalist or Vocalist. Our goal is to sharpen our skills\, increase our musical knowledge\, have good Catholic fellowship\, and share our music.
URL:https://www.olmcfssp.org/calendar/hibernia-music-group-81/
END:VEVENT
BEGIN:VEVENT
DTSTART;TZID=America/Denver:20260722T190000
DTEND;TZID=America/Denver:20260722T203000
DTSTAMP:20260420T161924
CREATED:20240726T231020Z
LAST-MODIFIED:20260418T032328Z
UID:9908-1784746800-1784752200@www.olmcfssp.org
SUMMARY:Choir Practice
DESCRIPTION:
URL:https://www.olmcfssp.org/calendar/choir-practice-179/
END:VEVENT
BEGIN:VEVENT
DTSTART;TZID=America/Denver:20260723T093000
DTEND;TZID=America/Denver:20260723T103000
DTSTAMP:20260420T161924
CREATED:20241213T002342Z
LAST-MODIFIED:20260417T023829Z
UID:11005-1784799000-1784802600@www.olmcfssp.org
SUMMARY:Legion of Mary Meeting
DESCRIPTION:The legion exists to be a sign of Mary’s maternal love for the world and a means of enlisting all her children in the Church’s evangelizing work. It is at the disposal of the parish priest for any form of service deemed useful for the welfare of the Church.
URL:https://www.olmcfssp.org/calendar/legion-of-mary-meeting-359/
END:VEVENT
BEGIN:VEVENT
DTSTART;TZID=America/Denver:20260725T101500
DTEND;TZID=America/Denver:20260725T110000
DTSTAMP:20260420T161924
CREATED:20240726T232345Z
LAST-MODIFIED:20260418T060827Z
UID:9910-1784974500-1784977200@www.olmcfssp.org
SUMMARY:Planned Parenthood Prayer Vigil
DESCRIPTION:Please join us for our monthly parish prayer vigil at Planned Parenthood starting at 10:15 am. The facility is located at 7155 E 38th Ave. in Denver.
URL:https://www.olmcfssp.org/calendar/planned-parenthood-prayer-vigil-56/
END:VEVENT
BEGIN:VEVENT
DTSTART;TZID=America/Denver:20260726T123000
DTEND;TZID=America/Denver:20260726T141500
DTSTAMP:20260420T161924
CREATED:20241213T002342Z
LAST-MODIFIED:20260417T023829Z
UID:11006-1785069000-1785075300@www.olmcfssp.org
SUMMARY:Carmel Rookies Chess Club
DESCRIPTION:Carmel Rookies Chess Club for players under 18. Players/parents must RSVP to Mr. Mudd at rdm3rdm3@gmail.com to reserve their spot as space is limited.
URL:https://www.olmcfssp.org/calendar/carmel-rookies-chess-club-76/
END:VEVENT
BEGIN:VEVENT
DTSTART;TZID=America/Denver:20260726T170000
DTEND;TZID=America/Denver:20260726T180000
DTSTAMP:20260420T161924
CREATED:20240726T220850Z
LAST-MODIFIED:20260418T022331Z
UID:9891-1785085200-1785088800@www.olmcfssp.org
SUMMARY:Sung Vespers
DESCRIPTION:
URL:https://www.olmcfssp.org/calendar/sung-vespers-168/
END:VEVENT
BEGIN:VEVENT
DTSTART;TZID=America/Denver:20260727T180000
DTEND;TZID=America/Denver:20260727T190000
DTSTAMP:20260420T161924
CREATED:20241213T002342Z
LAST-MODIFIED:20260417T023829Z
UID:11007-1785175200-1785178800@www.olmcfssp.org
SUMMARY:Legion of Mary Meeting
DESCRIPTION:The legion exists to be a sign of Mary’s maternal love for the world and a means of enlisting all her children in the Church’s evangelizing work. It is at the disposal of the parish priest for any form of service deemed useful for the welfare of the Church.
URL:https://www.olmcfssp.org/calendar/legion-of-mary-meeting-360/
END:VEVENT
BEGIN:VEVENT
DTSTART;TZID=America/Denver:20260728T093000
DTEND;TZID=America/Denver:20260728T110000
DTSTAMP:20260420T161924
CREATED:20240802T230834Z
LAST-MODIFIED:20260418T053834Z
UID:9932-1785231000-1785236400@www.olmcfssp.org
SUMMARY:Tuesday Morning Book Club
DESCRIPTION:The Tuesday morning book club meets to read and discuss a selected book that assists with spiritual growth and knowledge of our wonderful Catholic faith. All members of the parish are welcome to drop by and check us out.
URL:https://www.olmcfssp.org/calendar/tuesday-morning-book-club-181/
END:VEVENT
BEGIN:VEVENT
DTSTART;TZID=America/Denver:20260728T170000
DTEND;TZID=America/Denver:20260728T180000
DTSTAMP:20260420T161924
CREATED:20240802T220837Z
LAST-MODIFIED:20260418T022331Z
UID:9923-1785258000-1785261600@www.olmcfssp.org
SUMMARY:Shepherds of Christ Prayer Group
DESCRIPTION:
URL:https://www.olmcfssp.org/calendar/shepherds-of-christ-prayer-group-182/
END:VEVENT
BEGIN:VEVENT
DTSTART;TZID=America/Denver:20260729T190000
DTEND;TZID=America/Denver:20260729T203000
DTSTAMP:20260420T161924
CREATED:20240802T232515Z
LAST-MODIFIED:20260418T032328Z
UID:9960-1785351600-1785357000@www.olmcfssp.org
SUMMARY:Choir Practice
DESCRIPTION:
URL:https://www.olmcfssp.org/calendar/choir-practice-180/
END:VEVENT
BEGIN:VEVENT
DTSTART;TZID=America/Denver:20260730T093000
DTEND;TZID=America/Denver:20260730T103000
DTSTAMP:20260420T161924
CREATED:20241213T002342Z
LAST-MODIFIED:20260417T023829Z
UID:11008-1785403800-1785407400@www.olmcfssp.org
SUMMARY:Legion of Mary Meeting
DESCRIPTION:The legion exists to be a sign of Mary’s maternal love for the world and a means of enlisting all her children in the Church’s evangelizing work. It is at the disposal of the parish priest for any form of service deemed useful for the welfare of the Church.
URL:https://www.olmcfssp.org/calendar/legion-of-mary-meeting-361/
END:VEVENT
BEGIN:VEVENT
DTSTART;TZID=America/Denver:20260801T093000
DTEND;TZID=America/Denver:20260801T113000
DTSTAMP:20260420T161924
CREATED:20240802T225351Z
LAST-MODIFIED:20260418T055330Z
UID:9929-1785576600-1785583800@www.olmcfssp.org
SUMMARY:Confraternity of Christian Mothers
DESCRIPTION:All women aged 16 and up of all walks of life are invited to attend. Some of us are called to physical motherhood\, but we are all called to spiritual motherhood. 
URL:https://www.olmcfssp.org/calendar/confraternity-of-christian-mothers-86/
END:VEVENT
BEGIN:VEVENT
DTSTART;TZID=America/Denver:20260802T140000
DTEND;TZID=America/Denver:20260802T170000
DTSTAMP:20260420T161924
CREATED:20241220T002337Z
LAST-MODIFIED:20260417T023829Z
UID:11091-1785679200-1785690000@www.olmcfssp.org
SUMMARY:Laeta Vita
DESCRIPTION:Leata Vita (Joyful Life) is a group for single women ages 18-35. The purpose of our group is to meet and grow in fellowship with other women who are in a similar season of life. We meet two times a month. The first meeting of the month consists of discussing a book as part of our book club and socializing with each other. The second meeting of the month consists of a fun outing or activity (and every now and then something charitable for the parish or some other organization)\, meant to give the members a chance to get out and have some fun.
URL:https://www.olmcfssp.org/calendar/laeta-vita-75/
END:VEVENT
BEGIN:VEVENT
DTSTART;TZID=America/Denver:20260802T170000
DTEND;TZID=America/Denver:20260802T180000
DTSTAMP:20260420T161924
CREATED:20240802T220837Z
LAST-MODIFIED:20260418T022331Z
UID:9924-1785690000-1785693600@www.olmcfssp.org
SUMMARY:Sung Vespers
DESCRIPTION:
URL:https://www.olmcfssp.org/calendar/sung-vespers-169/
END:VEVENT
BEGIN:VEVENT
DTSTART;TZID=America/Denver:20260803T180000
DTEND;TZID=America/Denver:20260803T190000
DTSTAMP:20260420T161924
CREATED:20241220T002337Z
LAST-MODIFIED:20260417T023829Z
UID:11092-1785780000-1785783600@www.olmcfssp.org
SUMMARY:Legion of Mary Meeting
DESCRIPTION:The legion exists to be a sign of Mary’s maternal love for the world and a means of enlisting all her children in the Church’s evangelizing work. It is at the disposal of the parish priest for any form of service deemed useful for the welfare of the Church.
URL:https://www.olmcfssp.org/calendar/legion-of-mary-meeting-362/
END:VEVENT
BEGIN:VEVENT
DTSTART;TZID=America/Denver:20260804T093000
DTEND;TZID=America/Denver:20260804T110000
DTSTAMP:20260420T161924
CREATED:20240809T230827Z
LAST-MODIFIED:20260418T053834Z
UID:9998-1785835800-1785841200@www.olmcfssp.org
SUMMARY:Tuesday Morning Book Club
DESCRIPTION:The Tuesday morning book club meets to read and discuss a selected book that assists with spiritual growth and knowledge of our wonderful Catholic faith. All members of the parish are welcome to drop by and check us out.
URL:https://www.olmcfssp.org/calendar/tuesday-morning-book-club-182/
END:VEVENT
BEGIN:VEVENT
DTSTART;TZID=America/Denver:20260804T170000
DTEND;TZID=America/Denver:20260804T180000
DTSTAMP:20260420T161924
CREATED:20240809T220851Z
LAST-MODIFIED:20260418T022331Z
UID:9986-1785862800-1785866400@www.olmcfssp.org
SUMMARY:Shepherds of Christ Prayer Group
DESCRIPTION:
URL:https://www.olmcfssp.org/calendar/shepherds-of-christ-prayer-group-183/
END:VEVENT
BEGIN:VEVENT
DTSTART;TZID=America/Denver:20260805T183000
DTEND;TZID=America/Denver:20260805T203000
DTSTAMP:20260420T161924
CREATED:20240809T223827Z
LAST-MODIFIED:20260418T025329Z
UID:9990-1785954600-1785961800@www.olmcfssp.org
SUMMARY:Safety Team Meeting
DESCRIPTION:The purpose of the OLMC Safety Team is to provide a safe and secure environment for all parishioners and visitors. Primarily\, this is accomplished by the observation of people\, places and events and your assessment of situations and then to follow through with appropriate action.
URL:https://www.olmcfssp.org/calendar/safety-team-meeting-42/
END:VEVENT
BEGIN:VEVENT
DTSTART;TZID=America/Denver:20260805T190000
DTEND;TZID=America/Denver:20260805T203000
DTSTAMP:20260420T161924
CREATED:20240809T235336Z
LAST-MODIFIED:20260418T032328Z
UID:10016-1785956400-1785961800@www.olmcfssp.org
SUMMARY:Choir Practice
DESCRIPTION:
URL:https://www.olmcfssp.org/calendar/choir-practice-181/
END:VEVENT
BEGIN:VEVENT
DTSTART;TZID=America/Denver:20260806T093000
DTEND;TZID=America/Denver:20260806T103000
DTSTAMP:20260420T161924
CREATED:20241220T002337Z
LAST-MODIFIED:20260417T023829Z
UID:11093-1786008600-1786012200@www.olmcfssp.org
SUMMARY:Legion of Mary Meeting
DESCRIPTION:The legion exists to be a sign of Mary’s maternal love for the world and a means of enlisting all her children in the Church’s evangelizing work. It is at the disposal of the parish priest for any form of service deemed useful for the welfare of the Church.
URL:https://www.olmcfssp.org/calendar/legion-of-mary-meeting-363/
END:VEVENT
BEGIN:VEVENT
DTSTART;TZID=America/Denver:20260808T093000
DTEND;TZID=America/Denver:20260808T113000
DTSTAMP:20260420T161924
CREATED:20240809T225338Z
LAST-MODIFIED:20260418T055330Z
UID:9995-1786181400-1786188600@www.olmcfssp.org
SUMMARY:Holy Name Society Meeting
DESCRIPTION:The Holy Name Society is an organization of men striving to grow in holiness. The group is open to all men of the parish over the age of 18. Meetings include Mass\, the recitation of the Holy Rosary\, breakfast and a spiritual talk.
URL:https://www.olmcfssp.org/calendar/holy-name-society-meeting-40/
END:VEVENT
BEGIN:VEVENT
DTSTART;TZID=America/Denver:20260808T093000
DTEND;TZID=America/Denver:20260808T130000
DTSTAMP:20260420T161924
CREATED:20240809T223827Z
LAST-MODIFIED:20260418T025329Z
UID:9991-1786181400-1786194000@www.olmcfssp.org
SUMMARY:St. Teresa of Jesus Association
DESCRIPTION:A formation in the spirituality of St. Teresa of Jesus within a Study Group composed of men and women over the age of 25 years. This formation includes daily Mass\, Lectio Divina\, Divine Office and the living a life of apostolic endeavors: ministering to our families and the world.  The members endeavor to give glory to God\, to honor our Blessed Lady of Carmel and to aid our Holy Mother the Church by their prayers.
URL:https://www.olmcfssp.org/calendar/st-teresa-of-jesus-association-41/
END:VEVENT
BEGIN:VEVENT
DTSTART;TZID=America/Denver:20260808T130000
DTEND;TZID=America/Denver:20260808T160000
DTSTAMP:20260420T161924
CREATED:20241220T002337Z
LAST-MODIFIED:20260417T023829Z
UID:11094-1786194000-1786204800@www.olmcfssp.org
SUMMARY:Hibernia Music Group
DESCRIPTION:An OLMC acoustic music group. We play traditional Irish\, Folk and Americana music. All are welcome to join us\, beginner or advanced\, Instrumentalist or Vocalist. Our goal is to sharpen our skills\, increase our musical knowledge\, have good Catholic fellowship\, and share our music.
URL:https://www.olmcfssp.org/calendar/hibernia-music-group-82/
END:VEVENT
END:VCALENDAR