BEGIN:VCALENDAR
VERSION:2.0
PRODID:-//Our Lady of Mt. Carmel - ECPv6.15.20//NONSGML v1.0//EN
CALSCALE:GREGORIAN
METHOD:PUBLISH
X-WR-CALNAME:Our Lady of Mt. Carmel
X-ORIGINAL-URL:https://www.olmcfssp.org
X-WR-CALDESC:Events for Our Lady of Mt. Carmel
REFRESH-INTERVAL;VALUE=DURATION:PT1H
X-Robots-Tag:noindex
X-PUBLISHED-TTL:PT1H
BEGIN:VTIMEZONE
TZID:America/Denver
BEGIN:DAYLIGHT
TZOFFSETFROM:-0700
TZOFFSETTO:-0600
TZNAME:MDT
DTSTART:20240310T090000
END:DAYLIGHT
BEGIN:STANDARD
TZOFFSETFROM:-0600
TZOFFSETTO:-0700
TZNAME:MST
DTSTART:20241103T080000
END:STANDARD
BEGIN:DAYLIGHT
TZOFFSETFROM:-0700
TZOFFSETTO:-0600
TZNAME:MDT
DTSTART:20250309T090000
END:DAYLIGHT
BEGIN:STANDARD
TZOFFSETFROM:-0600
TZOFFSETTO:-0700
TZNAME:MST
DTSTART:20251102T080000
END:STANDARD
BEGIN:DAYLIGHT
TZOFFSETFROM:-0700
TZOFFSETTO:-0600
TZNAME:MDT
DTSTART:20260308T090000
END:DAYLIGHT
BEGIN:STANDARD
TZOFFSETFROM:-0600
TZOFFSETTO:-0700
TZNAME:MST
DTSTART:20261101T080000
END:STANDARD
END:VTIMEZONE
BEGIN:VEVENT
DTSTART;TZID=America/Denver:20250726T101500
DTEND;TZID=America/Denver:20250726T110000
DTSTAMP:20260422T163642
CREATED:20240712T215501Z
LAST-MODIFIED:20250726T035333Z
UID:9219-1753524900-1753527600@www.olmcfssp.org
SUMMARY:Planned Parenthood Prayer Vigil
DESCRIPTION:Please join us for our monthly parish prayer vigil at Planned Parenthood starting at 10:15 am. The facility is located at 7155 E 38th Ave. in Denver.
URL:https://www.olmcfssp.org/calendar/planned-parenthood-prayer-vigil-44/
END:VEVENT
BEGIN:VEVENT
DTSTART;TZID=America/Denver:20250724T093000
DTEND;TZID=America/Denver:20250724T103000
DTSTAMP:20260422T163642
CREATED:20231117T185329Z
LAST-MODIFIED:20250718T003829Z
UID:8467-1753349400-1753353000@www.olmcfssp.org
SUMMARY:Legion of Mary Meeting
DESCRIPTION:The legion exists to be a sign of Mary’s maternal love for the world and a means of enlisting all her children in the Church’s evangelizing work. It is at the disposal of the parish priest for any form of service deemed useful for the welfare of the Church.
URL:https://www.olmcfssp.org/calendar/legion-of-mary-meeting-255/
END:VEVENT
BEGIN:VEVENT
DTSTART;TZID=America/Denver:20250723T190000
DTEND;TZID=America/Denver:20250723T203000
DTSTAMP:20260422T163642
CREATED:20231027T173640Z
LAST-MODIFIED:20250719T013828Z
UID:7223-1753297200-1753302600@www.olmcfssp.org
SUMMARY:Choir Practice
DESCRIPTION:
URL:https://www.olmcfssp.org/calendar/choir-practice-127/
END:VEVENT
BEGIN:VEVENT
DTSTART;TZID=America/Denver:20250723T180000
DTEND;TZID=America/Denver:20250723T210000
DTSTAMP:20260422T163642
CREATED:20231117T185329Z
LAST-MODIFIED:20250718T003829Z
UID:8466-1753293600-1753304400@www.olmcfssp.org
SUMMARY:Hibernia Music Group
DESCRIPTION:An OLMC acoustic music group. We play traditional Irish\, Folk and Americana music. All are welcome to join us\, beginner or advanced\, Instrumentalist or Vocalist. Our goal is to sharpen our skills\, increase our musical knowledge\, have good Catholic fellowship\, and share our music.
URL:https://www.olmcfssp.org/calendar/hibernia-music-group-57/
END:VEVENT
BEGIN:VEVENT
DTSTART;TZID=America/Denver:20250722T170000
DTEND;TZID=America/Denver:20250722T180000
DTSTAMP:20260422T163642
CREATED:20231027T172513Z
LAST-MODIFIED:20250718T233832Z
UID:6396-1753203600-1753207200@www.olmcfssp.org
SUMMARY:Shepherds of Christ Prayer Group
DESCRIPTION:
URL:https://www.olmcfssp.org/calendar/shepherds-of-christ-prayer-group-129/
END:VEVENT
BEGIN:VEVENT
DTSTART;TZID=America/Denver:20250722T093000
DTEND;TZID=America/Denver:20250722T110000
DTSTAMP:20260422T163642
CREATED:20231027T173408Z
LAST-MODIFIED:20231027T173408Z
UID:7096-1753176600-1753182000@www.olmcfssp.org
SUMMARY:Tuesday Morning Book Club
DESCRIPTION:The Tuesday morning book club meets to read and discuss a selected book that assists with spiritual growth and knowledge of our wonderful Catholic faith. All members of the parish are welcome to drop by and check us out.
URL:https://www.olmcfssp.org/calendar/tuesday-morning-book-club-129/
END:VEVENT
BEGIN:VEVENT
DTSTART;TZID=America/Denver:20250721T180000
DTEND;TZID=America/Denver:20250721T190000
DTSTAMP:20260422T163642
CREATED:20231117T185329Z
LAST-MODIFIED:20250718T003829Z
UID:8465-1753120800-1753124400@www.olmcfssp.org
SUMMARY:Legion of Mary Meeting
DESCRIPTION:The legion exists to be a sign of Mary’s maternal love for the world and a means of enlisting all her children in the Church’s evangelizing work. It is at the disposal of the parish priest for any form of service deemed useful for the welfare of the Church.
URL:https://www.olmcfssp.org/calendar/legion-of-mary-meeting-254/
END:VEVENT
BEGIN:VEVENT
DTSTART;TZID=America/Denver:20250720T170000
DTEND;TZID=America/Denver:20250720T180000
DTSTAMP:20260422T163642
CREATED:20231027T172512Z
LAST-MODIFIED:20250718T233832Z
UID:6395-1753030800-1753034400@www.olmcfssp.org
SUMMARY:Sung Vespers
DESCRIPTION:
URL:https://www.olmcfssp.org/calendar/sung-vespers-115/
END:VEVENT
BEGIN:VEVENT
DTSTART;TZID=America/Denver:20250720T140000
DTEND;TZID=America/Denver:20250720T170000
DTSTAMP:20260422T163642
CREATED:20231110T183834Z
LAST-MODIFIED:20250718T003829Z
UID:8226-1753020000-1753030800@www.olmcfssp.org
SUMMARY:Laeta Vita
DESCRIPTION:Leata Vita (Joyful Life) is a group for single women ages 18-35. The purpose of our group is to meet and grow in fellowship with other women who are in a similar season of life. We meet two times a month. The first meeting of the month consists of discussing a book as part of our book club and socializing with each other. The second meeting of the month consists of a fun outing or activity (and every now and then something charitable for the parish or some other organization)\, meant to give the members a chance to get out and have some fun.
URL:https://www.olmcfssp.org/calendar/laeta-vita-49/
END:VEVENT
BEGIN:VEVENT
DTSTART;TZID=America/Denver:20250720T123000
DTEND;TZID=America/Denver:20250720T140000
DTSTAMP:20260422T163642
CREATED:20231027T173408Z
LAST-MODIFIED:20250719T012331Z
UID:7095-1753014600-1753020000@www.olmcfssp.org
SUMMARY:Creation Study Group
DESCRIPTION:This group is dedicated to studying the traditional Catholic teaching on creation and Genesis as believed and taught by the Doctors\, Fathers\, Councils and Popes for two thousand years. We explore various aspects of the creation/evolutionism debate and the effects of evolutionary thought on culture\, science and the Church. As Pope St Pius X said about Modernism\, that it is the “synthesis of all heresies.” And “the chief of their doctrines\, that of evolution.” \nAll are welcome to attend and contribute their experience and expertise.
URL:https://www.olmcfssp.org/calendar/creation-study-group-21/
END:VEVENT
BEGIN:VEVENT
DTSTART;TZID=America/Denver:20250719T093000
DTEND;TZID=America/Denver:20250719T120000
DTSTAMP:20260422T163642
CREATED:20231110T192503Z
LAST-MODIFIED:20250719T033830Z
UID:8274-1752917400-1752926400@www.olmcfssp.org
SUMMARY:Altar and Rosary Society Meeting
DESCRIPTION:The Altar and Rosary Society is an organization of women who foster and spread devotion to the Holy Rosary\, maintain the cleanliness of the church sanctuary\, wash and iron altar linens\, and arrange flowers for the altar.
URL:https://www.olmcfssp.org/calendar/altar-and-rosary-society-meeting-22/
END:VEVENT
BEGIN:VEVENT
DTSTART;TZID=America/Denver:20250717T093000
DTEND;TZID=America/Denver:20250717T110000
DTSTAMP:20260422T163642
CREATED:20231027T174345Z
LAST-MODIFIED:20250712T005335Z
UID:7328-1752744600-1752750000@www.olmcfssp.org
SUMMARY:St. Therese Book Club
DESCRIPTION:Come and study the works of St. Therese as a group. All are welcome.
URL:https://www.olmcfssp.org/calendar/st-therese-book-club-29/
END:VEVENT
BEGIN:VEVENT
DTSTART;TZID=America/Denver:20250717T093000
DTEND;TZID=America/Denver:20250717T103000
DTSTAMP:20260422T163642
CREATED:20231110T183833Z
LAST-MODIFIED:20250711T002329Z
UID:8225-1752744600-1752748200@www.olmcfssp.org
SUMMARY:Legion of Mary Meeting
DESCRIPTION:The legion exists to be a sign of Mary’s maternal love for the world and a means of enlisting all her children in the Church’s evangelizing work. It is at the disposal of the parish priest for any form of service deemed useful for the welfare of the Church.
URL:https://www.olmcfssp.org/calendar/legion-of-mary-meeting-253/
END:VEVENT
BEGIN:VEVENT
DTSTART;TZID=America/Denver:20250716T190000
DTEND;TZID=America/Denver:20250716T203000
DTSTAMP:20260422T163642
CREATED:20231027T173640Z
LAST-MODIFIED:20250712T013829Z
UID:7222-1752692400-1752697800@www.olmcfssp.org
SUMMARY:Choir Practice
DESCRIPTION:
URL:https://www.olmcfssp.org/calendar/choir-practice-126/
END:VEVENT
BEGIN:VEVENT
DTSTART;TZID=America/Denver:20250715T170000
DTEND;TZID=America/Denver:20250715T180000
DTSTAMP:20260422T163642
CREATED:20231027T172512Z
LAST-MODIFIED:20250711T233838Z
UID:6394-1752598800-1752602400@www.olmcfssp.org
SUMMARY:Shepherds of Christ Prayer Group
DESCRIPTION:
URL:https://www.olmcfssp.org/calendar/shepherds-of-christ-prayer-group-128/
END:VEVENT
BEGIN:VEVENT
DTSTART;TZID=America/Denver:20250715T093000
DTEND;TZID=America/Denver:20250715T110000
DTSTAMP:20260422T163642
CREATED:20231027T173408Z
LAST-MODIFIED:20231027T173408Z
UID:7094-1752571800-1752577200@www.olmcfssp.org
SUMMARY:Tuesday Morning Book Club
DESCRIPTION:The Tuesday morning book club meets to read and discuss a selected book that assists with spiritual growth and knowledge of our wonderful Catholic faith. All members of the parish are welcome to drop by and check us out.
URL:https://www.olmcfssp.org/calendar/tuesday-morning-book-club-128/
END:VEVENT
BEGIN:VEVENT
DTSTART;TZID=America/Denver:20250714T180000
DTEND;TZID=America/Denver:20250714T190000
DTSTAMP:20260422T163642
CREATED:20231110T183833Z
LAST-MODIFIED:20250711T002329Z
UID:8224-1752516000-1752519600@www.olmcfssp.org
SUMMARY:Legion of Mary Meeting
DESCRIPTION:The legion exists to be a sign of Mary’s maternal love for the world and a means of enlisting all her children in the Church’s evangelizing work. It is at the disposal of the parish priest for any form of service deemed useful for the welfare of the Church.
URL:https://www.olmcfssp.org/calendar/legion-of-mary-meeting-252/
END:VEVENT
BEGIN:VEVENT
DTSTART;TZID=America/Denver:20250713T170000
DTEND;TZID=America/Denver:20250713T180000
DTSTAMP:20260422T163642
CREATED:20231027T172512Z
LAST-MODIFIED:20250711T233838Z
UID:6393-1752426000-1752429600@www.olmcfssp.org
SUMMARY:Sung Vespers
DESCRIPTION:
URL:https://www.olmcfssp.org/calendar/sung-vespers-114/
END:VEVENT
BEGIN:VEVENT
DTSTART;TZID=America/Denver:20250713T123000
DTEND;TZID=America/Denver:20250713T140000
DTSTAMP:20260422T163643
CREATED:20231103T173839Z
LAST-MODIFIED:20250711T002329Z
UID:7822-1752409800-1752415200@www.olmcfssp.org
SUMMARY:Knights of Columbus Meeting
DESCRIPTION:As faithful Catholics\, we are called to be salt and light in this material world. As traditional Catholics within the Church Universal\, we are sometimes called\, in charity\, to bring more illumination and flavor to our fellow Catholics. Let us join with him in spreading the message within the Knights of Columbus.
URL:https://www.olmcfssp.org/calendar/knights-of-columbus-meeting-28/
END:VEVENT
BEGIN:VEVENT
DTSTART;TZID=America/Denver:20250712T130000
DTEND;TZID=America/Denver:20250712T160000
DTSTAMP:20260422T163643
CREATED:20231027T173158Z
LAST-MODIFIED:20250711T002329Z
UID:6954-1752325200-1752336000@www.olmcfssp.org
SUMMARY:Hibernia Music Group
DESCRIPTION:An OLMC acoustic music group. We play traditional Irish\, Folk and Americana music. All are welcome to join us\, beginner or advanced\, Instrumentalist or Vocalist. Our goal is to sharpen our skills\, increase our musical knowledge\, have good Catholic fellowship\, and share our music.
URL:https://www.olmcfssp.org/calendar/hibernia-music-group-56/
END:VEVENT
BEGIN:VEVENT
DTSTART;TZID=America/Denver:20250712T093000
DTEND;TZID=America/Denver:20250712T130000
DTSTAMP:20260422T163643
CREATED:20231027T174345Z
LAST-MODIFIED:20250712T005335Z
UID:7327-1752312600-1752325200@www.olmcfssp.org
SUMMARY:St. Teresa of Jesus Association
DESCRIPTION:A formation in the spirituality of St. Teresa of Jesus within a Study Group composed of men and women over the age of 25 years. This formation includes daily Mass\, Lectio Divina\, Divine Office and the living a life of apostolic endeavors: ministering to our families and the world.  The members endeavor to give glory to God\, to honor our Blessed Lady of Carmel and to aid our Holy Mother the Church by their prayers.
URL:https://www.olmcfssp.org/calendar/st-teresa-of-jesus-association-28/
END:VEVENT
BEGIN:VEVENT
DTSTART;TZID=America/Denver:20250712T093000
DTEND;TZID=America/Denver:20250712T113000
DTSTAMP:20260422T163643
CREATED:20231027T172919Z
LAST-MODIFIED:20250712T033836Z
UID:6577-1752312600-1752319800@www.olmcfssp.org
SUMMARY:Holy Name Society Meeting
DESCRIPTION:The Holy Name Society is an organization of men striving to grow in holiness. The group is open to all men of the parish over the age of 18. Meetings include Mass\, the recitation of the Holy Rosary\, breakfast and a spiritual talk.
URL:https://www.olmcfssp.org/calendar/holy-name-society-meeting-27/
END:VEVENT
BEGIN:VEVENT
DTSTART;TZID=America/Denver:20250710T093000
DTEND;TZID=America/Denver:20250710T103000
DTSTAMP:20260422T163643
CREATED:20231027T173157Z
LAST-MODIFIED:20250704T002330Z
UID:6953-1752139800-1752143400@www.olmcfssp.org
SUMMARY:Legion of Mary Meeting
DESCRIPTION:The legion exists to be a sign of Mary’s maternal love for the world and a means of enlisting all her children in the Church’s evangelizing work. It is at the disposal of the parish priest for any form of service deemed useful for the welfare of the Church.
URL:https://www.olmcfssp.org/calendar/legion-of-mary-meeting-251/
END:VEVENT
BEGIN:VEVENT
DTSTART;TZID=America/Denver:20250709T190000
DTEND;TZID=America/Denver:20250709T203000
DTSTAMP:20260422T163643
CREATED:20231027T173640Z
LAST-MODIFIED:20250705T013830Z
UID:7221-1752087600-1752093000@www.olmcfssp.org
SUMMARY:Choir Practice
DESCRIPTION:
URL:https://www.olmcfssp.org/calendar/choir-practice-125/
END:VEVENT
BEGIN:VEVENT
DTSTART;TZID=America/Denver:20250708T170000
DTEND;TZID=America/Denver:20250708T180000
DTSTAMP:20260422T163643
CREATED:20231027T172512Z
LAST-MODIFIED:20250704T232333Z
UID:6392-1751994000-1751997600@www.olmcfssp.org
SUMMARY:Shepherds of Christ Prayer Group
DESCRIPTION:
URL:https://www.olmcfssp.org/calendar/shepherds-of-christ-prayer-group-127/
END:VEVENT
BEGIN:VEVENT
DTSTART;TZID=America/Denver:20250708T093000
DTEND;TZID=America/Denver:20250708T110000
DTSTAMP:20260422T163643
CREATED:20231027T173408Z
LAST-MODIFIED:20231027T173408Z
UID:7093-1751967000-1751972400@www.olmcfssp.org
SUMMARY:Tuesday Morning Book Club
DESCRIPTION:The Tuesday morning book club meets to read and discuss a selected book that assists with spiritual growth and knowledge of our wonderful Catholic faith. All members of the parish are welcome to drop by and check us out.
URL:https://www.olmcfssp.org/calendar/tuesday-morning-book-club-127/
END:VEVENT
BEGIN:VEVENT
DTSTART;TZID=America/Denver:20250708T093000
DTEND;TZID=America/Denver:20250708T103000
DTSTAMP:20260422T163643
CREATED:20240110T185519Z
LAST-MODIFIED:20250704T232333Z
UID:8717-1751967000-1751970600@www.olmcfssp.org
SUMMARY:Holy Face Devotion Group
DESCRIPTION:His Holy Face Ministry’s mission is to bring the Face of God back into the world to breathe life into souls by making reparation for the sins committed against the majesty of God and the Catholic Church. Join us as a community in making public reparation before a 2nd class relic image of the Veil of St. Veronica on the second Tuesday or third Saturday of each month after the 8:30 AM mass. We also offer presentations on the Holy Face Devotion\, a Home Enthronement Program with the image\, and a Parish Enthronement Program to share with a wider audience.
URL:https://www.olmcfssp.org/calendar/holy-face-devotion-group-36/
END:VEVENT
BEGIN:VEVENT
DTSTART;TZID=America/Denver:20250707T180000
DTEND;TZID=America/Denver:20250707T190000
DTSTAMP:20260422T163643
CREATED:20231027T173157Z
LAST-MODIFIED:20250704T002330Z
UID:6952-1751911200-1751914800@www.olmcfssp.org
SUMMARY:Legion of Mary Meeting
DESCRIPTION:The legion exists to be a sign of Mary’s maternal love for the world and a means of enlisting all her children in the Church’s evangelizing work. It is at the disposal of the parish priest for any form of service deemed useful for the welfare of the Church.
URL:https://www.olmcfssp.org/calendar/legion-of-mary-meeting-250/
END:VEVENT
BEGIN:VEVENT
DTSTART;TZID=America/Denver:20250706T170000
DTEND;TZID=America/Denver:20250706T180000
DTSTAMP:20260422T163643
CREATED:20231027T172511Z
LAST-MODIFIED:20250704T232333Z
UID:6391-1751821200-1751824800@www.olmcfssp.org
SUMMARY:Sung Vespers
DESCRIPTION:
URL:https://www.olmcfssp.org/calendar/sung-vespers-113/
END:VEVENT
BEGIN:VEVENT
DTSTART;TZID=America/Denver:20250706T140000
DTEND;TZID=America/Denver:20250706T170000
DTSTAMP:20260422T163643
CREATED:20231027T173157Z
LAST-MODIFIED:20250704T002330Z
UID:6951-1751810400-1751821200@www.olmcfssp.org
SUMMARY:Laeta Vita
DESCRIPTION:Leata Vita (Joyful Life) is a group for single women ages 18-35. The purpose of our group is to meet and grow in fellowship with other women who are in a similar season of life. We meet two times a month. The first meeting of the month consists of discussing a book as part of our book club and socializing with each other. The second meeting of the month consists of a fun outing or activity (and every now and then something charitable for the parish or some other organization)\, meant to give the members a chance to get out and have some fun.
URL:https://www.olmcfssp.org/calendar/laeta-vita-48/
END:VEVENT
END:VCALENDAR