BEGIN:VCALENDAR
VERSION:2.0
PRODID:-//Our Lady of Mt. Carmel - ECPv6.15.20//NONSGML v1.0//EN
CALSCALE:GREGORIAN
METHOD:PUBLISH
X-WR-CALNAME:Our Lady of Mt. Carmel
X-ORIGINAL-URL:https://www.olmcfssp.org
X-WR-CALDESC:Events for Our Lady of Mt. Carmel
REFRESH-INTERVAL;VALUE=DURATION:PT1H
X-Robots-Tag:noindex
X-PUBLISHED-TTL:PT1H
BEGIN:VTIMEZONE
TZID:America/Denver
BEGIN:DAYLIGHT
TZOFFSETFROM:-0700
TZOFFSETTO:-0600
TZNAME:MDT
DTSTART:20250309T090000
END:DAYLIGHT
BEGIN:STANDARD
TZOFFSETFROM:-0600
TZOFFSETTO:-0700
TZNAME:MST
DTSTART:20251102T080000
END:STANDARD
BEGIN:DAYLIGHT
TZOFFSETFROM:-0700
TZOFFSETTO:-0600
TZNAME:MDT
DTSTART:20260308T090000
END:DAYLIGHT
BEGIN:STANDARD
TZOFFSETFROM:-0600
TZOFFSETTO:-0700
TZNAME:MST
DTSTART:20261101T080000
END:STANDARD
BEGIN:DAYLIGHT
TZOFFSETFROM:-0700
TZOFFSETTO:-0600
TZNAME:MDT
DTSTART:20270314T090000
END:DAYLIGHT
BEGIN:STANDARD
TZOFFSETFROM:-0600
TZOFFSETTO:-0700
TZNAME:MST
DTSTART:20271107T080000
END:STANDARD
BEGIN:DAYLIGHT
TZOFFSETFROM:-0700
TZOFFSETTO:-0600
TZNAME:MDT
DTSTART:20280312T090000
END:DAYLIGHT
BEGIN:STANDARD
TZOFFSETFROM:-0600
TZOFFSETTO:-0700
TZNAME:MST
DTSTART:20281105T080000
END:STANDARD
END:VTIMEZONE
BEGIN:VEVENT
DTSTART;TZID=America/Denver:20261216T190000
DTEND;TZID=America/Denver:20261216T203000
DTSTAMP:20260422T163005
CREATED:20241221T013831Z
LAST-MODIFIED:20260418T032329Z
UID:11183-1797447600-1797453000@www.olmcfssp.org
SUMMARY:Choir Practice
DESCRIPTION:
URL:https://www.olmcfssp.org/calendar/choir-practice-200/
END:VEVENT
BEGIN:VEVENT
DTSTART;TZID=America/Denver:20261217T093000
DTEND;TZID=America/Denver:20261217T103000
DTSTAMP:20260422T163005
CREATED:20250411T000913Z
LAST-MODIFIED:20260417T023831Z
UID:11941-1797499800-1797503400@www.olmcfssp.org
SUMMARY:Legion of Mary Meeting
DESCRIPTION:The legion exists to be a sign of Mary’s maternal love for the world and a means of enlisting all her children in the Church’s evangelizing work. It is at the disposal of the parish priest for any form of service deemed useful for the welfare of the Church.
URL:https://www.olmcfssp.org/calendar/legion-of-mary-meeting-401/
END:VEVENT
BEGIN:VEVENT
DTSTART;TZID=America/Denver:20261217T093000
DTEND;TZID=America/Denver:20261217T110000
DTSTAMP:20260422T163005
CREATED:20241221T002331Z
LAST-MODIFIED:20260418T025330Z
UID:11138-1797499800-1797505200@www.olmcfssp.org
SUMMARY:St. Therese Book Club
DESCRIPTION:Come and study the works of St. Therese as a group. All are welcome.
URL:https://www.olmcfssp.org/calendar/st-therese-book-club-46/
END:VEVENT
BEGIN:VEVENT
DTSTART;TZID=America/Denver:20261219T093000
DTEND;TZID=America/Denver:20261219T120000
DTSTAMP:20260422T163005
CREATED:20241221T025331Z
LAST-MODIFIED:20260418T055331Z
UID:11187-1797672600-1797681600@www.olmcfssp.org
SUMMARY:Altar and Rosary Society Meeting
DESCRIPTION:The Altar and Rosary Society is an organization of women who foster and spread devotion to the Holy Rosary\, maintain the cleanliness of the church sanctuary\, wash and iron altar linens\, and arrange flowers for the altar.
URL:https://www.olmcfssp.org/calendar/altar-and-rosary-society-meeting-39/
END:VEVENT
BEGIN:VEVENT
DTSTART;TZID=America/Denver:20261220T123000
DTEND;TZID=America/Denver:20261220T140000
DTSTAMP:20260422T163005
CREATED:20241221T003834Z
LAST-MODIFIED:20260418T053834Z
UID:11179-1797769800-1797775200@www.olmcfssp.org
SUMMARY:Creation Study Group
DESCRIPTION:This group is dedicated to studying the traditional Catholic teaching on creation and Genesis as believed and taught by the Doctors\, Fathers\, Councils and Popes for two thousand years. We explore various aspects of the creation/evolutionism debate and the effects of evolutionary thought on culture\, science and the Church. As Pope St Pius X said about Modernism\, that it is the “synthesis of all heresies.” And “the chief of their doctrines\, that of evolution.” \nAll are welcome to attend and contribute their experience and expertise.
URL:https://www.olmcfssp.org/calendar/creation-study-group-38/
END:VEVENT
BEGIN:VEVENT
DTSTART;TZID=America/Denver:20261220T140000
DTEND;TZID=America/Denver:20261220T170000
DTSTAMP:20260422T163005
CREATED:20250411T000913Z
LAST-MODIFIED:20260417T023831Z
UID:11942-1797775200-1797786000@www.olmcfssp.org
SUMMARY:Laeta Vita
DESCRIPTION:Leata Vita (Joyful Life) is a group for single women ages 18-35. The purpose of our group is to meet and grow in fellowship with other women who are in a similar season of life. We meet two times a month. The first meeting of the month consists of discussing a book as part of our book club and socializing with each other. The second meeting of the month consists of a fun outing or activity (and every now and then something charitable for the parish or some other organization)\, meant to give the members a chance to get out and have some fun.
URL:https://www.olmcfssp.org/calendar/laeta-vita-84/
END:VEVENT
BEGIN:VEVENT
DTSTART;TZID=America/Denver:20261220T170000
DTEND;TZID=America/Denver:20261220T180000
DTSTAMP:20260422T163005
CREATED:20241228T000853Z
LAST-MODIFIED:20260418T022332Z
UID:11210-1797786000-1797789600@www.olmcfssp.org
SUMMARY:Sung Vespers
DESCRIPTION:
URL:https://www.olmcfssp.org/calendar/sung-vespers-189/
END:VEVENT
BEGIN:VEVENT
DTSTART;TZID=America/Denver:20261221T180000
DTEND;TZID=America/Denver:20261221T190000
DTSTAMP:20260422T163005
CREATED:20250411T000914Z
LAST-MODIFIED:20260417T023831Z
UID:11943-1797876000-1797879600@www.olmcfssp.org
SUMMARY:Legion of Mary Meeting
DESCRIPTION:The legion exists to be a sign of Mary’s maternal love for the world and a means of enlisting all her children in the Church’s evangelizing work. It is at the disposal of the parish priest for any form of service deemed useful for the welfare of the Church.
URL:https://www.olmcfssp.org/calendar/legion-of-mary-meeting-402/
END:VEVENT
BEGIN:VEVENT
DTSTART;TZID=America/Denver:20261222T093000
DTEND;TZID=America/Denver:20261222T110000
DTSTAMP:20260422T163005
CREATED:20241228T003840Z
LAST-MODIFIED:20260418T053834Z
UID:11217-1797931800-1797937200@www.olmcfssp.org
SUMMARY:Tuesday Morning Book Club
DESCRIPTION:The Tuesday morning book club meets to read and discuss a selected book that assists with spiritual growth and knowledge of our wonderful Catholic faith. All members of the parish are welcome to drop by and check us out.
URL:https://www.olmcfssp.org/calendar/tuesday-morning-book-club-202/
END:VEVENT
BEGIN:VEVENT
DTSTART;TZID=America/Denver:20261222T170000
DTEND;TZID=America/Denver:20261222T180000
DTSTAMP:20260422T163005
CREATED:20241228T000853Z
LAST-MODIFIED:20260418T022332Z
UID:11211-1797958800-1797962400@www.olmcfssp.org
SUMMARY:Shepherds of Christ Prayer Group
DESCRIPTION:
URL:https://www.olmcfssp.org/calendar/shepherds-of-christ-prayer-group-203/
END:VEVENT
BEGIN:VEVENT
DTSTART;TZID=America/Denver:20261223T180000
DTEND;TZID=America/Denver:20261223T210000
DTSTAMP:20260422T163005
CREATED:20250411T000914Z
LAST-MODIFIED:20260417T023831Z
UID:11944-1798048800-1798059600@www.olmcfssp.org
SUMMARY:Hibernia Music Group
DESCRIPTION:An OLMC acoustic music group. We play traditional Irish\, Folk and Americana music. All are welcome to join us\, beginner or advanced\, Instrumentalist or Vocalist. Our goal is to sharpen our skills\, increase our musical knowledge\, have good Catholic fellowship\, and share our music.
URL:https://www.olmcfssp.org/calendar/hibernia-music-group-91/
END:VEVENT
BEGIN:VEVENT
DTSTART;TZID=America/Denver:20261223T190000
DTEND;TZID=America/Denver:20261223T203000
DTSTAMP:20260422T163005
CREATED:20241228T015334Z
LAST-MODIFIED:20260418T032329Z
UID:11222-1798052400-1798057800@www.olmcfssp.org
SUMMARY:Choir Practice
DESCRIPTION:
URL:https://www.olmcfssp.org/calendar/choir-practice-201/
END:VEVENT
BEGIN:VEVENT
DTSTART;TZID=America/Denver:20261224T093000
DTEND;TZID=America/Denver:20261224T103000
DTSTAMP:20260422T163005
CREATED:20250418T000837Z
LAST-MODIFIED:20260417T023831Z
UID:12023-1798104600-1798108200@www.olmcfssp.org
SUMMARY:Legion of Mary Meeting
DESCRIPTION:The legion exists to be a sign of Mary’s maternal love for the world and a means of enlisting all her children in the Church’s evangelizing work. It is at the disposal of the parish priest for any form of service deemed useful for the welfare of the Church.
URL:https://www.olmcfssp.org/calendar/legion-of-mary-meeting-403/
END:VEVENT
BEGIN:VEVENT
DTSTART;TZID=America/Denver:20261226T101500
DTEND;TZID=America/Denver:20261226T110000
DTSTAMP:20260422T163005
CREATED:20241228T030830Z
LAST-MODIFIED:20260418T060827Z
UID:11227-1798280100-1798282800@www.olmcfssp.org
SUMMARY:Planned Parenthood Prayer Vigil
DESCRIPTION:Please join us for our monthly parish prayer vigil at Planned Parenthood starting at 10:15 am. The facility is located at 7155 E 38th Ave. in Denver.
URL:https://www.olmcfssp.org/calendar/planned-parenthood-prayer-vigil-61/
END:VEVENT
BEGIN:VEVENT
DTSTART;TZID=America/Denver:20261227T120000
DTEND;TZID=America/Denver:20261227T143000
DTSTAMP:20260422T163005
CREATED:20241228T025330Z
LAST-MODIFIED:20260418T055331Z
UID:11225-1798372800-1798381800@www.olmcfssp.org
SUMMARY:Adult Chess Club
DESCRIPTION:For players 18 and over. Players must RSVP to Mr. Mudd at rdm3rdm3@gmail.com to reserve their spot as space is limited.
URL:https://www.olmcfssp.org/calendar/adult-chess-club-10/
END:VEVENT
BEGIN:VEVENT
DTSTART;TZID=America/Denver:20261227T123000
DTEND;TZID=America/Denver:20261227T141500
DTSTAMP:20260422T163005
CREATED:20250418T000837Z
LAST-MODIFIED:20260417T023831Z
UID:12024-1798374600-1798380900@www.olmcfssp.org
SUMMARY:Carmel Rookies Chess Club
DESCRIPTION:Carmel Rookies Chess Club for players under 18. Players/parents must RSVP to Mr. Mudd at rdm3rdm3@gmail.com to reserve their spot as space is limited.
URL:https://www.olmcfssp.org/calendar/carmel-rookies-chess-club-81/
END:VEVENT
BEGIN:VEVENT
DTSTART;TZID=America/Denver:20261227T170000
DTEND;TZID=America/Denver:20261227T180000
DTSTAMP:20260422T163005
CREATED:20250104T000835Z
LAST-MODIFIED:20260418T022332Z
UID:11242-1798390800-1798394400@www.olmcfssp.org
SUMMARY:Sung Vespers
DESCRIPTION:
URL:https://www.olmcfssp.org/calendar/sung-vespers-190/
END:VEVENT
BEGIN:VEVENT
DTSTART;TZID=America/Denver:20261228T180000
DTEND;TZID=America/Denver:20261228T190000
DTSTAMP:20260422T163005
CREATED:20250418T000837Z
LAST-MODIFIED:20260417T023831Z
UID:12025-1798480800-1798484400@www.olmcfssp.org
SUMMARY:Legion of Mary Meeting
DESCRIPTION:The legion exists to be a sign of Mary’s maternal love for the world and a means of enlisting all her children in the Church’s evangelizing work. It is at the disposal of the parish priest for any form of service deemed useful for the welfare of the Church.
URL:https://www.olmcfssp.org/calendar/legion-of-mary-meeting-404/
END:VEVENT
BEGIN:VEVENT
DTSTART;TZID=America/Denver:20261229T093000
DTEND;TZID=America/Denver:20261229T110000
DTSTAMP:20260422T163005
CREATED:20250104T005352Z
LAST-MODIFIED:20260418T053834Z
UID:11248-1798536600-1798542000@www.olmcfssp.org
SUMMARY:Tuesday Morning Book Club
DESCRIPTION:The Tuesday morning book club meets to read and discuss a selected book that assists with spiritual growth and knowledge of our wonderful Catholic faith. All members of the parish are welcome to drop by and check us out.
URL:https://www.olmcfssp.org/calendar/tuesday-morning-book-club-203/
END:VEVENT
BEGIN:VEVENT
DTSTART;TZID=America/Denver:20261229T170000
DTEND;TZID=America/Denver:20261229T180000
DTSTAMP:20260422T163005
CREATED:20250104T000835Z
LAST-MODIFIED:20260418T022332Z
UID:11243-1798563600-1798567200@www.olmcfssp.org
SUMMARY:Shepherds of Christ Prayer Group
DESCRIPTION:
URL:https://www.olmcfssp.org/calendar/shepherds-of-christ-prayer-group-204/
END:VEVENT
BEGIN:VEVENT
DTSTART;TZID=America/Denver:20261230T190000
DTEND;TZID=America/Denver:20261230T203000
DTSTAMP:20260422T163005
CREATED:20250104T015331Z
LAST-MODIFIED:20260418T032329Z
UID:11252-1798657200-1798662600@www.olmcfssp.org
SUMMARY:Choir Practice
DESCRIPTION:
URL:https://www.olmcfssp.org/calendar/choir-practice-202/
END:VEVENT
BEGIN:VEVENT
DTSTART;TZID=America/Denver:20261231T093000
DTEND;TZID=America/Denver:20261231T103000
DTSTAMP:20260422T163005
CREATED:20250418T000837Z
LAST-MODIFIED:20260417T023831Z
UID:12026-1798709400-1798713000@www.olmcfssp.org
SUMMARY:Legion of Mary Meeting
DESCRIPTION:The legion exists to be a sign of Mary’s maternal love for the world and a means of enlisting all her children in the Church’s evangelizing work. It is at the disposal of the parish priest for any form of service deemed useful for the welfare of the Church.
URL:https://www.olmcfssp.org/calendar/legion-of-mary-meeting-405/
END:VEVENT
BEGIN:VEVENT
DTSTART;TZID=America/Denver:20270102T093000
DTEND;TZID=America/Denver:20270102T113000
DTSTAMP:20260422T163005
CREATED:20250104T025343Z
LAST-MODIFIED:20260418T055331Z
UID:11256-1798882200-1798889400@www.olmcfssp.org
SUMMARY:Confraternity of Christian Mothers
DESCRIPTION:All women aged 16 and up of all walks of life are invited to attend. Some of us are called to physical motherhood\, but we are all called to spiritual motherhood. 
URL:https://www.olmcfssp.org/calendar/confraternity-of-christian-mothers-91/
END:VEVENT
BEGIN:VEVENT
DTSTART;TZID=America/Denver:20270103T170000
DTEND;TZID=America/Denver:20270103T180000
DTSTAMP:20260422T163005
CREATED:20250111T000840Z
LAST-MODIFIED:20260418T022332Z
UID:11326-1798995600-1798999200@www.olmcfssp.org
SUMMARY:Sung Vespers
DESCRIPTION:
URL:https://www.olmcfssp.org/calendar/sung-vespers-191/
END:VEVENT
BEGIN:VEVENT
DTSTART;TZID=America/Denver:20270104T180000
DTEND;TZID=America/Denver:20270104T190000
DTSTAMP:20260422T163005
CREATED:20250425T000839Z
LAST-MODIFIED:20260417T023831Z
UID:12071-1799085600-1799089200@www.olmcfssp.org
SUMMARY:Legion of Mary Meeting
DESCRIPTION:The legion exists to be a sign of Mary’s maternal love for the world and a means of enlisting all her children in the Church’s evangelizing work. It is at the disposal of the parish priest for any form of service deemed useful for the welfare of the Church.
URL:https://www.olmcfssp.org/calendar/legion-of-mary-meeting-406/
END:VEVENT
BEGIN:VEVENT
DTSTART;TZID=America/Denver:20270105T093000
DTEND;TZID=America/Denver:20270105T110000
DTSTAMP:20260422T163005
CREATED:20250111T005338Z
LAST-MODIFIED:20260418T053834Z
UID:11334-1799141400-1799146800@www.olmcfssp.org
SUMMARY:Tuesday Morning Book Club
DESCRIPTION:The Tuesday morning book club meets to read and discuss a selected book that assists with spiritual growth and knowledge of our wonderful Catholic faith. All members of the parish are welcome to drop by and check us out.
URL:https://www.olmcfssp.org/calendar/tuesday-morning-book-club-204/
END:VEVENT
BEGIN:VEVENT
DTSTART;TZID=America/Denver:20270105T170000
DTEND;TZID=America/Denver:20270105T180000
DTSTAMP:20260422T163005
CREATED:20250111T000840Z
LAST-MODIFIED:20260418T022332Z
UID:11327-1799168400-1799172000@www.olmcfssp.org
SUMMARY:Shepherds of Christ Prayer Group
DESCRIPTION:
URL:https://www.olmcfssp.org/calendar/shepherds-of-christ-prayer-group-205/
END:VEVENT
BEGIN:VEVENT
DTSTART;TZID=America/Denver:20270106T183000
DTEND;TZID=America/Denver:20270106T203000
DTSTAMP:20260422T163005
CREATED:20250111T002329Z
LAST-MODIFIED:20260418T025330Z
UID:11329-1799260200-1799267400@www.olmcfssp.org
SUMMARY:Safety Team Meeting
DESCRIPTION:The purpose of the OLMC Safety Team is to provide a safe and secure environment for all parishioners and visitors. Primarily\, this is accomplished by the observation of people\, places and events and your assessment of situations and then to follow through with appropriate action.
URL:https://www.olmcfssp.org/calendar/safety-team-meeting-47/
END:VEVENT
BEGIN:VEVENT
DTSTART;TZID=America/Denver:20270106T190000
DTEND;TZID=America/Denver:20270106T203000
DTSTAMP:20260422T163005
CREATED:20250111T015337Z
LAST-MODIFIED:20260418T032329Z
UID:11338-1799262000-1799267400@www.olmcfssp.org
SUMMARY:Choir Practice
DESCRIPTION:
URL:https://www.olmcfssp.org/calendar/choir-practice-203/
END:VEVENT
BEGIN:VEVENT
DTSTART;TZID=America/Denver:20270107T093000
DTEND;TZID=America/Denver:20270107T103000
DTSTAMP:20260422T163005
CREATED:20250425T000839Z
LAST-MODIFIED:20260417T023831Z
UID:12072-1799314200-1799317800@www.olmcfssp.org
SUMMARY:Legion of Mary Meeting
DESCRIPTION:The legion exists to be a sign of Mary’s maternal love for the world and a means of enlisting all her children in the Church’s evangelizing work. It is at the disposal of the parish priest for any form of service deemed useful for the welfare of the Church.
URL:https://www.olmcfssp.org/calendar/legion-of-mary-meeting-407/
END:VEVENT
END:VCALENDAR