BEGIN:VCALENDAR
VERSION:2.0
PRODID:-//Our Lady of Mt. Carmel - ECPv6.15.20//NONSGML v1.0//EN
CALSCALE:GREGORIAN
METHOD:PUBLISH
X-ORIGINAL-URL:https://www.olmcfssp.org
X-WR-CALDESC:Events for Our Lady of Mt. Carmel
REFRESH-INTERVAL;VALUE=DURATION:PT1H
X-Robots-Tag:noindex
X-PUBLISHED-TTL:PT1H
BEGIN:VTIMEZONE
TZID:America/Denver
BEGIN:DAYLIGHT
TZOFFSETFROM:-0700
TZOFFSETTO:-0600
TZNAME:MDT
DTSTART:20250309T090000
END:DAYLIGHT
BEGIN:STANDARD
TZOFFSETFROM:-0600
TZOFFSETTO:-0700
TZNAME:MST
DTSTART:20251102T080000
END:STANDARD
BEGIN:DAYLIGHT
TZOFFSETFROM:-0700
TZOFFSETTO:-0600
TZNAME:MDT
DTSTART:20260308T090000
END:DAYLIGHT
BEGIN:STANDARD
TZOFFSETFROM:-0600
TZOFFSETTO:-0700
TZNAME:MST
DTSTART:20261101T080000
END:STANDARD
BEGIN:DAYLIGHT
TZOFFSETFROM:-0700
TZOFFSETTO:-0600
TZNAME:MDT
DTSTART:20270314T090000
END:DAYLIGHT
BEGIN:STANDARD
TZOFFSETFROM:-0600
TZOFFSETTO:-0700
TZNAME:MST
DTSTART:20271107T080000
END:STANDARD
END:VTIMEZONE
BEGIN:VEVENT
DTSTART;TZID=America/Denver:20260310T093000
DTEND;TZID=America/Denver:20260310T110000
DTSTAMP:20260422T163746
CREATED:20240712T221123Z
LAST-MODIFIED:20260307T045330Z
UID:9462-1773135000-1773140400@www.olmcfssp.org
SUMMARY:Tuesday Morning Book Club
DESCRIPTION:The Tuesday morning book club meets to read and discuss a selected book that assists with spiritual growth and knowledge of our wonderful Catholic faith. All members of the parish are welcome to drop by and check us out.
URL:https://www.olmcfssp.org/calendar/tuesday-morning-book-club-161/
END:VEVENT
BEGIN:VEVENT
DTSTART;TZID=America/Denver:20260310T170000
DTEND;TZID=America/Denver:20260310T180000
DTSTAMP:20260422T163746
CREATED:20240712T215016Z
LAST-MODIFIED:20260307T022331Z
UID:9147-1773162000-1773165600@www.olmcfssp.org
SUMMARY:Shepherds of Christ Prayer Group
DESCRIPTION:
URL:https://www.olmcfssp.org/calendar/shepherds-of-christ-prayer-group-162/
END:VEVENT
BEGIN:VEVENT
DTSTART;TZID=America/Denver:20260311T190000
DTEND;TZID=America/Denver:20260311T203000
DTSTAMP:20260422T163746
CREATED:20240712T221257Z
LAST-MODIFIED:20260307T030829Z
UID:9501-1773255600-1773261000@www.olmcfssp.org
SUMMARY:Choir Practice
DESCRIPTION:
URL:https://www.olmcfssp.org/calendar/choir-practice-160/
END:VEVENT
BEGIN:VEVENT
DTSTART;TZID=America/Denver:20260312T093000
DTEND;TZID=America/Denver:20260312T103000
DTSTAMP:20260422T163746
CREATED:20240712T220710Z
LAST-MODIFIED:20260306T020838Z
UID:9411-1773307800-1773311400@www.olmcfssp.org
SUMMARY:Legion of Mary Meeting
DESCRIPTION:The legion exists to be a sign of Mary’s maternal love for the world and a means of enlisting all her children in the Church’s evangelizing work. It is at the disposal of the parish priest for any form of service deemed useful for the welfare of the Church.
URL:https://www.olmcfssp.org/calendar/legion-of-mary-meeting-321/
END:VEVENT
BEGIN:VEVENT
DTSTART;TZID=America/Denver:20260314T093000
DTEND;TZID=America/Denver:20260314T113000
DTSTAMP:20260422T163746
CREATED:20240712T215737Z
LAST-MODIFIED:20260314T053826Z
UID:9275-1773480600-1773487800@www.olmcfssp.org
SUMMARY:Holy Name Society Meeting
DESCRIPTION:The Holy Name Society is an organization of men striving to grow in holiness. The group is open to all men of the parish over the age of 18. Meetings include Mass\, the recitation of the Holy Rosary\, breakfast and a spiritual talk.
URL:https://www.olmcfssp.org/calendar/holy-name-society-meeting-35/
END:VEVENT
BEGIN:VEVENT
DTSTART;TZID=America/Denver:20260314T093000
DTEND;TZID=America/Denver:20260314T130000
DTSTAMP:20260422T163746
CREATED:20240712T221455Z
LAST-MODIFIED:20260314T023827Z
UID:9530-1773480600-1773493200@www.olmcfssp.org
SUMMARY:St. Teresa of Jesus Association
DESCRIPTION:A formation in the spirituality of St. Teresa of Jesus within a Study Group composed of men and women over the age of 25 years. This formation includes daily Mass\, Lectio Divina\, Divine Office and the living a life of apostolic endeavors: ministering to our families and the world.  The members endeavor to give glory to God\, to honor our Blessed Lady of Carmel and to aid our Holy Mother the Church by their prayers.
URL:https://www.olmcfssp.org/calendar/st-teresa-of-jesus-association-36/
END:VEVENT
BEGIN:VEVENT
DTSTART;TZID=America/Denver:20260314T130000
DTEND;TZID=America/Denver:20260314T160000
DTSTAMP:20260422T163746
CREATED:20240712T220710Z
LAST-MODIFIED:20260313T022326Z
UID:9412-1773493200-1773504000@www.olmcfssp.org
SUMMARY:Hibernia Music Group
DESCRIPTION:An OLMC acoustic music group. We play traditional Irish\, Folk and Americana music. All are welcome to join us\, beginner or advanced\, Instrumentalist or Vocalist. Our goal is to sharpen our skills\, increase our musical knowledge\, have good Catholic fellowship\, and share our music.
URL:https://www.olmcfssp.org/calendar/hibernia-music-group-72/
END:VEVENT
BEGIN:VEVENT
DTSTART;TZID=America/Denver:20260315T123000
DTEND;TZID=America/Denver:20260315T140000
DTSTAMP:20260422T163746
CREATED:20240712T221124Z
LAST-MODIFIED:20260314T045327Z
UID:9463-1773577800-1773583200@www.olmcfssp.org
SUMMARY:Creation Study Group
DESCRIPTION:This group is dedicated to studying the traditional Catholic teaching on creation and Genesis as believed and taught by the Doctors\, Fathers\, Councils and Popes for two thousand years. We explore various aspects of the creation/evolutionism debate and the effects of evolutionary thought on culture\, science and the Church. As Pope St Pius X said about Modernism\, that it is the “synthesis of all heresies.” And “the chief of their doctrines\, that of evolution.” \nAll are welcome to attend and contribute their experience and expertise.
URL:https://www.olmcfssp.org/calendar/creation-study-group-29/
END:VEVENT
BEGIN:VEVENT
DTSTART;TZID=America/Denver:20260315T140000
DTEND;TZID=America/Denver:20260315T170000
DTSTAMP:20260422T163746
CREATED:20240712T220710Z
LAST-MODIFIED:20260313T022326Z
UID:9413-1773583200-1773594000@www.olmcfssp.org
SUMMARY:Laeta Vita
DESCRIPTION:Leata Vita (Joyful Life) is a group for single women ages 18-35. The purpose of our group is to meet and grow in fellowship with other women who are in a similar season of life. We meet two times a month. The first meeting of the month consists of discussing a book as part of our book club and socializing with each other. The second meeting of the month consists of a fun outing or activity (and every now and then something charitable for the parish or some other organization)\, meant to give the members a chance to get out and have some fun.
URL:https://www.olmcfssp.org/calendar/laeta-vita-66/
END:VEVENT
BEGIN:VEVENT
DTSTART;TZID=America/Denver:20260315T170000
DTEND;TZID=America/Denver:20260315T180000
DTSTAMP:20260422T163746
CREATED:20240712T215016Z
LAST-MODIFIED:20260314T022327Z
UID:9148-1773594000-1773597600@www.olmcfssp.org
SUMMARY:Sung Vespers
DESCRIPTION:
URL:https://www.olmcfssp.org/calendar/sung-vespers-149/
END:VEVENT
BEGIN:VEVENT
DTSTART;TZID=America/Denver:20260316T180000
DTEND;TZID=America/Denver:20260316T190000
DTSTAMP:20260422T163746
CREATED:20240712T220710Z
LAST-MODIFIED:20260313T022326Z
UID:9414-1773684000-1773687600@www.olmcfssp.org
SUMMARY:Legion of Mary Meeting
DESCRIPTION:The legion exists to be a sign of Mary’s maternal love for the world and a means of enlisting all her children in the Church’s evangelizing work. It is at the disposal of the parish priest for any form of service deemed useful for the welfare of the Church.
URL:https://www.olmcfssp.org/calendar/legion-of-mary-meeting-322/
END:VEVENT
BEGIN:VEVENT
DTSTART;TZID=America/Denver:20260317T093000
DTEND;TZID=America/Denver:20260317T110000
DTSTAMP:20260422T163746
CREATED:20240712T221124Z
LAST-MODIFIED:20260314T045327Z
UID:9464-1773739800-1773745200@www.olmcfssp.org
SUMMARY:Tuesday Morning Book Club
DESCRIPTION:The Tuesday morning book club meets to read and discuss a selected book that assists with spiritual growth and knowledge of our wonderful Catholic faith. All members of the parish are welcome to drop by and check us out.
URL:https://www.olmcfssp.org/calendar/tuesday-morning-book-club-162/
END:VEVENT
BEGIN:VEVENT
DTSTART;TZID=America/Denver:20260317T170000
DTEND;TZID=America/Denver:20260317T180000
DTSTAMP:20260422T163746
CREATED:20240712T215016Z
LAST-MODIFIED:20260314T022327Z
UID:9149-1773766800-1773770400@www.olmcfssp.org
SUMMARY:Shepherds of Christ Prayer Group
DESCRIPTION:
URL:https://www.olmcfssp.org/calendar/shepherds-of-christ-prayer-group-163/
END:VEVENT
BEGIN:VEVENT
DTSTART;TZID=America/Denver:20260318T190000
DTEND;TZID=America/Denver:20260318T203000
DTSTAMP:20260422T163746
CREATED:20240712T221257Z
LAST-MODIFIED:20260314T030827Z
UID:9502-1773860400-1773865800@www.olmcfssp.org
SUMMARY:Choir Practice
DESCRIPTION:
URL:https://www.olmcfssp.org/calendar/choir-practice-161/
END:VEVENT
BEGIN:VEVENT
DTSTART;TZID=America/Denver:20260319T093000
DTEND;TZID=America/Denver:20260319T103000
DTSTAMP:20260422T163746
CREATED:20240712T220710Z
LAST-MODIFIED:20260313T022326Z
UID:9415-1773912600-1773916200@www.olmcfssp.org
SUMMARY:Legion of Mary Meeting
DESCRIPTION:The legion exists to be a sign of Mary’s maternal love for the world and a means of enlisting all her children in the Church’s evangelizing work. It is at the disposal of the parish priest for any form of service deemed useful for the welfare of the Church.
URL:https://www.olmcfssp.org/calendar/legion-of-mary-meeting-323/
END:VEVENT
BEGIN:VEVENT
DTSTART;TZID=America/Denver:20260319T093000
DTEND;TZID=America/Denver:20260319T110000
DTSTAMP:20260422T163746
CREATED:20240712T221455Z
LAST-MODIFIED:20260314T023827Z
UID:9531-1773912600-1773918000@www.olmcfssp.org
SUMMARY:St. Therese Book Club
DESCRIPTION:Come and study the works of St. Therese as a group. All are welcome.
URL:https://www.olmcfssp.org/calendar/st-therese-book-club-37/
END:VEVENT
BEGIN:VEVENT
DTSTART;TZID=America/Denver:20260321T093000
DTEND;TZID=America/Denver:20260321T120000
DTSTAMP:20260422T163746
CREATED:20240712T215738Z
LAST-MODIFIED:20260321T053831Z
UID:9276-1774085400-1774094400@www.olmcfssp.org
SUMMARY:Altar and Rosary Society Meeting
DESCRIPTION:The Altar and Rosary Society is an organization of women who foster and spread devotion to the Holy Rosary\, maintain the cleanliness of the church sanctuary\, wash and iron altar linens\, and arrange flowers for the altar.
URL:https://www.olmcfssp.org/calendar/altar-and-rosary-society-meeting-30/
END:VEVENT
BEGIN:VEVENT
DTSTART;TZID=America/Denver:20260322T123000
DTEND;TZID=America/Denver:20260322T141500
DTSTAMP:20260422T163746
CREATED:20240712T220710Z
LAST-MODIFIED:20260320T022331Z
UID:9416-1774182600-1774188900@www.olmcfssp.org
SUMMARY:Carmel Rookies Chess Club
DESCRIPTION:Carmel Rookies Chess Club for players under 18. Players/parents must RSVP to Mr. Mudd at rdm3rdm3@gmail.com to reserve their spot as space is limited.
URL:https://www.olmcfssp.org/calendar/carmel-rookies-chess-club-72/
END:VEVENT
BEGIN:VEVENT
DTSTART;TZID=America/Denver:20260322T170000
DTEND;TZID=America/Denver:20260322T180000
DTSTAMP:20260422T163746
CREATED:20240712T215016Z
LAST-MODIFIED:20260321T022332Z
UID:9150-1774198800-1774202400@www.olmcfssp.org
SUMMARY:Sung Vespers
DESCRIPTION:
URL:https://www.olmcfssp.org/calendar/sung-vespers-150/
END:VEVENT
BEGIN:VEVENT
DTSTART;TZID=America/Denver:20260323T180000
DTEND;TZID=America/Denver:20260323T190000
DTSTAMP:20260422T163746
CREATED:20240719T220856Z
LAST-MODIFIED:20260320T022331Z
UID:9769-1774288800-1774292400@www.olmcfssp.org
SUMMARY:Legion of Mary Meeting
DESCRIPTION:The legion exists to be a sign of Mary’s maternal love for the world and a means of enlisting all her children in the Church’s evangelizing work. It is at the disposal of the parish priest for any form of service deemed useful for the welfare of the Church.
URL:https://www.olmcfssp.org/calendar/legion-of-mary-meeting-324/
END:VEVENT
BEGIN:VEVENT
DTSTART;TZID=America/Denver:20260324T093000
DTEND;TZID=America/Denver:20260324T110000
DTSTAMP:20260422T163746
CREATED:20240712T221124Z
LAST-MODIFIED:20260321T050840Z
UID:9465-1774344600-1774350000@www.olmcfssp.org
SUMMARY:Tuesday Morning Book Club
DESCRIPTION:The Tuesday morning book club meets to read and discuss a selected book that assists with spiritual growth and knowledge of our wonderful Catholic faith. All members of the parish are welcome to drop by and check us out.
URL:https://www.olmcfssp.org/calendar/tuesday-morning-book-club-163/
END:VEVENT
BEGIN:VEVENT
DTSTART;TZID=America/Denver:20260324T170000
DTEND;TZID=America/Denver:20260324T180000
DTSTAMP:20260422T163746
CREATED:20240712T215016Z
LAST-MODIFIED:20260321T022332Z
UID:9151-1774371600-1774375200@www.olmcfssp.org
SUMMARY:Shepherds of Christ Prayer Group
DESCRIPTION:
URL:https://www.olmcfssp.org/calendar/shepherds-of-christ-prayer-group-164/
END:VEVENT
BEGIN:VEVENT
DTSTART;TZID=America/Denver:20260325T180000
DTEND;TZID=America/Denver:20260325T210000
DTSTAMP:20260422T163746
CREATED:20240719T220856Z
LAST-MODIFIED:20260320T022331Z
UID:9770-1774461600-1774472400@www.olmcfssp.org
SUMMARY:Hibernia Music Group
DESCRIPTION:An OLMC acoustic music group. We play traditional Irish\, Folk and Americana music. All are welcome to join us\, beginner or advanced\, Instrumentalist or Vocalist. Our goal is to sharpen our skills\, increase our musical knowledge\, have good Catholic fellowship\, and share our music.
URL:https://www.olmcfssp.org/calendar/hibernia-music-group-73/
END:VEVENT
BEGIN:VEVENT
DTSTART;TZID=America/Denver:20260325T190000
DTEND;TZID=America/Denver:20260325T203000
DTSTAMP:20260422T163746
CREATED:20240712T221257Z
LAST-MODIFIED:20260321T030831Z
UID:9503-1774465200-1774470600@www.olmcfssp.org
SUMMARY:Choir Practice
DESCRIPTION:
URL:https://www.olmcfssp.org/calendar/choir-practice-162/
END:VEVENT
BEGIN:VEVENT
DTSTART;TZID=America/Denver:20260326T093000
DTEND;TZID=America/Denver:20260326T103000
DTSTAMP:20260422T163746
CREATED:20240719T220856Z
LAST-MODIFIED:20260320T022331Z
UID:9771-1774517400-1774521000@www.olmcfssp.org
SUMMARY:Legion of Mary Meeting
DESCRIPTION:The legion exists to be a sign of Mary’s maternal love for the world and a means of enlisting all her children in the Church’s evangelizing work. It is at the disposal of the parish priest for any form of service deemed useful for the welfare of the Church.
URL:https://www.olmcfssp.org/calendar/legion-of-mary-meeting-325/
END:VEVENT
BEGIN:VEVENT
DTSTART;TZID=America/Denver:20260328T101500
DTEND;TZID=America/Denver:20260328T110000
DTSTAMP:20260422T163746
CREATED:20240712T215504Z
LAST-MODIFIED:20260328T052330Z
UID:9237-1774692900-1774695600@www.olmcfssp.org
SUMMARY:Planned Parenthood Prayer Vigil
DESCRIPTION:Please join us for our monthly parish prayer vigil at Planned Parenthood starting at 10:15 am. The facility is located at 7155 E 38th Ave. in Denver.
URL:https://www.olmcfssp.org/calendar/planned-parenthood-prayer-vigil-52/
END:VEVENT
BEGIN:VEVENT
DTSTART;TZID=America/Denver:20260329T120000
DTEND;TZID=America/Denver:20260329T143000
DTSTAMP:20260422T163746
CREATED:20240712T215738Z
LAST-MODIFIED:20260328T053834Z
UID:9277-1774785600-1774794600@www.olmcfssp.org
SUMMARY:Adult Chess Club
DESCRIPTION:For players 18 and over. Players must RSVP to Mr. Mudd at rdm3rdm3@gmail.com to reserve their spot as space is limited.
URL:https://www.olmcfssp.org/calendar/adult-chess-club-7/
END:VEVENT
BEGIN:VEVENT
DTSTART;TZID=America/Denver:20260329T170000
DTEND;TZID=America/Denver:20260329T180000
DTSTAMP:20260422T163746
CREATED:20240712T215016Z
LAST-MODIFIED:20260328T022334Z
UID:9152-1774803600-1774807200@www.olmcfssp.org
SUMMARY:Sung Vespers
DESCRIPTION:
URL:https://www.olmcfssp.org/calendar/sung-vespers-151/
END:VEVENT
BEGIN:VEVENT
DTSTART;TZID=America/Denver:20260330T180000
DTEND;TZID=America/Denver:20260330T190000
DTSTAMP:20260422T163746
CREATED:20240719T220856Z
LAST-MODIFIED:20260327T022330Z
UID:9772-1774893600-1774897200@www.olmcfssp.org
SUMMARY:Legion of Mary Meeting
DESCRIPTION:The legion exists to be a sign of Mary’s maternal love for the world and a means of enlisting all her children in the Church’s evangelizing work. It is at the disposal of the parish priest for any form of service deemed useful for the welfare of the Church.
URL:https://www.olmcfssp.org/calendar/legion-of-mary-meeting-326/
END:VEVENT
BEGIN:VEVENT
DTSTART;TZID=America/Denver:20260331T093000
DTEND;TZID=America/Denver:20260331T110000
DTSTAMP:20260422T163746
CREATED:20240712T221124Z
LAST-MODIFIED:20260328T050830Z
UID:9466-1774949400-1774954800@www.olmcfssp.org
SUMMARY:Tuesday Morning Book Club
DESCRIPTION:The Tuesday morning book club meets to read and discuss a selected book that assists with spiritual growth and knowledge of our wonderful Catholic faith. All members of the parish are welcome to drop by and check us out.
URL:https://www.olmcfssp.org/calendar/tuesday-morning-book-club-164/
END:VEVENT
END:VCALENDAR