BEGIN:VCALENDAR
VERSION:2.0
PRODID:-//Our Lady of Mt. Carmel - ECPv6.15.20//NONSGML v1.0//EN
CALSCALE:GREGORIAN
METHOD:PUBLISH
X-WR-CALNAME:Our Lady of Mt. Carmel
X-ORIGINAL-URL:https://www.olmcfssp.org
X-WR-CALDESC:Events for Our Lady of Mt. Carmel
REFRESH-INTERVAL;VALUE=DURATION:PT1H
X-Robots-Tag:noindex
X-PUBLISHED-TTL:PT1H
BEGIN:VTIMEZONE
TZID:America/Denver
BEGIN:DAYLIGHT
TZOFFSETFROM:-0700
TZOFFSETTO:-0600
TZNAME:MDT
DTSTART:20240310T090000
END:DAYLIGHT
BEGIN:STANDARD
TZOFFSETFROM:-0600
TZOFFSETTO:-0700
TZNAME:MST
DTSTART:20241103T080000
END:STANDARD
BEGIN:DAYLIGHT
TZOFFSETFROM:-0700
TZOFFSETTO:-0600
TZNAME:MDT
DTSTART:20250309T090000
END:DAYLIGHT
BEGIN:STANDARD
TZOFFSETFROM:-0600
TZOFFSETTO:-0700
TZNAME:MST
DTSTART:20251102T080000
END:STANDARD
BEGIN:DAYLIGHT
TZOFFSETFROM:-0700
TZOFFSETTO:-0600
TZNAME:MDT
DTSTART:20260308T090000
END:DAYLIGHT
BEGIN:STANDARD
TZOFFSETFROM:-0600
TZOFFSETTO:-0700
TZNAME:MST
DTSTART:20261101T080000
END:STANDARD
END:VTIMEZONE
BEGIN:VEVENT
DTSTART;TZID=America/Denver:20250823T101500
DTEND;TZID=America/Denver:20250823T110000
DTSTAMP:20260422T163700
CREATED:20240712T215501Z
LAST-MODIFIED:20250823T035328Z
UID:9220-1755944100-1755946800@www.olmcfssp.org
SUMMARY:Planned Parenthood Prayer Vigil
DESCRIPTION:Please join us for our monthly parish prayer vigil at Planned Parenthood starting at 10:15 am. The facility is located at 7155 E 38th Ave. in Denver.
URL:https://www.olmcfssp.org/calendar/planned-parenthood-prayer-vigil-45/
END:VEVENT
BEGIN:VEVENT
DTSTART;TZID=America/Denver:20250821T093000
DTEND;TZID=America/Denver:20250821T110000
DTSTAMP:20260422T163700
CREATED:20231027T174345Z
LAST-MODIFIED:20250816T010838Z
UID:7331-1755768600-1755774000@www.olmcfssp.org
SUMMARY:St. Therese Book Club
DESCRIPTION:Come and study the works of St. Therese as a group. All are welcome.
URL:https://www.olmcfssp.org/calendar/st-therese-book-club-30/
END:VEVENT
BEGIN:VEVENT
DTSTART;TZID=America/Denver:20250821T093000
DTEND;TZID=America/Denver:20250821T103000
DTSTAMP:20260422T163700
CREATED:20231215T185342Z
LAST-MODIFIED:20250815T010845Z
UID:8653-1755768600-1755772200@www.olmcfssp.org
SUMMARY:Legion of Mary Meeting
DESCRIPTION:The legion exists to be a sign of Mary’s maternal love for the world and a means of enlisting all her children in the Church’s evangelizing work. It is at the disposal of the parish priest for any form of service deemed useful for the welfare of the Church.
URL:https://www.olmcfssp.org/calendar/legion-of-mary-meeting-263/
END:VEVENT
BEGIN:VEVENT
DTSTART;TZID=America/Denver:20250820T190000
DTEND;TZID=America/Denver:20250820T203000
DTSTAMP:20260422T163700
CREATED:20231027T173641Z
LAST-MODIFIED:20250816T013831Z
UID:7227-1755716400-1755721800@www.olmcfssp.org
SUMMARY:Choir Practice
DESCRIPTION:
URL:https://www.olmcfssp.org/calendar/choir-practice-131/
END:VEVENT
BEGIN:VEVENT
DTSTART;TZID=America/Denver:20250819T170000
DTEND;TZID=America/Denver:20250819T180000
DTSTAMP:20260422T163700
CREATED:20231027T172514Z
LAST-MODIFIED:20250816T000841Z
UID:6404-1755622800-1755626400@www.olmcfssp.org
SUMMARY:Shepherds of Christ Prayer Group
DESCRIPTION:
URL:https://www.olmcfssp.org/calendar/shepherds-of-christ-prayer-group-133/
END:VEVENT
BEGIN:VEVENT
DTSTART;TZID=America/Denver:20250819T093000
DTEND;TZID=America/Denver:20250819T110000
DTSTAMP:20260422T163700
CREATED:20231027T173410Z
LAST-MODIFIED:20231027T173410Z
UID:7101-1755595800-1755601200@www.olmcfssp.org
SUMMARY:Tuesday Morning Book Club
DESCRIPTION:The Tuesday morning book club meets to read and discuss a selected book that assists with spiritual growth and knowledge of our wonderful Catholic faith. All members of the parish are welcome to drop by and check us out.
URL:https://www.olmcfssp.org/calendar/tuesday-morning-book-club-133/
END:VEVENT
BEGIN:VEVENT
DTSTART;TZID=America/Denver:20250818T180000
DTEND;TZID=America/Denver:20250818T190000
DTSTAMP:20260422T163700
CREATED:20231208T185340Z
LAST-MODIFIED:20250815T010845Z
UID:8630-1755540000-1755543600@www.olmcfssp.org
SUMMARY:Legion of Mary Meeting
DESCRIPTION:The legion exists to be a sign of Mary’s maternal love for the world and a means of enlisting all her children in the Church’s evangelizing work. It is at the disposal of the parish priest for any form of service deemed useful for the welfare of the Church.
URL:https://www.olmcfssp.org/calendar/legion-of-mary-meeting-262/
END:VEVENT
BEGIN:VEVENT
DTSTART;TZID=America/Denver:20250817T170000
DTEND;TZID=America/Denver:20250817T180000
DTSTAMP:20260422T163700
CREATED:20231027T172514Z
LAST-MODIFIED:20250816T000841Z
UID:6403-1755450000-1755453600@www.olmcfssp.org
SUMMARY:Sung Vespers
DESCRIPTION:
URL:https://www.olmcfssp.org/calendar/sung-vespers-119/
END:VEVENT
BEGIN:VEVENT
DTSTART;TZID=America/Denver:20250817T140000
DTEND;TZID=America/Denver:20250817T170000
DTSTAMP:20260422T163700
CREATED:20231208T185340Z
LAST-MODIFIED:20250815T010845Z
UID:8629-1755439200-1755450000@www.olmcfssp.org
SUMMARY:Laeta Vita
DESCRIPTION:Leata Vita (Joyful Life) is a group for single women ages 18-35. The purpose of our group is to meet and grow in fellowship with other women who are in a similar season of life. We meet two times a month. The first meeting of the month consists of discussing a book as part of our book club and socializing with each other. The second meeting of the month consists of a fun outing or activity (and every now and then something charitable for the parish or some other organization)\, meant to give the members a chance to get out and have some fun.
URL:https://www.olmcfssp.org/calendar/laeta-vita-52/
END:VEVENT
BEGIN:VEVENT
DTSTART;TZID=America/Denver:20250817T123000
DTEND;TZID=America/Denver:20250817T140000
DTSTAMP:20260422T163700
CREATED:20231027T173409Z
LAST-MODIFIED:20250816T012334Z
UID:7100-1755433800-1755439200@www.olmcfssp.org
SUMMARY:Creation Study Group
DESCRIPTION:This group is dedicated to studying the traditional Catholic teaching on creation and Genesis as believed and taught by the Doctors\, Fathers\, Councils and Popes for two thousand years. We explore various aspects of the creation/evolutionism debate and the effects of evolutionary thought on culture\, science and the Church. As Pope St Pius X said about Modernism\, that it is the “synthesis of all heresies.” And “the chief of their doctrines\, that of evolution.” \nAll are welcome to attend and contribute their experience and expertise.
URL:https://www.olmcfssp.org/calendar/creation-study-group-22/
END:VEVENT
BEGIN:VEVENT
DTSTART;TZID=America/Denver:20250816T093000
DTEND;TZID=America/Denver:20250816T120000
DTSTAMP:20260422T163700
CREATED:20231110T192503Z
LAST-MODIFIED:20250816T033835Z
UID:8276-1755336600-1755345600@www.olmcfssp.org
SUMMARY:Altar and Rosary Society Meeting
DESCRIPTION:The Altar and Rosary Society is an organization of women who foster and spread devotion to the Holy Rosary\, maintain the cleanliness of the church sanctuary\, wash and iron altar linens\, and arrange flowers for the altar.
URL:https://www.olmcfssp.org/calendar/altar-and-rosary-society-meeting-23/
END:VEVENT
BEGIN:VEVENT
DTSTART;TZID=America/Denver:20250814T093000
DTEND;TZID=America/Denver:20250814T103000
DTSTAMP:20260422T163700
CREATED:20231208T185340Z
LAST-MODIFIED:20250808T005341Z
UID:8628-1755163800-1755167400@www.olmcfssp.org
SUMMARY:Legion of Mary Meeting
DESCRIPTION:The legion exists to be a sign of Mary’s maternal love for the world and a means of enlisting all her children in the Church’s evangelizing work. It is at the disposal of the parish priest for any form of service deemed useful for the welfare of the Church.
URL:https://www.olmcfssp.org/calendar/legion-of-mary-meeting-261/
END:VEVENT
BEGIN:VEVENT
DTSTART;TZID=America/Denver:20250813T190000
DTEND;TZID=America/Denver:20250813T203000
DTSTAMP:20260422T163700
CREATED:20231027T173641Z
LAST-MODIFIED:20250809T013832Z
UID:7226-1755111600-1755117000@www.olmcfssp.org
SUMMARY:Choir Practice
DESCRIPTION:
URL:https://www.olmcfssp.org/calendar/choir-practice-130/
END:VEVENT
BEGIN:VEVENT
DTSTART;TZID=America/Denver:20250812T170000
DTEND;TZID=America/Denver:20250812T180000
DTSTAMP:20260422T163700
CREATED:20231027T172514Z
LAST-MODIFIED:20250808T235341Z
UID:6402-1755018000-1755021600@www.olmcfssp.org
SUMMARY:Shepherds of Christ Prayer Group
DESCRIPTION:
URL:https://www.olmcfssp.org/calendar/shepherds-of-christ-prayer-group-132/
END:VEVENT
BEGIN:VEVENT
DTSTART;TZID=America/Denver:20250812T093000
DTEND;TZID=America/Denver:20250812T110000
DTSTAMP:20260422T163700
CREATED:20231027T173409Z
LAST-MODIFIED:20231027T173409Z
UID:7099-1754991000-1754996400@www.olmcfssp.org
SUMMARY:Tuesday Morning Book Club
DESCRIPTION:The Tuesday morning book club meets to read and discuss a selected book that assists with spiritual growth and knowledge of our wonderful Catholic faith. All members of the parish are welcome to drop by and check us out.
URL:https://www.olmcfssp.org/calendar/tuesday-morning-book-club-132/
END:VEVENT
BEGIN:VEVENT
DTSTART;TZID=America/Denver:20250812T093000
DTEND;TZID=America/Denver:20250812T103000
DTSTAMP:20260422T163700
CREATED:20240110T185520Z
LAST-MODIFIED:20250808T235341Z
UID:8718-1754991000-1754994600@www.olmcfssp.org
SUMMARY:Holy Face Devotion Group
DESCRIPTION:His Holy Face Ministry’s mission is to bring the Face of God back into the world to breathe life into souls by making reparation for the sins committed against the majesty of God and the Catholic Church. Join us as a community in making public reparation before a 2nd class relic image of the Veil of St. Veronica on the second Tuesday or third Saturday of each month after the 8:30 AM mass. We also offer presentations on the Holy Face Devotion\, a Home Enthronement Program with the image\, and a Parish Enthronement Program to share with a wider audience.
URL:https://www.olmcfssp.org/calendar/holy-face-devotion-group-37/
END:VEVENT
BEGIN:VEVENT
DTSTART;TZID=America/Denver:20250811T180000
DTEND;TZID=America/Denver:20250811T190000
DTSTAMP:20260422T163700
CREATED:20231201T185410Z
LAST-MODIFIED:20250808T005341Z
UID:8562-1754935200-1754938800@www.olmcfssp.org
SUMMARY:Legion of Mary Meeting
DESCRIPTION:The legion exists to be a sign of Mary’s maternal love for the world and a means of enlisting all her children in the Church’s evangelizing work. It is at the disposal of the parish priest for any form of service deemed useful for the welfare of the Church.
URL:https://www.olmcfssp.org/calendar/legion-of-mary-meeting-260/
END:VEVENT
BEGIN:VEVENT
DTSTART;TZID=America/Denver:20250810T170000
DTEND;TZID=America/Denver:20250810T180000
DTSTAMP:20260422T163700
CREATED:20231027T172514Z
LAST-MODIFIED:20250808T235341Z
UID:6401-1754845200-1754848800@www.olmcfssp.org
SUMMARY:Sung Vespers
DESCRIPTION:
URL:https://www.olmcfssp.org/calendar/sung-vespers-118/
END:VEVENT
BEGIN:VEVENT
DTSTART;TZID=America/Denver:20250810T123000
DTEND;TZID=America/Denver:20250810T140000
DTSTAMP:20260422T163700
CREATED:20231201T185410Z
LAST-MODIFIED:20250808T005341Z
UID:8561-1754829000-1754834400@www.olmcfssp.org
SUMMARY:Knights of Columbus Meeting
DESCRIPTION:As faithful Catholics\, we are called to be salt and light in this material world. As traditional Catholics within the Church Universal\, we are sometimes called\, in charity\, to bring more illumination and flavor to our fellow Catholics. Let us join with him in spreading the message within the Knights of Columbus.
URL:https://www.olmcfssp.org/calendar/knights-of-columbus-meeting-29/
END:VEVENT
BEGIN:VEVENT
DTSTART;TZID=America/Denver:20250809T130000
DTEND;TZID=America/Denver:20250809T160000
DTSTAMP:20260422T163700
CREATED:20231201T185410Z
LAST-MODIFIED:20250808T005341Z
UID:8560-1754744400-1754755200@www.olmcfssp.org
SUMMARY:Hibernia Music Group
DESCRIPTION:An OLMC acoustic music group. We play traditional Irish\, Folk and Americana music. All are welcome to join us\, beginner or advanced\, Instrumentalist or Vocalist. Our goal is to sharpen our skills\, increase our musical knowledge\, have good Catholic fellowship\, and share our music.
URL:https://www.olmcfssp.org/calendar/hibernia-music-group-58/
END:VEVENT
BEGIN:VEVENT
DTSTART;TZID=America/Denver:20250809T093000
DTEND;TZID=America/Denver:20250809T130000
DTSTAMP:20260422T163700
CREATED:20231027T174345Z
LAST-MODIFIED:20250809T005352Z
UID:7330-1754731800-1754744400@www.olmcfssp.org
SUMMARY:St. Teresa of Jesus Association
DESCRIPTION:A formation in the spirituality of St. Teresa of Jesus within a Study Group composed of men and women over the age of 25 years. This formation includes daily Mass\, Lectio Divina\, Divine Office and the living a life of apostolic endeavors: ministering to our families and the world.  The members endeavor to give glory to God\, to honor our Blessed Lady of Carmel and to aid our Holy Mother the Church by their prayers.
URL:https://www.olmcfssp.org/calendar/st-teresa-of-jesus-association-29/
END:VEVENT
BEGIN:VEVENT
DTSTART;TZID=America/Denver:20250809T093000
DTEND;TZID=America/Denver:20250809T113000
DTSTAMP:20260422T163700
CREATED:20231027T172919Z
LAST-MODIFIED:20250809T033842Z
UID:6581-1754731800-1754739000@www.olmcfssp.org
SUMMARY:Holy Name Society Meeting
DESCRIPTION:The Holy Name Society is an organization of men striving to grow in holiness. The group is open to all men of the parish over the age of 18. Meetings include Mass\, the recitation of the Holy Rosary\, breakfast and a spiritual talk.
URL:https://www.olmcfssp.org/calendar/holy-name-society-meeting-28/
END:VEVENT
BEGIN:VEVENT
DTSTART;TZID=America/Denver:20250807T093000
DTEND;TZID=America/Denver:20250807T103000
DTSTAMP:20260422T163700
CREATED:20231201T185410Z
LAST-MODIFIED:20250801T005326Z
UID:8559-1754559000-1754562600@www.olmcfssp.org
SUMMARY:Legion of Mary Meeting
DESCRIPTION:The legion exists to be a sign of Mary’s maternal love for the world and a means of enlisting all her children in the Church’s evangelizing work. It is at the disposal of the parish priest for any form of service deemed useful for the welfare of the Church.
URL:https://www.olmcfssp.org/calendar/legion-of-mary-meeting-259/
END:VEVENT
BEGIN:VEVENT
DTSTART;TZID=America/Denver:20250806T190000
DTEND;TZID=America/Denver:20250806T203000
DTSTAMP:20260422T163700
CREATED:20231027T173641Z
LAST-MODIFIED:20250802T013827Z
UID:7225-1754506800-1754512200@www.olmcfssp.org
SUMMARY:Choir Practice
DESCRIPTION:
URL:https://www.olmcfssp.org/calendar/choir-practice-129/
END:VEVENT
BEGIN:VEVENT
DTSTART;TZID=America/Denver:20250806T183000
DTEND;TZID=America/Denver:20250806T203000
DTSTAMP:20260422T163700
CREATED:20231027T174345Z
LAST-MODIFIED:20250802T005332Z
UID:7329-1754505000-1754512200@www.olmcfssp.org
SUMMARY:Safety Team Meeting
DESCRIPTION:The purpose of the OLMC Safety Team is to provide a safe and secure environment for all parishioners and visitors. Primarily\, this is accomplished by the observation of people\, places and events and your assessment of situations and then to follow through with appropriate action.
URL:https://www.olmcfssp.org/calendar/safety-team-meeting-30/
END:VEVENT
BEGIN:VEVENT
DTSTART;TZID=America/Denver:20250805T170000
DTEND;TZID=America/Denver:20250805T180000
DTSTAMP:20260422T163700
CREATED:20231027T172514Z
LAST-MODIFIED:20250801T235330Z
UID:6400-1754413200-1754416800@www.olmcfssp.org
SUMMARY:Shepherds of Christ Prayer Group
DESCRIPTION:
URL:https://www.olmcfssp.org/calendar/shepherds-of-christ-prayer-group-131/
END:VEVENT
BEGIN:VEVENT
DTSTART;TZID=America/Denver:20250805T093000
DTEND;TZID=America/Denver:20250805T110000
DTSTAMP:20260422T163700
CREATED:20231027T173409Z
LAST-MODIFIED:20231027T173409Z
UID:7098-1754386200-1754391600@www.olmcfssp.org
SUMMARY:Tuesday Morning Book Club
DESCRIPTION:The Tuesday morning book club meets to read and discuss a selected book that assists with spiritual growth and knowledge of our wonderful Catholic faith. All members of the parish are welcome to drop by and check us out.
URL:https://www.olmcfssp.org/calendar/tuesday-morning-book-club-131/
END:VEVENT
BEGIN:VEVENT
DTSTART;TZID=America/Denver:20250804T180000
DTEND;TZID=America/Denver:20250804T190000
DTSTAMP:20260422T163700
CREATED:20231201T185410Z
LAST-MODIFIED:20250801T005326Z
UID:8558-1754330400-1754334000@www.olmcfssp.org
SUMMARY:Legion of Mary Meeting
DESCRIPTION:The legion exists to be a sign of Mary’s maternal love for the world and a means of enlisting all her children in the Church’s evangelizing work. It is at the disposal of the parish priest for any form of service deemed useful for the welfare of the Church.
URL:https://www.olmcfssp.org/calendar/legion-of-mary-meeting-258/
END:VEVENT
BEGIN:VEVENT
DTSTART;TZID=America/Denver:20250803T170000
DTEND;TZID=America/Denver:20250803T180000
DTSTAMP:20260422T163700
CREATED:20231027T172513Z
LAST-MODIFIED:20250801T235330Z
UID:6399-1754240400-1754244000@www.olmcfssp.org
SUMMARY:Sung Vespers
DESCRIPTION:
URL:https://www.olmcfssp.org/calendar/sung-vespers-117/
END:VEVENT
BEGIN:VEVENT
DTSTART;TZID=America/Denver:20250803T140000
DTEND;TZID=America/Denver:20250803T170000
DTSTAMP:20260422T163700
CREATED:20231124T185438Z
LAST-MODIFIED:20250801T005326Z
UID:8508-1754229600-1754240400@www.olmcfssp.org
SUMMARY:Laeta Vita
DESCRIPTION:Leata Vita (Joyful Life) is a group for single women ages 18-35. The purpose of our group is to meet and grow in fellowship with other women who are in a similar season of life. We meet two times a month. The first meeting of the month consists of discussing a book as part of our book club and socializing with each other. The second meeting of the month consists of a fun outing or activity (and every now and then something charitable for the parish or some other organization)\, meant to give the members a chance to get out and have some fun.
URL:https://www.olmcfssp.org/calendar/laeta-vita-50/
END:VEVENT
END:VCALENDAR