BEGIN:VCALENDAR
VERSION:2.0
PRODID:-//Our Lady of Mt. Carmel - ECPv6.15.20//NONSGML v1.0//EN
CALSCALE:GREGORIAN
METHOD:PUBLISH
X-WR-CALNAME:Our Lady of Mt. Carmel
X-ORIGINAL-URL:https://www.olmcfssp.org
X-WR-CALDESC:Events for Our Lady of Mt. Carmel
REFRESH-INTERVAL;VALUE=DURATION:PT1H
X-Robots-Tag:noindex
X-PUBLISHED-TTL:PT1H
BEGIN:VTIMEZONE
TZID:America/Denver
BEGIN:DAYLIGHT
TZOFFSETFROM:-0700
TZOFFSETTO:-0600
TZNAME:MDT
DTSTART:20220313T090000
END:DAYLIGHT
BEGIN:STANDARD
TZOFFSETFROM:-0600
TZOFFSETTO:-0700
TZNAME:MST
DTSTART:20221106T080000
END:STANDARD
BEGIN:DAYLIGHT
TZOFFSETFROM:-0700
TZOFFSETTO:-0600
TZNAME:MDT
DTSTART:20230312T090000
END:DAYLIGHT
BEGIN:STANDARD
TZOFFSETFROM:-0600
TZOFFSETTO:-0700
TZNAME:MST
DTSTART:20231105T080000
END:STANDARD
BEGIN:DAYLIGHT
TZOFFSETFROM:-0700
TZOFFSETTO:-0600
TZNAME:MDT
DTSTART:20240310T090000
END:DAYLIGHT
BEGIN:STANDARD
TZOFFSETFROM:-0600
TZOFFSETTO:-0700
TZNAME:MST
DTSTART:20241103T080000
END:STANDARD
END:VTIMEZONE
BEGIN:VEVENT
DTSTART;TZID=America/Denver:20230524T190000
DTEND;TZID=America/Denver:20230524T203000
DTSTAMP:20260419T184355
CREATED:20230426T201933Z
LAST-MODIFIED:20230426T201933Z
UID:5017-1684954800-1684960200@www.olmcfssp.org
SUMMARY:Choir Practice
DESCRIPTION:
URL:https://www.olmcfssp.org/calendar/choir-practice-12/
END:VEVENT
BEGIN:VEVENT
DTSTART;TZID=America/Denver:20230524T180000
DTEND;TZID=America/Denver:20230524T204500
DTSTAMP:20260419T184355
CREATED:20230426T201759Z
LAST-MODIFIED:20230426T201800Z
UID:4994-1684951200-1684961100@www.olmcfssp.org
SUMMARY:Hibernia Music Group
DESCRIPTION:
URL:https://www.olmcfssp.org/calendar/hibernia-music-group-6/
END:VEVENT
BEGIN:VEVENT
DTSTART;TZID=America/Denver:20230524T093000
DTEND;TZID=America/Denver:20230524T103000
DTSTAMP:20260419T184355
CREATED:20230426T202048Z
LAST-MODIFIED:20230426T202048Z
UID:5036-1684920600-1684924200@www.olmcfssp.org
SUMMARY:Legion of Mary Meeting
DESCRIPTION:The legion exists to be a sign of Mary’s maternal love for the world and a means of enlisting all her children in the Church’s evangelizing work. It is at the disposal of the parish priest for any form of service deemed useful for the welfare of the Church.
URL:https://www.olmcfssp.org/calendar/legion-of-mary-meeting-27/
END:VEVENT
BEGIN:VEVENT
DTSTART;TZID=America/Denver:20230523T170000
DTEND;TZID=America/Denver:20230523T180000
DTSTAMP:20260419T184355
CREATED:20230426T200456Z
LAST-MODIFIED:20230426T200456Z
UID:4960-1684861200-1684864800@www.olmcfssp.org
SUMMARY:Shepherds of Christ Prayer Group
DESCRIPTION:
URL:https://www.olmcfssp.org/calendar/shepherds-of-christ-prayer-group-12/
END:VEVENT
BEGIN:VEVENT
DTSTART;TZID=America/Denver:20230523T093000
DTEND;TZID=America/Denver:20230523T110000
DTSTAMP:20260419T184355
CREATED:20230426T201837Z
LAST-MODIFIED:20230426T201838Z
UID:5006-1684834200-1684839600@www.olmcfssp.org
SUMMARY:Tuesday Morning Book Club
DESCRIPTION:The Tuesday morning book club meets to read and discuss a selected book that assists with spiritual growth and knowledge of our wonderful Catholic faith. All members of the parish are welcome to drop by and check us out.
URL:https://www.olmcfssp.org/calendar/tuesday-morning-book-club-12/
END:VEVENT
BEGIN:VEVENT
DTSTART;TZID=America/Denver:20230522T180000
DTEND;TZID=America/Denver:20230522T190000
DTSTAMP:20260419T184355
CREATED:20230426T202047Z
LAST-MODIFIED:20230426T202047Z
UID:5035-1684778400-1684782000@www.olmcfssp.org
SUMMARY:Legion of Mary Meeting
DESCRIPTION:The legion exists to be a sign of Mary’s maternal love for the world and a means of enlisting all her children in the Church’s evangelizing work. It is at the disposal of the parish priest for any form of service deemed useful for the welfare of the Church.
URL:https://www.olmcfssp.org/calendar/legion-of-mary-meeting-26/
END:VEVENT
BEGIN:VEVENT
DTSTART;TZID=America/Denver:20230521T170000
DTEND;TZID=America/Denver:20230521T180000
DTSTAMP:20260419T184355
CREATED:20230324T174429Z
LAST-MODIFIED:20230426T200455Z
UID:4685-1684688400-1684692000@www.olmcfssp.org
SUMMARY:Sung Vespers
DESCRIPTION:
URL:https://www.olmcfssp.org/calendar/vespers-9/
LOCATION:Church
END:VEVENT
BEGIN:VEVENT
DTSTART;TZID=America/Denver:20230521T140000
DTEND;TZID=America/Denver:20230521T170000
DTSTAMP:20260419T184355
CREATED:20230324T172410Z
LAST-MODIFIED:20230426T201800Z
UID:4596-1684677600-1684688400@www.olmcfssp.org
SUMMARY:Laeta Vita
DESCRIPTION:Leata Vita (Joyful Life) is a group for single women ages 18-35. The purpose of our group is to meet and grow in fellowship with other women who are in a similar season of life. We meet two times a month. The first meeting of the month consists of discussing a book as part of our book club and socializing with each other. The second meeting of the month consists of a fun outing or activity (and every now and then something charitable for the parish or some other organization)\, meant to give the members a chance to get out and have some fun.
URL:https://www.olmcfssp.org/calendar/young-ladies-of-olmc-meeting-2/
LOCATION:St. Elijah Basement Room
END:VEVENT
BEGIN:VEVENT
DTSTART;TZID=America/Denver:20230521T123000
DTEND;TZID=America/Denver:20230521T140000
DTSTAMP:20260419T184355
CREATED:20230324T173258Z
LAST-MODIFIED:20230426T202047Z
UID:4618-1684672200-1684677600@www.olmcfssp.org
SUMMARY:Knights of Columbus Meeting
DESCRIPTION:As faithful Catholics\, we are called to be salt and light in this material world. As traditional Catholics within the Church Universal\, we are sometimes called\, in charity\, to bring more illumination and flavor to our fellow Catholics. Let us join with him in spreading the message within the Knights of Columbus.
URL:https://www.olmcfssp.org/calendar/knights-of-columbus-meeting-2/
LOCATION:St. Teresa of Avila Basement Room
END:VEVENT
BEGIN:VEVENT
DTSTART;TZID=America/Denver:20230521T123000
DTEND;TZID=America/Denver:20230521T140000
DTSTAMP:20260419T184355
CREATED:20230324T171721Z
LAST-MODIFIED:20230426T201838Z
UID:4579-1684672200-1684677600@www.olmcfssp.org
SUMMARY:Creation Study Group Meeting
DESCRIPTION:This group is dedicated to studying the traditional Catholic teaching on creation and Genesis as believed and taught by the Doctors\, Fathers\, Councils and Popes for two thousand years. We explore various aspects of the creation/evolutionism debate and the effects of evolutionary thought on culture\, science and the Church. As Pope St Pius X said about Modernism\, that it is the “synthesis of all heresies.” And “the chief of their doctrines\, that of evolution.” \nAll are welcome to attend and contribute their experience and expertise.
URL:https://www.olmcfssp.org/calendar/creation-study-group-meeting-2/
LOCATION:St. John of the Cross Conference Room
END:VEVENT
BEGIN:VEVENT
DTSTART;TZID=America/Denver:20230520T180000
DTEND;TZID=America/Denver:20230520T210000
DTSTAMP:20260419T184355
CREATED:20230426T200844Z
LAST-MODIFIED:20230426T200844Z
UID:4976-1684605600-1684616400@www.olmcfssp.org
SUMMARY:Irish Ceili
DESCRIPTION:Irish Ceili from 6-8:30pm at OLMC. This is an Irish music and dance party for the whole family! Tickets: $10 for adults\, $5 for 6-18 and 60+\,  \n6 & under free\, $40 family cap. Please RSVP by May 16 at https://forms.gle/nqj4zVwepTa4EQVQ7 \nFor questions\, contact johannaconder@yahoo.com.
URL:https://www.olmcfssp.org/calendar/irish-ceili/
END:VEVENT
BEGIN:VEVENT
DTSTART;TZID=America/Denver:20230520T120000
DTEND;TZID=America/Denver:20230520T140000
DTSTAMP:20260419T184355
CREATED:20230426T200844Z
LAST-MODIFIED:20230426T200844Z
UID:4975-1684584000-1684591200@www.olmcfssp.org
SUMMARY:First Sacraments Reception
DESCRIPTION:
URL:https://www.olmcfssp.org/calendar/first-sacraments-reception/
END:VEVENT
BEGIN:VEVENT
DTSTART;TZID=America/Denver:20230520T103000
DTEND;TZID=America/Denver:20230520T120000
DTSTAMP:20260419T184355
CREATED:20230426T200455Z
LAST-MODIFIED:20230426T200455Z
UID:4958-1684578600-1684584000@www.olmcfssp.org
SUMMARY:First Sacraments
DESCRIPTION:50 Children from OLMC will be receiving their First Holy Communion and Confirmation on this day. All parishioners are welcome to attend the Mass to both support and pray for them.
URL:https://www.olmcfssp.org/calendar/first-sacraments/
END:VEVENT
BEGIN:VEVENT
DTSTART;TZID=America/Denver:20230520T093000
DTEND;TZID=America/Denver:20230520T120000
DTSTAMP:20260419T184355
CREATED:20230426T201652Z
LAST-MODIFIED:20230426T201654Z
UID:4986-1684575000-1684584000@www.olmcfssp.org
SUMMARY:Altar & Rosary Society Meeting
DESCRIPTION:The Altar and Rosary Society is an organization of women who foster and spread devotion to the Holy Rosary\, maintain the cleanliness of the church sanctuary\, wash and iron altar linens\, and arrange flowers for the altar.
URL:https://www.olmcfssp.org/calendar/altar-rosary-society-meeting-3/
END:VEVENT
BEGIN:VEVENT
DTSTART;TZID=America/Denver:20230518T190000
DTEND;TZID=America/Denver:20230518T201500
DTSTAMP:20260419T184355
CREATED:20230426T200455Z
LAST-MODIFIED:20230426T200455Z
UID:4957-1684436400-1684440900@www.olmcfssp.org
SUMMARY:High Mass\, Ascension Thursday
DESCRIPTION:
URL:https://www.olmcfssp.org/calendar/high-mass-ascension-thursday/
END:VEVENT
BEGIN:VEVENT
DTSTART;TZID=America/Denver:20230518T120000
DTEND;TZID=America/Denver:20230518T130000
DTSTAMP:20260419T184355
CREATED:20230426T200455Z
LAST-MODIFIED:20230426T200455Z
UID:4956-1684411200-1684414800@www.olmcfssp.org
SUMMARY:Low Mass\, Ascension Thursday
DESCRIPTION:
URL:https://www.olmcfssp.org/calendar/low-mass-ascension-thursday-2/
END:VEVENT
BEGIN:VEVENT
DTSTART;TZID=America/Denver:20230518T083000
DTEND;TZID=America/Denver:20230518T093000
DTSTAMP:20260419T184355
CREATED:20230426T200454Z
LAST-MODIFIED:20230426T200454Z
UID:4955-1684398600-1684402200@www.olmcfssp.org
SUMMARY:Low Mass\, Ascension Thursday
DESCRIPTION:
URL:https://www.olmcfssp.org/calendar/low-mass-ascension-thursday/
END:VEVENT
BEGIN:VEVENT
DTSTART;VALUE=DATE:20230518
DTEND;VALUE=DATE:20230519
DTSTAMP:20260419T184355
CREATED:20230426T200843Z
LAST-MODIFIED:20230426T200843Z
UID:4974-1684368000-1684454399@www.olmcfssp.org
SUMMARY:Parish Office Closed
DESCRIPTION:
URL:https://www.olmcfssp.org/calendar/parish-office-closed-4/
END:VEVENT
BEGIN:VEVENT
DTSTART;TZID=America/Denver:20230517T190000
DTEND;TZID=America/Denver:20230517T203000
DTSTAMP:20260419T184355
CREATED:20230426T201933Z
LAST-MODIFIED:20230426T201933Z
UID:5016-1684350000-1684355400@www.olmcfssp.org
SUMMARY:Choir Practice
DESCRIPTION:
URL:https://www.olmcfssp.org/calendar/choir-practice-11/
END:VEVENT
BEGIN:VEVENT
DTSTART;TZID=America/Denver:20230517T180000
DTEND;TZID=America/Denver:20230517T210000
DTSTAMP:20260419T184355
CREATED:20230426T200843Z
LAST-MODIFIED:20230426T200843Z
UID:4973-1684346400-1684357200@www.olmcfssp.org
SUMMARY:St. John Bosco Youth Group
DESCRIPTION:St. John Bosco Youth Group is intended for teenagers ages 14-18 who are looking to form community and grow their Faith with others their age. Our typical youth nights include praying the Rosary\, a talk\, and lots of fun games!
URL:https://www.olmcfssp.org/calendar/st-john-bosco-youth-group-3/
END:VEVENT
BEGIN:VEVENT
DTSTART;TZID=America/Denver:20230517T093000
DTEND;TZID=America/Denver:20230517T103000
DTSTAMP:20260419T184355
CREATED:20230426T202044Z
LAST-MODIFIED:20230426T202047Z
UID:5028-1684315800-1684319400@www.olmcfssp.org
SUMMARY:Legion of Mary Meeting
DESCRIPTION:The legion exists to be a sign of Mary’s maternal love for the world and a means of enlisting all her children in the Church’s evangelizing work. It is at the disposal of the parish priest for any form of service deemed useful for the welfare of the Church.
URL:https://www.olmcfssp.org/calendar/legion-of-mary-meeting-25/
END:VEVENT
BEGIN:VEVENT
DTSTART;TZID=America/Denver:20230516T170000
DTEND;TZID=America/Denver:20230516T180000
DTSTAMP:20260419T184355
CREATED:20230426T200452Z
LAST-MODIFIED:20230426T200454Z
UID:4948-1684256400-1684260000@www.olmcfssp.org
SUMMARY:Shepherds of Christ Prayer Group
DESCRIPTION:
URL:https://www.olmcfssp.org/calendar/shepherds-of-christ-prayer-group-11/
END:VEVENT
BEGIN:VEVENT
DTSTART;TZID=America/Denver:20230516T143000
DTEND;TZID=America/Denver:20230516T160000
DTSTAMP:20260419T184355
CREATED:20230426T202044Z
LAST-MODIFIED:20230426T202047Z
UID:5027-1684247400-1684252800@www.olmcfssp.org
SUMMARY:Legion of Mary Meeting
DESCRIPTION:The legion exists to be a sign of Mary’s maternal love for the world and a means of enlisting all her children in the Church’s evangelizing work. It is at the disposal of the parish priest for any form of service deemed useful for the welfare of the Church.
URL:https://www.olmcfssp.org/calendar/legion-of-mary-meeting-24/
END:VEVENT
BEGIN:VEVENT
DTSTART;TZID=America/Denver:20230516T093000
DTEND;TZID=America/Denver:20230516T110000
DTSTAMP:20260419T184355
CREATED:20230426T201836Z
LAST-MODIFIED:20230426T201838Z
UID:5003-1684229400-1684234800@www.olmcfssp.org
SUMMARY:Tuesday Morning Book Club
DESCRIPTION:The Tuesday morning book club meets to read and discuss a selected book that assists with spiritual growth and knowledge of our wonderful Catholic faith. All members of the parish are welcome to drop by and check us out.
URL:https://www.olmcfssp.org/calendar/tuesday-morning-book-club-11/
END:VEVENT
BEGIN:VEVENT
DTSTART;TZID=America/Denver:20230515T180000
DTEND;TZID=America/Denver:20230515T190000
DTSTAMP:20260419T184355
CREATED:20230426T202044Z
LAST-MODIFIED:20230426T202046Z
UID:5026-1684173600-1684177200@www.olmcfssp.org
SUMMARY:Legion of Mary Meeting
DESCRIPTION:The legion exists to be a sign of Mary’s maternal love for the world and a means of enlisting all her children in the Church’s evangelizing work. It is at the disposal of the parish priest for any form of service deemed useful for the welfare of the Church.
URL:https://www.olmcfssp.org/calendar/legion-of-mary-meeting-23/
END:VEVENT
BEGIN:VEVENT
DTSTART;TZID=America/Denver:20230514T170000
DTEND;TZID=America/Denver:20230514T180000
DTSTAMP:20260419T184355
CREATED:20230324T174427Z
LAST-MODIFIED:20230426T200454Z
UID:4666-1684083600-1684087200@www.olmcfssp.org
SUMMARY:Sung Vespers
DESCRIPTION:
URL:https://www.olmcfssp.org/calendar/vespers-6/
LOCATION:Church
END:VEVENT
BEGIN:VEVENT
DTSTART;TZID=America/Denver:20230514T160000
DTEND;TZID=America/Denver:20230514T170000
DTSTAMP:20260419T184355
CREATED:20230426T200843Z
LAST-MODIFIED:20230426T203740Z
UID:4972-1684080000-1684083600@www.olmcfssp.org
SUMMARY:Homeschool Co-Op Play: The Enchanted Bookshop
DESCRIPTION:Schola Rosa Homeschool Co-Op presents their spring play\, The Enchanted Bookshop at 6:30pm in the parish hall. Donations gratefully accepted. Dessert reception to follow.
URL:https://www.olmcfssp.org/calendar/homeschool-co-op-play-the-enchanted-bookshop/
END:VEVENT
BEGIN:VEVENT
DTSTART;TZID=America/Denver:20230513T130000
DTEND;TZID=America/Denver:20230513T160000
DTSTAMP:20260419T184355
CREATED:20230426T201652Z
LAST-MODIFIED:20230426T201653Z
UID:4985-1683982800-1683993600@www.olmcfssp.org
SUMMARY:Hibernia Music Group
DESCRIPTION:
URL:https://www.olmcfssp.org/calendar/hibernia-music-group-5/
END:VEVENT
BEGIN:VEVENT
DTSTART;TZID=America/Denver:20230513T093000
DTEND;TZID=America/Denver:20230513T113000
DTSTAMP:20260419T184355
CREATED:20230426T201759Z
LAST-MODIFIED:20230426T201759Z
UID:4992-1683970200-1683977400@www.olmcfssp.org
SUMMARY:Holy Name Society Meeting
DESCRIPTION:The Holy Name Society is an organization of men striving to grow in holiness. The group is open to all men of the parish over the age of 18. Meetings include Mass\, the recitation of the Holy Rosary\, breakfast and a spiritual talk.
URL:https://www.olmcfssp.org/calendar/holy-name-society-meeting-2/
END:VEVENT
BEGIN:VEVENT
DTSTART;TZID=America/Denver:20230513T093000
DTEND;TZID=America/Denver:20230513T110000
DTSTAMP:20260419T184355
CREATED:20230426T202044Z
LAST-MODIFIED:20230426T202046Z
UID:5025-1683970200-1683975600@www.olmcfssp.org
SUMMARY:St. Therese Book Club
DESCRIPTION:Come and study the works of St. Therese as a group. All are welcome.
URL:https://www.olmcfssp.org/calendar/st-therese-book-club-2/
END:VEVENT
END:VCALENDAR