BEGIN:VCALENDAR
VERSION:2.0
PRODID:-//Our Lady of Mt. Carmel - ECPv6.15.20//NONSGML v1.0//EN
CALSCALE:GREGORIAN
METHOD:PUBLISH
X-WR-CALNAME:Our Lady of Mt. Carmel
X-ORIGINAL-URL:https://www.olmcfssp.org
X-WR-CALDESC:Events for Our Lady of Mt. Carmel
REFRESH-INTERVAL;VALUE=DURATION:PT1H
X-Robots-Tag:noindex
X-PUBLISHED-TTL:PT1H
BEGIN:VTIMEZONE
TZID:America/Denver
BEGIN:DAYLIGHT
TZOFFSETFROM:-0700
TZOFFSETTO:-0600
TZNAME:MDT
DTSTART:20240310T090000
END:DAYLIGHT
BEGIN:STANDARD
TZOFFSETFROM:-0600
TZOFFSETTO:-0700
TZNAME:MST
DTSTART:20241103T080000
END:STANDARD
BEGIN:DAYLIGHT
TZOFFSETFROM:-0700
TZOFFSETTO:-0600
TZNAME:MDT
DTSTART:20250309T090000
END:DAYLIGHT
BEGIN:STANDARD
TZOFFSETFROM:-0600
TZOFFSETTO:-0700
TZNAME:MST
DTSTART:20251102T080000
END:STANDARD
BEGIN:DAYLIGHT
TZOFFSETFROM:-0700
TZOFFSETTO:-0600
TZNAME:MDT
DTSTART:20260308T090000
END:DAYLIGHT
BEGIN:STANDARD
TZOFFSETFROM:-0600
TZOFFSETTO:-0700
TZNAME:MST
DTSTART:20261101T080000
END:STANDARD
END:VTIMEZONE
BEGIN:VEVENT
DTSTART;TZID=America/Denver:20251209T093000
DTEND;TZID=America/Denver:20251209T110000
DTSTAMP:20260421T181434
CREATED:20231215T195340Z
LAST-MODIFIED:20251206T042330Z
UID:8665-1765272600-1765278000@www.olmcfssp.org
SUMMARY:Tuesday Morning Book Club
DESCRIPTION:The Tuesday morning book club meets to read and discuss a selected book that assists with spiritual growth and knowledge of our wonderful Catholic faith. All members of the parish are welcome to drop by and check us out.
URL:https://www.olmcfssp.org/calendar/tuesday-morning-book-club-148/
END:VEVENT
BEGIN:VEVENT
DTSTART;TZID=America/Denver:20251209T170000
DTEND;TZID=America/Denver:20251209T180000
DTSTAMP:20260421T181434
CREATED:20231215T182414Z
LAST-MODIFIED:20251206T023842Z
UID:8647-1765299600-1765303200@www.olmcfssp.org
SUMMARY:Shepherds of Christ Prayer Group
DESCRIPTION:
URL:https://www.olmcfssp.org/calendar/shepherds-of-christ-prayer-group-149/
END:VEVENT
BEGIN:VEVENT
DTSTART;TZID=America/Denver:20251210T190000
DTEND;TZID=America/Denver:20251210T203000
DTSTAMP:20260421T181434
CREATED:20231215T203834Z
LAST-MODIFIED:20251206T035343Z
UID:8668-1765393200-1765398600@www.olmcfssp.org
SUMMARY:Choir Practice
DESCRIPTION:
URL:https://www.olmcfssp.org/calendar/choir-practice-147/
END:VEVENT
BEGIN:VEVENT
DTSTART;TZID=America/Denver:20251211T093000
DTEND;TZID=America/Denver:20251211T103000
DTSTAMP:20260421T181434
CREATED:20240712T220707Z
LAST-MODIFIED:20251205T030830Z
UID:9366-1765445400-1765449000@www.olmcfssp.org
SUMMARY:Legion of Mary Meeting
DESCRIPTION:The legion exists to be a sign of Mary’s maternal love for the world and a means of enlisting all her children in the Church’s evangelizing work. It is at the disposal of the parish priest for any form of service deemed useful for the welfare of the Church.
URL:https://www.olmcfssp.org/calendar/legion-of-mary-meeting-295/
END:VEVENT
BEGIN:VEVENT
DTSTART;TZID=America/Denver:20251213T093000
DTEND;TZID=America/Denver:20251213T113000
DTSTAMP:20260421T181434
CREATED:20231215T193825Z
LAST-MODIFIED:20251213T055331Z
UID:8662-1765618200-1765625400@www.olmcfssp.org
SUMMARY:Holy Name Society Meeting
DESCRIPTION:The Holy Name Society is an organization of men striving to grow in holiness. The group is open to all men of the parish over the age of 18. Meetings include Mass\, the recitation of the Holy Rosary\, breakfast and a spiritual talk.
URL:https://www.olmcfssp.org/calendar/holy-name-society-meeting-32/
END:VEVENT
BEGIN:VEVENT
DTSTART;TZID=America/Denver:20251213T093000
DTEND;TZID=America/Denver:20251213T130000
DTSTAMP:20260421T181434
CREATED:20231215T192333Z
LAST-MODIFIED:20251213T030828Z
UID:8659-1765618200-1765630800@www.olmcfssp.org
SUMMARY:St. Teresa of Jesus Association
DESCRIPTION:A formation in the spirituality of St. Teresa of Jesus within a Study Group composed of men and women over the age of 25 years. This formation includes daily Mass\, Lectio Divina\, Divine Office and the living a life of apostolic endeavors: ministering to our families and the world.  The members endeavor to give glory to God\, to honor our Blessed Lady of Carmel and to aid our Holy Mother the Church by their prayers.
URL:https://www.olmcfssp.org/calendar/st-teresa-of-jesus-association-33/
END:VEVENT
BEGIN:VEVENT
DTSTART;TZID=America/Denver:20251213T130000
DTEND;TZID=America/Denver:20251213T160000
DTSTAMP:20260421T181434
CREATED:20240712T220707Z
LAST-MODIFIED:20251212T030830Z
UID:9367-1765630800-1765641600@www.olmcfssp.org
SUMMARY:Hibernia Music Group
DESCRIPTION:An OLMC acoustic music group. We play traditional Irish\, Folk and Americana music. All are welcome to join us\, beginner or advanced\, Instrumentalist or Vocalist. Our goal is to sharpen our skills\, increase our musical knowledge\, have good Catholic fellowship\, and share our music.
URL:https://www.olmcfssp.org/calendar/hibernia-music-group-66/
END:VEVENT
BEGIN:VEVENT
DTSTART;TZID=America/Denver:20251214T123000
DTEND;TZID=America/Denver:20251214T140000
DTSTAMP:20260421T181434
CREATED:20240712T220707Z
LAST-MODIFIED:20251212T030830Z
UID:9368-1765715400-1765720800@www.olmcfssp.org
SUMMARY:Knights of Columbus Meeting
DESCRIPTION:As faithful Catholics\, we are called to be salt and light in this material world. As traditional Catholics within the Church Universal\, we are sometimes called\, in charity\, to bring more illumination and flavor to our fellow Catholics. Let us join with him in spreading the message within the Knights of Columbus.
URL:https://www.olmcfssp.org/calendar/knights-of-columbus-meeting-33/
END:VEVENT
BEGIN:VEVENT
DTSTART;TZID=America/Denver:20251214T170000
DTEND;TZID=America/Denver:20251214T180000
DTSTAMP:20260421T181434
CREATED:20231215T182414Z
LAST-MODIFIED:20251213T023847Z
UID:8648-1765731600-1765735200@www.olmcfssp.org
SUMMARY:Sung Vespers
DESCRIPTION:
URL:https://www.olmcfssp.org/calendar/sung-vespers-136/
END:VEVENT
BEGIN:VEVENT
DTSTART;TZID=America/Denver:20251215T180000
DTEND;TZID=America/Denver:20251215T190000
DTSTAMP:20260421T181434
CREATED:20240712T220708Z
LAST-MODIFIED:20251212T030830Z
UID:9369-1765821600-1765825200@www.olmcfssp.org
SUMMARY:Legion of Mary Meeting
DESCRIPTION:The legion exists to be a sign of Mary’s maternal love for the world and a means of enlisting all her children in the Church’s evangelizing work. It is at the disposal of the parish priest for any form of service deemed useful for the welfare of the Church.
URL:https://www.olmcfssp.org/calendar/legion-of-mary-meeting-296/
END:VEVENT
BEGIN:VEVENT
DTSTART;TZID=America/Denver:20251216T093000
DTEND;TZID=America/Denver:20251216T110000
DTSTAMP:20260421T181434
CREATED:20240712T221119Z
LAST-MODIFIED:20251213T043836Z
UID:9447-1765877400-1765882800@www.olmcfssp.org
SUMMARY:Tuesday Morning Book Club
DESCRIPTION:The Tuesday morning book club meets to read and discuss a selected book that assists with spiritual growth and knowledge of our wonderful Catholic faith. All members of the parish are welcome to drop by and check us out.
URL:https://www.olmcfssp.org/calendar/tuesday-morning-book-club-149/
END:VEVENT
BEGIN:VEVENT
DTSTART;TZID=America/Denver:20251216T170000
DTEND;TZID=America/Denver:20251216T180000
DTSTAMP:20260421T181434
CREATED:20240110T185521Z
LAST-MODIFIED:20251213T023847Z
UID:8725-1765904400-1765908000@www.olmcfssp.org
SUMMARY:Shepherds of Christ Prayer Group
DESCRIPTION:
URL:https://www.olmcfssp.org/calendar/shepherds-of-christ-prayer-group-150/
END:VEVENT
BEGIN:VEVENT
DTSTART;TZID=America/Denver:20251217T190000
DTEND;TZID=America/Denver:20251217T203000
DTSTAMP:20260421T181434
CREATED:20240712T221256Z
LAST-MODIFIED:20251213T035329Z
UID:9489-1765998000-1766003400@www.olmcfssp.org
SUMMARY:Choir Practice
DESCRIPTION:
URL:https://www.olmcfssp.org/calendar/choir-practice-148/
END:VEVENT
BEGIN:VEVENT
DTSTART;TZID=America/Denver:20251218T093000
DTEND;TZID=America/Denver:20251218T103000
DTSTAMP:20260421T181434
CREATED:20240712T220708Z
LAST-MODIFIED:20251212T030830Z
UID:9370-1766050200-1766053800@www.olmcfssp.org
SUMMARY:Legion of Mary Meeting
DESCRIPTION:The legion exists to be a sign of Mary’s maternal love for the world and a means of enlisting all her children in the Church’s evangelizing work. It is at the disposal of the parish priest for any form of service deemed useful for the welfare of the Church.
URL:https://www.olmcfssp.org/calendar/legion-of-mary-meeting-297/
END:VEVENT
BEGIN:VEVENT
DTSTART;TZID=America/Denver:20251218T093000
DTEND;TZID=America/Denver:20251218T110000
DTSTAMP:20260421T181434
CREATED:20240712T221453Z
LAST-MODIFIED:20251213T030828Z
UID:9522-1766050200-1766055600@www.olmcfssp.org
SUMMARY:St. Therese Book Club
DESCRIPTION:Come and study the works of St. Therese as a group. All are welcome.
URL:https://www.olmcfssp.org/calendar/st-therese-book-club-34/
END:VEVENT
BEGIN:VEVENT
DTSTART;TZID=America/Denver:20251220T093000
DTEND;TZID=America/Denver:20251220T120000
DTSTAMP:20260421T181434
CREATED:20240110T230819Z
LAST-MODIFIED:20251220T060828Z
UID:8769-1766223000-1766232000@www.olmcfssp.org
SUMMARY:Altar and Rosary Society Meeting
DESCRIPTION:The Altar and Rosary Society is an organization of women who foster and spread devotion to the Holy Rosary\, maintain the cleanliness of the church sanctuary\, wash and iron altar linens\, and arrange flowers for the altar.
URL:https://www.olmcfssp.org/calendar/altar-and-rosary-society-meeting-27/
END:VEVENT
BEGIN:VEVENT
DTSTART;TZID=America/Denver:20251221T123000
DTEND;TZID=America/Denver:20251221T140000
DTSTAMP:20260421T181434
CREATED:20240712T221120Z
LAST-MODIFIED:20251220T043830Z
UID:9448-1766320200-1766325600@www.olmcfssp.org
SUMMARY:Creation Study Group
DESCRIPTION:This group is dedicated to studying the traditional Catholic teaching on creation and Genesis as believed and taught by the Doctors\, Fathers\, Councils and Popes for two thousand years. We explore various aspects of the creation/evolutionism debate and the effects of evolutionary thought on culture\, science and the Church. As Pope St Pius X said about Modernism\, that it is the “synthesis of all heresies.” And “the chief of their doctrines\, that of evolution.” \nAll are welcome to attend and contribute their experience and expertise.
URL:https://www.olmcfssp.org/calendar/creation-study-group-26/
END:VEVENT
BEGIN:VEVENT
DTSTART;TZID=America/Denver:20251221T140000
DTEND;TZID=America/Denver:20251221T170000
DTSTAMP:20260421T181434
CREATED:20240712T220708Z
LAST-MODIFIED:20251219T030830Z
UID:9371-1766325600-1766336400@www.olmcfssp.org
SUMMARY:Laeta Vita
DESCRIPTION:Leata Vita (Joyful Life) is a group for single women ages 18-35. The purpose of our group is to meet and grow in fellowship with other women who are in a similar season of life. We meet two times a month. The first meeting of the month consists of discussing a book as part of our book club and socializing with each other. The second meeting of the month consists of a fun outing or activity (and every now and then something charitable for the parish or some other organization)\, meant to give the members a chance to get out and have some fun.
URL:https://www.olmcfssp.org/calendar/laeta-vita-60/
END:VEVENT
BEGIN:VEVENT
DTSTART;TZID=America/Denver:20251221T170000
DTEND;TZID=America/Denver:20251221T180000
DTSTAMP:20260421T181434
CREATED:20240110T185521Z
LAST-MODIFIED:20251220T023841Z
UID:8726-1766336400-1766340000@www.olmcfssp.org
SUMMARY:Sung Vespers
DESCRIPTION:
URL:https://www.olmcfssp.org/calendar/sung-vespers-137/
END:VEVENT
BEGIN:VEVENT
DTSTART;TZID=America/Denver:20251222T180000
DTEND;TZID=America/Denver:20251222T190000
DTSTAMP:20260421T181434
CREATED:20240712T220708Z
LAST-MODIFIED:20251219T030830Z
UID:9372-1766426400-1766430000@www.olmcfssp.org
SUMMARY:Legion of Mary Meeting
DESCRIPTION:The legion exists to be a sign of Mary’s maternal love for the world and a means of enlisting all her children in the Church’s evangelizing work. It is at the disposal of the parish priest for any form of service deemed useful for the welfare of the Church.
URL:https://www.olmcfssp.org/calendar/legion-of-mary-meeting-298/
END:VEVENT
BEGIN:VEVENT
DTSTART;TZID=America/Denver:20251223T093000
DTEND;TZID=America/Denver:20251223T110000
DTSTAMP:20260421T181434
CREATED:20240712T221120Z
LAST-MODIFIED:20251220T043830Z
UID:9449-1766482200-1766487600@www.olmcfssp.org
SUMMARY:Tuesday Morning Book Club
DESCRIPTION:The Tuesday morning book club meets to read and discuss a selected book that assists with spiritual growth and knowledge of our wonderful Catholic faith. All members of the parish are welcome to drop by and check us out.
URL:https://www.olmcfssp.org/calendar/tuesday-morning-book-club-150/
END:VEVENT
BEGIN:VEVENT
DTSTART;TZID=America/Denver:20251223T170000
DTEND;TZID=America/Denver:20251223T180000
DTSTAMP:20260421T181434
CREATED:20240110T185521Z
LAST-MODIFIED:20251220T023841Z
UID:8727-1766509200-1766512800@www.olmcfssp.org
SUMMARY:Shepherds of Christ Prayer Group
DESCRIPTION:
URL:https://www.olmcfssp.org/calendar/shepherds-of-christ-prayer-group-151/
END:VEVENT
BEGIN:VEVENT
DTSTART;TZID=America/Denver:20251224T180000
DTEND;TZID=America/Denver:20251224T210000
DTSTAMP:20260421T181434
CREATED:20240712T220708Z
LAST-MODIFIED:20251219T030830Z
UID:9373-1766599200-1766610000@www.olmcfssp.org
SUMMARY:Hibernia Music Group
DESCRIPTION:An OLMC acoustic music group. We play traditional Irish\, Folk and Americana music. All are welcome to join us\, beginner or advanced\, Instrumentalist or Vocalist. Our goal is to sharpen our skills\, increase our musical knowledge\, have good Catholic fellowship\, and share our music.
URL:https://www.olmcfssp.org/calendar/hibernia-music-group-67/
END:VEVENT
BEGIN:VEVENT
DTSTART;TZID=America/Denver:20251224T190000
DTEND;TZID=America/Denver:20251224T203000
DTSTAMP:20260421T181434
CREATED:20240712T221256Z
LAST-MODIFIED:20251220T035329Z
UID:9490-1766602800-1766608200@www.olmcfssp.org
SUMMARY:Choir Practice
DESCRIPTION:
URL:https://www.olmcfssp.org/calendar/choir-practice-149/
END:VEVENT
BEGIN:VEVENT
DTSTART;TZID=America/Denver:20251225T093000
DTEND;TZID=America/Denver:20251225T103000
DTSTAMP:20260421T181434
CREATED:20240712T220708Z
LAST-MODIFIED:20251219T030830Z
UID:9374-1766655000-1766658600@www.olmcfssp.org
SUMMARY:Legion of Mary Meeting
DESCRIPTION:The legion exists to be a sign of Mary’s maternal love for the world and a means of enlisting all her children in the Church’s evangelizing work. It is at the disposal of the parish priest for any form of service deemed useful for the welfare of the Church.
URL:https://www.olmcfssp.org/calendar/legion-of-mary-meeting-299/
END:VEVENT
BEGIN:VEVENT
DTSTART;TZID=America/Denver:20251227T101500
DTEND;TZID=America/Denver:20251227T110000
DTSTAMP:20260421T181434
CREATED:20240712T215502Z
LAST-MODIFIED:20251227T053829Z
UID:9224-1766830500-1766833200@www.olmcfssp.org
SUMMARY:Planned Parenthood Prayer Vigil
DESCRIPTION:Please join us for our monthly parish prayer vigil at Planned Parenthood starting at 10:15 am. The facility is located at 7155 E 38th Ave. in Denver.
URL:https://www.olmcfssp.org/calendar/planned-parenthood-prayer-vigil-49/
END:VEVENT
BEGIN:VEVENT
DTSTART;TZID=America/Denver:20251228T120000
DTEND;TZID=America/Denver:20251228T143000
DTSTAMP:20260421T181434
CREATED:20240712T215735Z
LAST-MODIFIED:20251227T060831Z
UID:9267-1766923200-1766932200@www.olmcfssp.org
SUMMARY:Adult Chess Club
DESCRIPTION:For players 18 and over. Players must RSVP to Mr. Mudd at rdm3rdm3@gmail.com to reserve their spot as space is limited.
URL:https://www.olmcfssp.org/calendar/adult-chess-club-6/
END:VEVENT
BEGIN:VEVENT
DTSTART;TZID=America/Denver:20251228T123000
DTEND;TZID=America/Denver:20251228T141500
DTSTAMP:20260421T181434
CREATED:20240712T220708Z
LAST-MODIFIED:20251226T030831Z
UID:9375-1766925000-1766931300@www.olmcfssp.org
SUMMARY:Carmel Rookies Chess Club
DESCRIPTION:Carmel Rookies Chess Club for players under 18. Players/parents must RSVP to Mr. Mudd at rdm3rdm3@gmail.com to reserve their spot as space is limited.
URL:https://www.olmcfssp.org/calendar/carmel-rookies-chess-club-69/
END:VEVENT
BEGIN:VEVENT
DTSTART;TZID=America/Denver:20251228T170000
DTEND;TZID=America/Denver:20251228T180000
DTSTAMP:20260421T181434
CREATED:20240110T185521Z
LAST-MODIFIED:20251227T023831Z
UID:8728-1766941200-1766944800@www.olmcfssp.org
SUMMARY:Sung Vespers
DESCRIPTION:
URL:https://www.olmcfssp.org/calendar/sung-vespers-138/
END:VEVENT
BEGIN:VEVENT
DTSTART;TZID=America/Denver:20251229T180000
DTEND;TZID=America/Denver:20251229T190000
DTSTAMP:20260421T181434
CREATED:20240712T220708Z
LAST-MODIFIED:20251226T030831Z
UID:9376-1767031200-1767034800@www.olmcfssp.org
SUMMARY:Legion of Mary Meeting
DESCRIPTION:The legion exists to be a sign of Mary’s maternal love for the world and a means of enlisting all her children in the Church’s evangelizing work. It is at the disposal of the parish priest for any form of service deemed useful for the welfare of the Church.
URL:https://www.olmcfssp.org/calendar/legion-of-mary-meeting-300/
END:VEVENT
END:VCALENDAR