BEGIN:VCALENDAR
VERSION:2.0
PRODID:-//Our Lady of Mt. Carmel - ECPv6.15.20//NONSGML v1.0//EN
CALSCALE:GREGORIAN
METHOD:PUBLISH
X-ORIGINAL-URL:https://www.olmcfssp.org
X-WR-CALDESC:Events for Our Lady of Mt. Carmel
REFRESH-INTERVAL;VALUE=DURATION:PT1H
X-Robots-Tag:noindex
X-PUBLISHED-TTL:PT1H
BEGIN:VTIMEZONE
TZID:America/Denver
BEGIN:DAYLIGHT
TZOFFSETFROM:-0700
TZOFFSETTO:-0600
TZNAME:MDT
DTSTART:20260308T090000
END:DAYLIGHT
BEGIN:STANDARD
TZOFFSETFROM:-0600
TZOFFSETTO:-0700
TZNAME:MST
DTSTART:20261101T080000
END:STANDARD
BEGIN:DAYLIGHT
TZOFFSETFROM:-0700
TZOFFSETTO:-0600
TZNAME:MDT
DTSTART:20270314T090000
END:DAYLIGHT
BEGIN:STANDARD
TZOFFSETFROM:-0600
TZOFFSETTO:-0700
TZNAME:MST
DTSTART:20271107T080000
END:STANDARD
BEGIN:DAYLIGHT
TZOFFSETFROM:-0700
TZOFFSETTO:-0600
TZNAME:MDT
DTSTART:20280312T090000
END:DAYLIGHT
BEGIN:STANDARD
TZOFFSETFROM:-0600
TZOFFSETTO:-0700
TZNAME:MST
DTSTART:20281105T080000
END:STANDARD
END:VTIMEZONE
BEGIN:VEVENT
DTSTART;TZID=America/Denver:20271102T170000
DTEND;TZID=America/Denver:20271102T180000
DTSTAMP:20260422T162115
CREATED:20251108T020839Z
LAST-MODIFIED:20260418T022334Z
UID:13405-1825174800-1825178400@www.olmcfssp.org
SUMMARY:Shepherds of Christ Prayer Group
DESCRIPTION:
URL:https://www.olmcfssp.org/calendar/shepherds-of-christ-prayer-group-248/
END:VEVENT
BEGIN:VEVENT
DTSTART;TZID=America/Denver:20271103T183000
DTEND;TZID=America/Denver:20271103T203000
DTSTAMP:20260422T162115
CREATED:20251108T030840Z
LAST-MODIFIED:20260418T025330Z
UID:13408-1825266600-1825273800@www.olmcfssp.org
SUMMARY:Safety Team Meeting
DESCRIPTION:The purpose of the OLMC Safety Team is to provide a safe and secure environment for all parishioners and visitors. Primarily\, this is accomplished by the observation of people\, places and events and your assessment of situations and then to follow through with appropriate action.
URL:https://www.olmcfssp.org/calendar/safety-team-meeting-57/
END:VEVENT
BEGIN:VEVENT
DTSTART;TZID=America/Denver:20271103T190000
DTEND;TZID=America/Denver:20271103T203000
DTSTAMP:20260422T162115
CREATED:20251108T033840Z
LAST-MODIFIED:20260418T032330Z
UID:13412-1825268400-1825273800@www.olmcfssp.org
SUMMARY:Choir Practice
DESCRIPTION:
URL:https://www.olmcfssp.org/calendar/choir-practice-246/
END:VEVENT
BEGIN:VEVENT
DTSTART;TZID=America/Denver:20271104T093000
DTEND;TZID=America/Denver:20271104T103000
DTSTAMP:20260422T162115
CREATED:20260220T020842Z
LAST-MODIFIED:20260417T023834Z
UID:14168-1825320600-1825324200@www.olmcfssp.org
SUMMARY:Legion of Mary Meeting
DESCRIPTION:The legion exists to be a sign of Mary’s maternal love for the world and a means of enlisting all her children in the Church’s evangelizing work. It is at the disposal of the parish priest for any form of service deemed useful for the welfare of the Church.
URL:https://www.olmcfssp.org/calendar/legion-of-mary-meeting-493/
END:VEVENT
BEGIN:VEVENT
DTSTART;TZID=America/Denver:20271106T093000
DTEND;TZID=America/Denver:20271106T113000
DTSTAMP:20260422T162115
CREATED:20251108T055331Z
LAST-MODIFIED:20260418T055332Z
UID:13422-1825493400-1825500600@www.olmcfssp.org
SUMMARY:Confraternity of Christian Mothers
DESCRIPTION:All women aged 16 and up of all walks of life are invited to attend. Some of us are called to physical motherhood\, but we are all called to spiritual motherhood. 
URL:https://www.olmcfssp.org/calendar/confraternity-of-christian-mothers-101/
END:VEVENT
BEGIN:VEVENT
DTSTART;TZID=America/Denver:20271107T140000
DTEND;TZID=America/Denver:20271107T170000
DTSTAMP:20260422T162115
CREATED:20260227T020837Z
LAST-MODIFIED:20260417T023834Z
UID:14239-1825596000-1825606800@www.olmcfssp.org
SUMMARY:Laeta Vita
DESCRIPTION:Leata Vita (Joyful Life) is a group for single women ages 18-35. The purpose of our group is to meet and grow in fellowship with other women who are in a similar season of life. We meet two times a month. The first meeting of the month consists of discussing a book as part of our book club and socializing with each other. The second meeting of the month consists of a fun outing or activity (and every now and then something charitable for the parish or some other organization)\, meant to give the members a chance to get out and have some fun.
URL:https://www.olmcfssp.org/calendar/laeta-vita-105/
END:VEVENT
BEGIN:VEVENT
DTSTART;TZID=America/Denver:20271107T170000
DTEND;TZID=America/Denver:20271107T180000
DTSTAMP:20260422T162115
CREATED:20251108T020839Z
LAST-MODIFIED:20260418T022334Z
UID:13406-1825606800-1825610400@www.olmcfssp.org
SUMMARY:Sung Vespers
DESCRIPTION:
URL:https://www.olmcfssp.org/calendar/sung-vespers-235/
END:VEVENT
BEGIN:VEVENT
DTSTART;TZID=America/Denver:20271108T180000
DTEND;TZID=America/Denver:20271108T190000
DTSTAMP:20260422T162115
CREATED:20260227T020837Z
LAST-MODIFIED:20260417T023834Z
UID:14240-1825696800-1825700400@www.olmcfssp.org
SUMMARY:Legion of Mary Meeting
DESCRIPTION:The legion exists to be a sign of Mary’s maternal love for the world and a means of enlisting all her children in the Church’s evangelizing work. It is at the disposal of the parish priest for any form of service deemed useful for the welfare of the Church.
URL:https://www.olmcfssp.org/calendar/legion-of-mary-meeting-494/
END:VEVENT
BEGIN:VEVENT
DTSTART;TZID=America/Denver:20271109T093000
DTEND;TZID=America/Denver:20271109T103000
DTSTAMP:20260422T162115
CREATED:20251115T022350Z
LAST-MODIFIED:20260418T022334Z
UID:13451-1825752600-1825756200@www.olmcfssp.org
SUMMARY:Holy Face Devotion Group
DESCRIPTION:His Holy Face Ministry’s mission is to bring the Face of God back into the world to breathe life into souls by making reparation for the sins committed against the majesty of God and the Catholic Church. Join us as a community in making public reparation before a 2nd class relic image of the Veil of St. Veronica on the second Tuesday or third Saturday of each month after the 8:30 AM mass. We also offer presentations on the Holy Face Devotion\, a Home Enthronement Program with the image\, and a Parish Enthronement Program to share with a wider audience.
URL:https://www.olmcfssp.org/calendar/holy-face-devotion-group-64/
END:VEVENT
BEGIN:VEVENT
DTSTART;TZID=America/Denver:20271109T093000
DTEND;TZID=America/Denver:20271109T110000
DTSTAMP:20260422T162115
CREATED:20251115T040833Z
LAST-MODIFIED:20260418T053836Z
UID:13462-1825752600-1825758000@www.olmcfssp.org
SUMMARY:Tuesday Morning Book Club
DESCRIPTION:The Tuesday morning book club meets to read and discuss a selected book that assists with spiritual growth and knowledge of our wonderful Catholic faith. All members of the parish are welcome to drop by and check us out.
URL:https://www.olmcfssp.org/calendar/tuesday-morning-book-club-248/
END:VEVENT
BEGIN:VEVENT
DTSTART;TZID=America/Denver:20271109T170000
DTEND;TZID=America/Denver:20271109T180000
DTSTAMP:20260422T162115
CREATED:20251115T022350Z
LAST-MODIFIED:20260418T022334Z
UID:13452-1825779600-1825783200@www.olmcfssp.org
SUMMARY:Shepherds of Christ Prayer Group
DESCRIPTION:
URL:https://www.olmcfssp.org/calendar/shepherds-of-christ-prayer-group-249/
END:VEVENT
BEGIN:VEVENT
DTSTART;TZID=America/Denver:20271110T190000
DTEND;TZID=America/Denver:20271110T203000
DTSTAMP:20260422T162115
CREATED:20251115T033836Z
LAST-MODIFIED:20260418T032330Z
UID:13459-1825873200-1825878600@www.olmcfssp.org
SUMMARY:Choir Practice
DESCRIPTION:
URL:https://www.olmcfssp.org/calendar/choir-practice-247/
END:VEVENT
BEGIN:VEVENT
DTSTART;TZID=America/Denver:20271111T093000
DTEND;TZID=America/Denver:20271111T103000
DTSTAMP:20260422T162115
CREATED:20260227T020837Z
LAST-MODIFIED:20260417T023834Z
UID:14241-1825925400-1825929000@www.olmcfssp.org
SUMMARY:Legion of Mary Meeting
DESCRIPTION:The legion exists to be a sign of Mary’s maternal love for the world and a means of enlisting all her children in the Church’s evangelizing work. It is at the disposal of the parish priest for any form of service deemed useful for the welfare of the Church.
URL:https://www.olmcfssp.org/calendar/legion-of-mary-meeting-495/
END:VEVENT
BEGIN:VEVENT
DTSTART;TZID=America/Denver:20271113T093000
DTEND;TZID=America/Denver:20271113T113000
DTSTAMP:20260422T162115
CREATED:20251115T055331Z
LAST-MODIFIED:20260418T055332Z
UID:13467-1826098200-1826105400@www.olmcfssp.org
SUMMARY:Holy Name Society Meeting
DESCRIPTION:The Holy Name Society is an organization of men striving to grow in holiness. The group is open to all men of the parish over the age of 18. Meetings include Mass\, the recitation of the Holy Rosary\, breakfast and a spiritual talk.
URL:https://www.olmcfssp.org/calendar/holy-name-society-meeting-55/
END:VEVENT
BEGIN:VEVENT
DTSTART;TZID=America/Denver:20271113T093000
DTEND;TZID=America/Denver:20271113T130000
DTSTAMP:20260422T162115
CREATED:20251115T030839Z
LAST-MODIFIED:20260418T025330Z
UID:13456-1826098200-1826110800@www.olmcfssp.org
SUMMARY:St. Teresa of Jesus Association
DESCRIPTION:A formation in the spirituality of St. Teresa of Jesus within a Study Group composed of men and women over the age of 25 years. This formation includes daily Mass\, Lectio Divina\, Divine Office and the living a life of apostolic endeavors: ministering to our families and the world.  The members endeavor to give glory to God\, to honor our Blessed Lady of Carmel and to aid our Holy Mother the Church by their prayers.
URL:https://www.olmcfssp.org/calendar/st-teresa-of-jesus-association-56/
END:VEVENT
BEGIN:VEVENT
DTSTART;TZID=America/Denver:20271113T130000
DTEND;TZID=America/Denver:20271113T160000
DTSTAMP:20260422T162115
CREATED:20260227T020837Z
LAST-MODIFIED:20260417T023834Z
UID:14242-1826110800-1826121600@www.olmcfssp.org
SUMMARY:Hibernia Music Group
DESCRIPTION:An OLMC acoustic music group. We play traditional Irish\, Folk and Americana music. All are welcome to join us\, beginner or advanced\, Instrumentalist or Vocalist. Our goal is to sharpen our skills\, increase our musical knowledge\, have good Catholic fellowship\, and share our music.
URL:https://www.olmcfssp.org/calendar/hibernia-music-group-112/
END:VEVENT
BEGIN:VEVENT
DTSTART;TZID=America/Denver:20271114T123000
DTEND;TZID=America/Denver:20271114T140000
DTSTAMP:20260422T162115
CREATED:20260306T020844Z
LAST-MODIFIED:20260417T023834Z
UID:14304-1826195400-1826200800@www.olmcfssp.org
SUMMARY:Knights of Columbus Meeting
DESCRIPTION:As faithful Catholics\, we are called to be salt and light in this material world. As traditional Catholics within the Church Universal\, we are sometimes called\, in charity\, to bring more illumination and flavor to our fellow Catholics. Let us join with him in spreading the message within the Knights of Columbus.
URL:https://www.olmcfssp.org/calendar/knights-of-columbus-meeting-56/
END:VEVENT
BEGIN:VEVENT
DTSTART;TZID=America/Denver:20271114T170000
DTEND;TZID=America/Denver:20271114T180000
DTSTAMP:20260422T162115
CREATED:20251115T022350Z
LAST-MODIFIED:20260418T022334Z
UID:13453-1826211600-1826215200@www.olmcfssp.org
SUMMARY:Sung Vespers
DESCRIPTION:
URL:https://www.olmcfssp.org/calendar/sung-vespers-236/
END:VEVENT
BEGIN:VEVENT
DTSTART;TZID=America/Denver:20271115T180000
DTEND;TZID=America/Denver:20271115T190000
DTSTAMP:20260422T162115
CREATED:20260306T020844Z
LAST-MODIFIED:20260417T023834Z
UID:14305-1826301600-1826305200@www.olmcfssp.org
SUMMARY:Legion of Mary Meeting
DESCRIPTION:The legion exists to be a sign of Mary’s maternal love for the world and a means of enlisting all her children in the Church’s evangelizing work. It is at the disposal of the parish priest for any form of service deemed useful for the welfare of the Church.
URL:https://www.olmcfssp.org/calendar/legion-of-mary-meeting-496/
END:VEVENT
BEGIN:VEVENT
DTSTART;TZID=America/Denver:20271116T093000
DTEND;TZID=America/Denver:20271116T110000
DTSTAMP:20260422T162115
CREATED:20251122T040836Z
LAST-MODIFIED:20260418T053836Z
UID:13497-1826357400-1826362800@www.olmcfssp.org
SUMMARY:Tuesday Morning Book Club
DESCRIPTION:The Tuesday morning book club meets to read and discuss a selected book that assists with spiritual growth and knowledge of our wonderful Catholic faith. All members of the parish are welcome to drop by and check us out.
URL:https://www.olmcfssp.org/calendar/tuesday-morning-book-club-249/
END:VEVENT
BEGIN:VEVENT
DTSTART;TZID=America/Denver:20271116T170000
DTEND;TZID=America/Denver:20271116T180000
DTSTAMP:20260422T162115
CREATED:20251122T022343Z
LAST-MODIFIED:20260418T022334Z
UID:13486-1826384400-1826388000@www.olmcfssp.org
SUMMARY:Shepherds of Christ Prayer Group
DESCRIPTION:
URL:https://www.olmcfssp.org/calendar/shepherds-of-christ-prayer-group-250/
END:VEVENT
BEGIN:VEVENT
DTSTART;TZID=America/Denver:20271117T190000
DTEND;TZID=America/Denver:20271117T203000
DTSTAMP:20260422T162115
CREATED:20251122T033833Z
LAST-MODIFIED:20260418T032330Z
UID:13493-1826478000-1826483400@www.olmcfssp.org
SUMMARY:Choir Practice
DESCRIPTION:
URL:https://www.olmcfssp.org/calendar/choir-practice-248/
END:VEVENT
BEGIN:VEVENT
DTSTART;TZID=America/Denver:20271118T093000
DTEND;TZID=America/Denver:20271118T103000
DTSTAMP:20260422T162115
CREATED:20260306T020844Z
LAST-MODIFIED:20260417T023834Z
UID:14306-1826530200-1826533800@www.olmcfssp.org
SUMMARY:Legion of Mary Meeting
DESCRIPTION:The legion exists to be a sign of Mary’s maternal love for the world and a means of enlisting all her children in the Church’s evangelizing work. It is at the disposal of the parish priest for any form of service deemed useful for the welfare of the Church.
URL:https://www.olmcfssp.org/calendar/legion-of-mary-meeting-497/
END:VEVENT
BEGIN:VEVENT
DTSTART;TZID=America/Denver:20271118T093000
DTEND;TZID=America/Denver:20271118T110000
DTSTAMP:20260422T162115
CREATED:20251122T030835Z
LAST-MODIFIED:20260418T025330Z
UID:13490-1826530200-1826535600@www.olmcfssp.org
SUMMARY:St. Therese Book Club
DESCRIPTION:Come and study the works of St. Therese as a group. All are welcome.
URL:https://www.olmcfssp.org/calendar/st-therese-book-club-57/
END:VEVENT
BEGIN:VEVENT
DTSTART;TZID=America/Denver:20271120T093000
DTEND;TZID=America/Denver:20271120T120000
DTSTAMP:20260422T162115
CREATED:20251122T055345Z
LAST-MODIFIED:20260418T055332Z
UID:13503-1826703000-1826712000@www.olmcfssp.org
SUMMARY:Altar and Rosary Society Meeting
DESCRIPTION:The Altar and Rosary Society is an organization of women who foster and spread devotion to the Holy Rosary\, maintain the cleanliness of the church sanctuary\, wash and iron altar linens\, and arrange flowers for the altar.
URL:https://www.olmcfssp.org/calendar/altar-and-rosary-society-meeting-50/
END:VEVENT
BEGIN:VEVENT
DTSTART;TZID=America/Denver:20271121T123000
DTEND;TZID=America/Denver:20271121T140000
DTSTAMP:20260422T162115
CREATED:20251122T040836Z
LAST-MODIFIED:20260418T053836Z
UID:13498-1826800200-1826805600@www.olmcfssp.org
SUMMARY:Creation Study Group
DESCRIPTION:This group is dedicated to studying the traditional Catholic teaching on creation and Genesis as believed and taught by the Doctors\, Fathers\, Councils and Popes for two thousand years. We explore various aspects of the creation/evolutionism debate and the effects of evolutionary thought on culture\, science and the Church. As Pope St Pius X said about Modernism\, that it is the “synthesis of all heresies.” And “the chief of their doctrines\, that of evolution.” \nAll are welcome to attend and contribute their experience and expertise.
URL:https://www.olmcfssp.org/calendar/creation-study-group-49/
END:VEVENT
BEGIN:VEVENT
DTSTART;TZID=America/Denver:20271121T140000
DTEND;TZID=America/Denver:20271121T170000
DTSTAMP:20260422T162115
CREATED:20260313T022330Z
LAST-MODIFIED:20260417T023834Z
UID:14342-1826805600-1826816400@www.olmcfssp.org
SUMMARY:Laeta Vita
DESCRIPTION:Leata Vita (Joyful Life) is a group for single women ages 18-35. The purpose of our group is to meet and grow in fellowship with other women who are in a similar season of life. We meet two times a month. The first meeting of the month consists of discussing a book as part of our book club and socializing with each other. The second meeting of the month consists of a fun outing or activity (and every now and then something charitable for the parish or some other organization)\, meant to give the members a chance to get out and have some fun.
URL:https://www.olmcfssp.org/calendar/laeta-vita-106/
END:VEVENT
BEGIN:VEVENT
DTSTART;TZID=America/Denver:20271121T170000
DTEND;TZID=America/Denver:20271121T180000
DTSTAMP:20260422T162115
CREATED:20251122T022343Z
LAST-MODIFIED:20260418T022334Z
UID:13487-1826816400-1826820000@www.olmcfssp.org
SUMMARY:Sung Vespers
DESCRIPTION:
URL:https://www.olmcfssp.org/calendar/sung-vespers-237/
END:VEVENT
BEGIN:VEVENT
DTSTART;TZID=America/Denver:20271122T180000
DTEND;TZID=America/Denver:20271122T190000
DTSTAMP:20260422T162115
CREATED:20260313T022330Z
LAST-MODIFIED:20260417T023834Z
UID:14343-1826906400-1826910000@www.olmcfssp.org
SUMMARY:Legion of Mary Meeting
DESCRIPTION:The legion exists to be a sign of Mary’s maternal love for the world and a means of enlisting all her children in the Church’s evangelizing work. It is at the disposal of the parish priest for any form of service deemed useful for the welfare of the Church.
URL:https://www.olmcfssp.org/calendar/legion-of-mary-meeting-498/
END:VEVENT
BEGIN:VEVENT
DTSTART;TZID=America/Denver:20271123T093000
DTEND;TZID=America/Denver:20271123T110000
DTSTAMP:20260422T162115
CREATED:20251129T041122Z
LAST-MODIFIED:20260418T053836Z
UID:13547-1826962200-1826967600@www.olmcfssp.org
SUMMARY:Tuesday Morning Book Club
DESCRIPTION:The Tuesday morning book club meets to read and discuss a selected book that assists with spiritual growth and knowledge of our wonderful Catholic faith. All members of the parish are welcome to drop by and check us out.
URL:https://www.olmcfssp.org/calendar/tuesday-morning-book-club-250/
END:VEVENT
END:VCALENDAR