BEGIN:VCALENDAR
VERSION:2.0
PRODID:-//Our Lady of Mt. Carmel - ECPv6.15.20//NONSGML v1.0//EN
CALSCALE:GREGORIAN
METHOD:PUBLISH
X-WR-CALNAME:Our Lady of Mt. Carmel
X-ORIGINAL-URL:https://www.olmcfssp.org
X-WR-CALDESC:Events for Our Lady of Mt. Carmel
REFRESH-INTERVAL;VALUE=DURATION:PT1H
X-Robots-Tag:noindex
X-PUBLISHED-TTL:PT1H
BEGIN:VTIMEZONE
TZID:America/Denver
BEGIN:DAYLIGHT
TZOFFSETFROM:-0700
TZOFFSETTO:-0600
TZNAME:MDT
DTSTART:20220313T090000
END:DAYLIGHT
BEGIN:STANDARD
TZOFFSETFROM:-0600
TZOFFSETTO:-0700
TZNAME:MST
DTSTART:20221106T080000
END:STANDARD
BEGIN:DAYLIGHT
TZOFFSETFROM:-0700
TZOFFSETTO:-0600
TZNAME:MDT
DTSTART:20230312T090000
END:DAYLIGHT
BEGIN:STANDARD
TZOFFSETFROM:-0600
TZOFFSETTO:-0700
TZNAME:MST
DTSTART:20231105T080000
END:STANDARD
BEGIN:DAYLIGHT
TZOFFSETFROM:-0700
TZOFFSETTO:-0600
TZNAME:MDT
DTSTART:20240310T090000
END:DAYLIGHT
BEGIN:STANDARD
TZOFFSETFROM:-0600
TZOFFSETTO:-0700
TZNAME:MST
DTSTART:20241103T080000
END:STANDARD
END:VTIMEZONE
BEGIN:VTIMEZONE
TZID:America/Chicago
BEGIN:DAYLIGHT
TZOFFSETFROM:-0600
TZOFFSETTO:-0500
TZNAME:CDT
DTSTART:20220313T080000
END:DAYLIGHT
BEGIN:STANDARD
TZOFFSETFROM:-0500
TZOFFSETTO:-0600
TZNAME:CST
DTSTART:20221106T070000
END:STANDARD
BEGIN:DAYLIGHT
TZOFFSETFROM:-0600
TZOFFSETTO:-0500
TZNAME:CDT
DTSTART:20230312T080000
END:DAYLIGHT
BEGIN:STANDARD
TZOFFSETFROM:-0500
TZOFFSETTO:-0600
TZNAME:CST
DTSTART:20231105T070000
END:STANDARD
BEGIN:DAYLIGHT
TZOFFSETFROM:-0600
TZOFFSETTO:-0500
TZNAME:CDT
DTSTART:20240310T080000
END:DAYLIGHT
BEGIN:STANDARD
TZOFFSETFROM:-0500
TZOFFSETTO:-0600
TZNAME:CST
DTSTART:20241103T070000
END:STANDARD
END:VTIMEZONE
BEGIN:VEVENT
DTSTART;TZID=America/Denver:20230402T130000
DTEND;TZID=America/Denver:20230402T140000
DTSTAMP:20260420T013312
CREATED:20230324T174427Z
LAST-MODIFIED:20230324T175502Z
UID:4664-1680440400-1680444000@www.olmcfssp.org
SUMMARY:No 1pm Mass
DESCRIPTION:
URL:https://www.olmcfssp.org/calendar/no-1pm-mass/
END:VEVENT
BEGIN:VEVENT
DTSTART;TZID=America/Denver:20230402T110000
DTEND;TZID=America/Denver:20230402T133000
DTSTAMP:20260420T013312
CREATED:20230324T174427Z
LAST-MODIFIED:20230324T175542Z
UID:4665-1680433200-1680442200@www.olmcfssp.org
SUMMARY:Solemn High Mass
DESCRIPTION:
URL:https://www.olmcfssp.org/calendar/solemn-high-mass/
LOCATION:Church
END:VEVENT
BEGIN:VEVENT
DTSTART;TZID=America/Denver:20230401T093000
DTEND;TZID=America/Denver:20230401T130000
DTSTAMP:20260420T013312
CREATED:20230324T173258Z
LAST-MODIFIED:20230324T173320Z
UID:4612-1680341400-1680354000@www.olmcfssp.org
SUMMARY:St. Teresa of Jesus Association
DESCRIPTION:A formation in the spirituality of St. Teresa of Jesus within a Study Group composed of men and women over the age of 25 years. This formation includes daily Mass\, Lectio Divina\, Divine Office and the living a life of apostolic endeavors: ministering to our families and the world.  The members endeavor to give glory to God\, to honor our Blessed Lady of Carmel and to aid our Holy Mother the Church by their prayers.
URL:https://www.olmcfssp.org/calendar/st-teresa-of-jesus-association-2/
LOCATION:St. Teresa of Avila Basement Room
END:VEVENT
BEGIN:VEVENT
DTSTART;TZID=America/Denver:20230331T180000
DTEND;TZID=America/Denver:20230331T184500
DTSTAMP:20260420T013312
CREATED:20230224T195306Z
LAST-MODIFIED:20230224T224147Z
UID:4375-1680285600-1680288300@www.olmcfssp.org
SUMMARY:Stations of the Cross
DESCRIPTION:
URL:https://www.olmcfssp.org/calendar/stations-of-the-cross-6/
LOCATION:Church
END:VEVENT
BEGIN:VEVENT
DTSTART;TZID=America/Denver:20230331T164500
DTEND;TZID=America/Denver:20230331T180000
DTSTAMP:20260420T013312
CREATED:20230224T194007Z
LAST-MODIFIED:20230224T224133Z
UID:4323-1680281100-1680285600@www.olmcfssp.org
SUMMARY:Meatless Soup Potluck
DESCRIPTION:All are welcome to attend this communal meal and please bring a soup to share!
URL:https://www.olmcfssp.org/calendar/meatless-soup-potluck-6/
LOCATION:Parish Hall
END:VEVENT
BEGIN:VEVENT
DTSTART;TZID=America/Denver:20230330T190000
DTEND;TZID=America/Denver:20230330T203000
DTSTAMP:20260420T013312
CREATED:20230224T195906Z
LAST-MODIFIED:20230224T224056Z
UID:4389-1680202800-1680208200@www.olmcfssp.org
SUMMARY:God Within Class by In Ipso
DESCRIPTION:12-week course on authentic Catholic spirituality to help you grow in prayer. Tuition is $240\, and scholarships are available. Family members enjoy 50% discount on the second enrollee. Learn more at www.in-ipso.org or contact andrea@in-ipso.org / 720-203-4499. Register by Feb 15.
URL:https://www.olmcfssp.org/calendar/god-within-class-by-in-ipso-5/
LOCATION:St. Albert of Jerusalem Basement Room
END:VEVENT
BEGIN:VEVENT
DTSTART;TZID=America/Denver:20230329T190000
DTEND;TZID=America/Denver:20230329T203000
DTSTAMP:20260420T013312
CREATED:20230224T203841Z
LAST-MODIFIED:20230224T224044Z
UID:4421-1680116400-1680121800@www.olmcfssp.org
SUMMARY:Choir Practice
DESCRIPTION:
URL:https://www.olmcfssp.org/calendar/choir-practice-5/
LOCATION:St. Peter Thomas Basement Room
END:VEVENT
BEGIN:VEVENT
DTSTART;TZID=America/Denver:20230329T180000
DTEND;TZID=America/Denver:20230329T210000
DTSTAMP:20260420T013312
CREATED:20230224T194007Z
LAST-MODIFIED:20230224T224033Z
UID:4322-1680112800-1680123600@www.olmcfssp.org
SUMMARY:St. John Bosco Youth Group
DESCRIPTION:St. John Bosco Youth Group is intended for teenagers ages 14-18 who are looking to form community and grow their Faith with others their age. Our typical youth nights include praying the Rosary\, a talk\, and lots of fun games!
URL:https://www.olmcfssp.org/calendar/st-john-bosco-youth-group-11/
LOCATION:Parish Hall
END:VEVENT
BEGIN:VEVENT
DTSTART;TZID=America/Denver:20230329T093000
DTEND;TZID=America/Denver:20230329T110000
DTSTAMP:20260420T013312
CREATED:20230224T204157Z
LAST-MODIFIED:20230224T224021Z
UID:4440-1680082200-1680087600@www.olmcfssp.org
SUMMARY:Legion of Mary Meeting
DESCRIPTION:The legion exists to be a sign of Mary’s maternal love for the world and a means of enlisting all her children in the Church’s evangelizing work. It is at the disposal of the parish priest for any form of service deemed useful for the welfare of the Church.
URL:https://www.olmcfssp.org/calendar/legion-of-mary-meeting-9/
LOCATION:St. Teresa of Avila Basement Room
END:VEVENT
BEGIN:VEVENT
DTSTART;TZID=America/Denver:20230328T170000
DTEND;TZID=America/Denver:20230328T180000
DTSTAMP:20260420T013312
CREATED:20230224T195306Z
LAST-MODIFIED:20230224T224008Z
UID:4374-1680022800-1680026400@www.olmcfssp.org
SUMMARY:Shepherds of Christ Prayer Group
DESCRIPTION:
URL:https://www.olmcfssp.org/calendar/shepherds-of-christ-prayer-group-4/
LOCATION:Church
END:VEVENT
BEGIN:VEVENT
DTSTART;TZID=America/Denver:20230328T093000
DTEND;TZID=America/Denver:20230328T110000
DTSTAMP:20260420T013312
CREATED:20230224T203612Z
LAST-MODIFIED:20230324T171722Z
UID:4409-1679995800-1680001200@www.olmcfssp.org
SUMMARY:Tuesday Morning Book Club
DESCRIPTION:The Tuesday morning book club meets to read and discuss a selected book that assists with spiritual growth and knowledge of our wonderful Catholic faith. All members of the parish are welcome to drop by and check us out.
URL:https://www.olmcfssp.org/calendar/tuesday-morning-book-club-4/
LOCATION:St. John of the Cross Conference Room
END:VEVENT
BEGIN:VEVENT
DTSTART;TZID=America/Denver:20230327T180000
DTEND;TZID=America/Denver:20230327T190000
DTSTAMP:20260420T013312
CREATED:20230224T204157Z
LAST-MODIFIED:20230224T223933Z
UID:4439-1679940000-1679943600@www.olmcfssp.org
SUMMARY:Legion of Mary Meeting
DESCRIPTION:The legion exists to be a sign of Mary’s maternal love for the world and a means of enlisting all her children in the Church’s evangelizing work. It is at the disposal of the parish priest for any form of service deemed useful for the welfare of the Church.
URL:https://www.olmcfssp.org/calendar/legion-of-mary-meeting-8/
LOCATION:St. Teresa of Avila Basement Room
END:VEVENT
BEGIN:VEVENT
DTSTART;TZID=America/Denver:20230326T170000
DTEND;TZID=America/Denver:20230326T180000
DTSTAMP:20260420T013312
CREATED:20230224T195306Z
LAST-MODIFIED:20230224T223921Z
UID:4373-1679850000-1679853600@www.olmcfssp.org
SUMMARY:Vespers
DESCRIPTION:
URL:https://www.olmcfssp.org/calendar/vespers-5/
LOCATION:Church
END:VEVENT
BEGIN:VEVENT
DTSTART;TZID=America/Denver:20230326T123000
DTEND;TZID=America/Denver:20230326T140000
DTSTAMP:20260420T013312
CREATED:20230224T200307Z
LAST-MODIFIED:20230302T232447Z
UID:4399-1679833800-1679839200@www.olmcfssp.org
SUMMARY:Chess Club
DESCRIPTION:Monthly competition! All skill levels\, all ages welcome\, including adults. Players must RSVP to Mr. Rick Mudd rdm3rdm3@gmail.com.
URL:https://www.olmcfssp.org/calendar/chess-club/
LOCATION:St. Elijah Basement Room
END:VEVENT
BEGIN:VEVENT
DTSTART;TZID=America/Chicago:20230326T073000
DTEND;TZID=America/Chicago:20230326T130000
DTSTAMP:20260420T013312
CREATED:20230303T205633Z
LAST-MODIFIED:20230303T205633Z
UID:4540-1679815800-1679835600@www.olmcfssp.org
SUMMARY:Knights of Columbus Burrito Breakfast
DESCRIPTION:The funds made from this breakfast will be raised for our Seminarians in Nebraska. Please come support both them and the Knights by stopping by for some delicious handmade burritos after any of the morning Masses!
URL:https://www.olmcfssp.org/calendar/knights-of-columbus-burrito-breakfast/
LOCATION:Parish Hall
END:VEVENT
BEGIN:VEVENT
DTSTART;TZID=America/Denver:20230325T183000
DTEND;TZID=America/Denver:20230325T220000
DTSTAMP:20260420T013312
CREATED:20230224T194007Z
LAST-MODIFIED:20230224T223743Z
UID:4321-1679769000-1679781600@www.olmcfssp.org
SUMMARY:Women's Group
DESCRIPTION:
URL:https://www.olmcfssp.org/calendar/womens-group/
LOCATION:Parish Hall
END:VEVENT
BEGIN:VEVENT
DTSTART;TZID=America/Denver:20230325T101500
DTEND;TZID=America/Denver:20230325T110000
DTSTAMP:20260420T013312
CREATED:20230224T195725Z
LAST-MODIFIED:20230224T224837Z
UID:4379-1679739300-1679742000@www.olmcfssp.org
SUMMARY:Planned Parenthood Prayer Vigil
DESCRIPTION:Please join us for our monthly parish prayer vigil at Planned Parenthood.
URL:https://www.olmcfssp.org/calendar/planned-parenthood-prayer-vigil/
LOCATION:Planned Parenthood\, 7155 E 38th Ave\, Denver\, CO\, 80207\, United States
END:VEVENT
BEGIN:VEVENT
DTSTART;TZID=America/Denver:20230325T093000
DTEND;TZID=America/Denver:20230325T103000
DTSTAMP:20260420T013312
CREATED:20230224T200426Z
LAST-MODIFIED:20230224T223607Z
UID:4402-1679736600-1679740200@www.olmcfssp.org
SUMMARY:Holy Face Devotion Group
DESCRIPTION:His Holy Face Ministry’s mission is to bring the Face of God back into the world to breathe life into souls by making reparation for the sins committed against the majesty of God and the Catholic Church. Join us as a community in making public reparation before a 2nd class relic image of the Veil of St. Veronica on the second Tuesday or third Saturday of each month after the 8:30 AM mass. We also offer presentations on the Holy Face Devotion\, a Home Enthronement Program with the image\, and a Parish Enthronement Program to share with a wider audience.
URL:https://www.olmcfssp.org/calendar/holy-face-devotion-group-3/
LOCATION:St. Elijah Basement Room
END:VEVENT
BEGIN:VEVENT
DTSTART;TZID=America/Denver:20230325T083000
DTEND;TZID=America/Denver:20230325T093000
DTSTAMP:20260420T013312
CREATED:20230224T195306Z
LAST-MODIFIED:20230303T205723Z
UID:4372-1679733000-1679736600@www.olmcfssp.org
SUMMARY:High Mass\, The Annunciation of the Blessed Virgin Mary
DESCRIPTION:Additional parking will be available at Drinkwine Mortuary.
URL:https://www.olmcfssp.org/calendar/high-mass-the-annunciation-of-the-blessed-virgin-mary/
LOCATION:Church
END:VEVENT
BEGIN:VEVENT
DTSTART;TZID=America/Denver:20230324T180000
DTEND;TZID=America/Denver:20230324T184500
DTSTAMP:20260420T013312
CREATED:20230224T195306Z
LAST-MODIFIED:20230224T223538Z
UID:4371-1679680800-1679683500@www.olmcfssp.org
SUMMARY:Stations of the Cross
DESCRIPTION:
URL:https://www.olmcfssp.org/calendar/stations-of-the-cross-5/
LOCATION:Church
END:VEVENT
BEGIN:VEVENT
DTSTART;TZID=America/Denver:20230324T164500
DTEND;TZID=America/Denver:20230324T180000
DTSTAMP:20260420T013312
CREATED:20230224T194006Z
LAST-MODIFIED:20230224T223517Z
UID:4320-1679676300-1679680800@www.olmcfssp.org
SUMMARY:Meatless Soup Potluck
DESCRIPTION:All are welcome to attend this communal meal and please bring a soup to share!
URL:https://www.olmcfssp.org/calendar/meatless-soup-potluck-5/
LOCATION:Parish Hall
END:VEVENT
BEGIN:VEVENT
DTSTART;TZID=America/Denver:20230323T190000
DTEND;TZID=America/Denver:20230323T203000
DTSTAMP:20260420T013312
CREATED:20230224T195906Z
LAST-MODIFIED:20230224T223453Z
UID:4388-1679598000-1679603400@www.olmcfssp.org
SUMMARY:God Within Class by In Ipso
DESCRIPTION:12-week course on authentic Catholic spirituality to help you grow in prayer. Tuition is $240\, and scholarships are available. Family members enjoy 50% discount on the second enrollee. Learn more at www.in-ipso.org or contact andrea@in-ipso.org / 720-203-4499. Register by Feb 15.
URL:https://www.olmcfssp.org/calendar/god-within-class-by-in-ipso-4/
LOCATION:St. Albert of Jerusalem Basement Room
END:VEVENT
BEGIN:VEVENT
DTSTART;TZID=America/Denver:20230323T174500
DTEND;TZID=America/Denver:20230323T190000
DTSTAMP:20260420T013312
CREATED:20230224T194748Z
LAST-MODIFIED:20230224T223440Z
UID:4331-1679593500-1679598000@www.olmcfssp.org
SUMMARY:Eternal Rest: The Art of Dying Well Class by Fr. Krager
DESCRIPTION:We will discuss the origin of death\, the afterlife\, and the beaty of the sacraments that usher us into eternal life. Open to all parishioners.
URL:https://www.olmcfssp.org/calendar/eternal-rest-the-art-of-dying-well-class-by-fr-krager-3/
LOCATION:Parish Hall
END:VEVENT
BEGIN:VEVENT
DTSTART;TZID=America/Denver:20230322T190000
DTEND;TZID=America/Denver:20230322T203000
DTSTAMP:20260420T013312
CREATED:20230224T203841Z
LAST-MODIFIED:20230224T223428Z
UID:4420-1679511600-1679517000@www.olmcfssp.org
SUMMARY:Choir Practice
DESCRIPTION:
URL:https://www.olmcfssp.org/calendar/choir-practice-4/
LOCATION:St. Peter Thomas Basement Room
END:VEVENT
BEGIN:VEVENT
DTSTART;TZID=America/Denver:20230322T180000
DTEND;TZID=America/Denver:20230322T210000
DTSTAMP:20260420T013312
CREATED:20230224T200247Z
LAST-MODIFIED:20230224T225400Z
UID:4397-1679508000-1679518800@www.olmcfssp.org
SUMMARY:Hibernia Music Group
DESCRIPTION:Acoustic music group at OLMC. We play traditional Irish\, Folk and Americana music\, and simply jam sometimes. All are welcome to join us whether you are a beginner or advanced\, Instrumentalist or Vocalist. Our goal is to sharpen our skills by playing together\, increase our musical knowledge by learning from each other\, have good Catholic fellowship\, and share our music when opportunities arise. Come and play with us!  Contact Solomon Carrico at 720.288.9158 or solomoncarrico@protonmail.com
URL:https://www.olmcfssp.org/calendar/hibernia-music-group-3/
LOCATION:St. Elijah Basement Room
END:VEVENT
BEGIN:VEVENT
DTSTART;TZID=America/Denver:20230322T093000
DTEND;TZID=America/Denver:20230322T110000
DTSTAMP:20260420T013312
CREATED:20230224T204157Z
LAST-MODIFIED:20230224T223404Z
UID:4438-1679477400-1679482800@www.olmcfssp.org
SUMMARY:Legion of Mary Meeting
DESCRIPTION:The legion exists to be a sign of Mary’s maternal love for the world and a means of enlisting all her children in the Church’s evangelizing work. It is at the disposal of the parish priest for any form of service deemed useful for the welfare of the Church.
URL:https://www.olmcfssp.org/calendar/legion-of-mary-meeting-7/
LOCATION:St. Teresa of Avila Basement Room
END:VEVENT
BEGIN:VEVENT
DTSTART;TZID=America/Denver:20230321T180000
DTEND;TZID=America/Denver:20230321T210000
DTSTAMP:20260420T013312
CREATED:20230224T194748Z
LAST-MODIFIED:20230224T223340Z
UID:4330-1679421600-1679432400@www.olmcfssp.org
SUMMARY:Men's Group
DESCRIPTION:Men’s night begins with the Rosary at 6:00pm followed by a talk by Jim Blum\, founder of My Father’s House which not only provides shelter and a supportive community for men on parole\, but also helps them accept God’s love and discover new purpose in their lives.
URL:https://www.olmcfssp.org/calendar/mens-group/
LOCATION:Parish Hall
END:VEVENT
BEGIN:VEVENT
DTSTART;TZID=America/Denver:20230321T170000
DTEND;TZID=America/Denver:20230321T180000
DTSTAMP:20260420T013312
CREATED:20230224T195306Z
LAST-MODIFIED:20230224T223303Z
UID:4370-1679418000-1679421600@www.olmcfssp.org
SUMMARY:Shepherds of Christ Prayer Group
DESCRIPTION:
URL:https://www.olmcfssp.org/calendar/shepherds-of-christ-prayer-group-3/
LOCATION:Church
END:VEVENT
BEGIN:VEVENT
DTSTART;TZID=America/Denver:20230321T093000
DTEND;TZID=America/Denver:20230321T110000
DTSTAMP:20260420T013312
CREATED:20230224T203612Z
LAST-MODIFIED:20230224T223253Z
UID:4408-1679391000-1679396400@www.olmcfssp.org
SUMMARY:Tuesday Morning Book Club
DESCRIPTION:The Tuesday morning book club meets to read and discuss a selected book that assists with spiritual growth and knowledge of our wonderful Catholic faith. All members of the parish are welcome to drop by and check us out.
URL:https://www.olmcfssp.org/calendar/tuesday-morning-book-club-3/
LOCATION:St. John of the Cross Conference Room
END:VEVENT
BEGIN:VEVENT
DTSTART;TZID=America/Denver:20230320T180000
DTEND;TZID=America/Denver:20230320T190000
DTSTAMP:20260420T013312
CREATED:20230224T204157Z
LAST-MODIFIED:20230224T223240Z
UID:4437-1679335200-1679338800@www.olmcfssp.org
SUMMARY:Legion of Mary Meeting
DESCRIPTION:The legion exists to be a sign of Mary’s maternal love for the world and a means of enlisting all her children in the Church’s evangelizing work. It is at the disposal of the parish priest for any form of service deemed useful for the welfare of the Church.
URL:https://www.olmcfssp.org/calendar/legion-of-mary-meeting-6/
LOCATION:St. Teresa of Avila Basement Room
END:VEVENT
END:VCALENDAR