BEGIN:VCALENDAR
VERSION:2.0
PRODID:-//Our Lady of Mt. Carmel - ECPv6.15.20//NONSGML v1.0//EN
CALSCALE:GREGORIAN
METHOD:PUBLISH
X-WR-CALNAME:Our Lady of Mt. Carmel
X-ORIGINAL-URL:https://www.olmcfssp.org
X-WR-CALDESC:Events for Our Lady of Mt. Carmel
REFRESH-INTERVAL;VALUE=DURATION:PT1H
X-Robots-Tag:noindex
X-PUBLISHED-TTL:PT1H
BEGIN:VTIMEZONE
TZID:America/Denver
BEGIN:DAYLIGHT
TZOFFSETFROM:-0700
TZOFFSETTO:-0600
TZNAME:MDT
DTSTART:20220313T090000
END:DAYLIGHT
BEGIN:STANDARD
TZOFFSETFROM:-0600
TZOFFSETTO:-0700
TZNAME:MST
DTSTART:20221106T080000
END:STANDARD
BEGIN:DAYLIGHT
TZOFFSETFROM:-0700
TZOFFSETTO:-0600
TZNAME:MDT
DTSTART:20230312T090000
END:DAYLIGHT
BEGIN:STANDARD
TZOFFSETFROM:-0600
TZOFFSETTO:-0700
TZNAME:MST
DTSTART:20231105T080000
END:STANDARD
BEGIN:DAYLIGHT
TZOFFSETFROM:-0700
TZOFFSETTO:-0600
TZNAME:MDT
DTSTART:20240310T090000
END:DAYLIGHT
BEGIN:STANDARD
TZOFFSETFROM:-0600
TZOFFSETTO:-0700
TZNAME:MST
DTSTART:20241103T080000
END:STANDARD
END:VTIMEZONE
BEGIN:VTIMEZONE
TZID:UTC
BEGIN:STANDARD
TZOFFSETFROM:+0000
TZOFFSETTO:+0000
TZNAME:UTC
DTSTART:20220101T000000
END:STANDARD
END:VTIMEZONE
BEGIN:VTIMEZONE
TZID:America/Chicago
BEGIN:DAYLIGHT
TZOFFSETFROM:-0600
TZOFFSETTO:-0500
TZNAME:CDT
DTSTART:20220313T080000
END:DAYLIGHT
BEGIN:STANDARD
TZOFFSETFROM:-0500
TZOFFSETTO:-0600
TZNAME:CST
DTSTART:20221106T070000
END:STANDARD
BEGIN:DAYLIGHT
TZOFFSETFROM:-0600
TZOFFSETTO:-0500
TZNAME:CDT
DTSTART:20230312T080000
END:DAYLIGHT
BEGIN:STANDARD
TZOFFSETFROM:-0500
TZOFFSETTO:-0600
TZNAME:CST
DTSTART:20231105T070000
END:STANDARD
BEGIN:DAYLIGHT
TZOFFSETFROM:-0600
TZOFFSETTO:-0500
TZNAME:CDT
DTSTART:20240310T080000
END:DAYLIGHT
BEGIN:STANDARD
TZOFFSETFROM:-0500
TZOFFSETTO:-0600
TZNAME:CST
DTSTART:20241103T070000
END:STANDARD
END:VTIMEZONE
BEGIN:VEVENT
DTSTART;TZID=America/Denver:20230419T190000
DTEND;TZID=America/Denver:20230419T203000
DTSTAMP:20260420T003016
CREATED:20230324T173840Z
LAST-MODIFIED:20230324T173944Z
UID:4641-1681930800-1681936200@www.olmcfssp.org
SUMMARY:Choir Practice
DESCRIPTION:
URL:https://www.olmcfssp.org/calendar/choir-practice-7/
LOCATION:St. Peter Thomas Basement Room
END:VEVENT
BEGIN:VEVENT
DTSTART;TZID=America/Denver:20230419T180000
DTEND;TZID=America/Denver:20230419T210000
DTSTAMP:20260420T003016
CREATED:20230324T174107Z
LAST-MODIFIED:20230324T174107Z
UID:4654-1681927200-1681938000@www.olmcfssp.org
SUMMARY:St. John Bosco Youth Group
DESCRIPTION:St. John Bosco Youth Group is intended for teenagers ages 14-18 who are looking to form community and grow their Faith with others their age. Our typical youth nights include praying the Rosary\, a talk\, and lots of fun games!
URL:https://www.olmcfssp.org/calendar/st-john-bosco-youth-group/
END:VEVENT
BEGIN:VEVENT
DTSTART;TZID=America/Denver:20230419T180000
DTEND;TZID=America/Denver:20230419T204500
DTSTAMP:20260420T003016
CREATED:20230324T172410Z
LAST-MODIFIED:20230324T173057Z
UID:4597-1681927200-1681937100@www.olmcfssp.org
SUMMARY:Hibernia Music Group
DESCRIPTION:
URL:https://www.olmcfssp.org/calendar/hibernia-music-group-4/
LOCATION:St. Elijah Basement Room
END:VEVENT
BEGIN:VEVENT
DTSTART;TZID=America/Denver:20230419T093000
DTEND;TZID=America/Denver:20230419T103000
DTSTAMP:20260420T003016
CREATED:20230324T173258Z
LAST-MODIFIED:20230324T185133Z
UID:4621-1681896600-1681900200@www.olmcfssp.org
SUMMARY:Legion of Mary Meeting
DESCRIPTION:The legion exists to be a sign of Mary’s maternal love for the world and a means of enlisting all her children in the Church’s evangelizing work. It is at the disposal of the parish priest for any form of service deemed useful for the welfare of the Church.
URL:https://www.olmcfssp.org/calendar/legion-of-mary-meeting-16/
LOCATION:St. Teresa of Avila Basement Room
END:VEVENT
BEGIN:VEVENT
DTSTART;TZID=America/Denver:20230418T170000
DTEND;TZID=America/Denver:20230418T180000
DTSTAMP:20260420T003016
CREATED:20230324T174429Z
LAST-MODIFIED:20230324T175901Z
UID:4684-1681837200-1681840800@www.olmcfssp.org
SUMMARY:Shepherds of Christ Prayer Group
DESCRIPTION:
URL:https://www.olmcfssp.org/calendar/shepherds-of-christ-prayer-group-7/
LOCATION:Church
END:VEVENT
BEGIN:VEVENT
DTSTART;TZID=America/Denver:20230418T143000
DTEND;TZID=America/Denver:20230418T160000
DTSTAMP:20260420T003016
CREATED:20230324T173258Z
LAST-MODIFIED:20230324T173606Z
UID:4620-1681828200-1681833600@www.olmcfssp.org
SUMMARY:Legion of Mary Meeting
DESCRIPTION:The legion exists to be a sign of Mary’s maternal love for the world and a means of enlisting all her children in the Church’s evangelizing work. It is at the disposal of the parish priest for any form of service deemed useful for the welfare of the Church.
URL:https://www.olmcfssp.org/calendar/legion-of-mary-meeting-15/
LOCATION:St. Teresa of Avila Basement Room
END:VEVENT
BEGIN:VEVENT
DTSTART;TZID=America/Denver:20230418T093000
DTEND;TZID=America/Denver:20230418T110000
DTSTAMP:20260420T003016
CREATED:20230324T171721Z
LAST-MODIFIED:20230324T172053Z
UID:4580-1681810200-1681815600@www.olmcfssp.org
SUMMARY:Tuesday Morning Book Club
DESCRIPTION:The Tuesday morning book club meets to read and discuss a selected book that assists with spiritual growth and knowledge of our wonderful Catholic faith. All members of the parish are welcome to drop by and check us out.
URL:https://www.olmcfssp.org/calendar/tuesday-morning-book-club-7/
LOCATION:St. John of the Cross Conference Room
END:VEVENT
BEGIN:VEVENT
DTSTART;TZID=America/Denver:20230417T180000
DTEND;TZID=America/Denver:20230417T190000
DTSTAMP:20260420T003016
CREATED:20230324T173258Z
LAST-MODIFIED:20230324T173450Z
UID:4619-1681754400-1681758000@www.olmcfssp.org
SUMMARY:Legion of Mary Meeting
DESCRIPTION:The legion exists to be a sign of Mary’s maternal love for the world and a means of enlisting all her children in the Church’s evangelizing work. It is at the disposal of the parish priest for any form of service deemed useful for the welfare of the Church.
URL:https://www.olmcfssp.org/calendar/legion-of-mary-meeting-14/
LOCATION:St. Teresa of Avila Basement Room
END:VEVENT
BEGIN:VEVENT
DTSTART;TZID=America/Denver:20230415T180000
DTEND;TZID=America/Denver:20230415T210000
DTSTAMP:20260420T003016
CREATED:20230324T174107Z
LAST-MODIFIED:20230324T185104Z
UID:4653-1681581600-1681592400@www.olmcfssp.org
SUMMARY:Father-Daughter Dance
DESCRIPTION:RSVP to Angie at angie.flees@gmail.com
URL:https://www.olmcfssp.org/calendar/father-daughter-dance/
LOCATION:Parish Hall
END:VEVENT
BEGIN:VEVENT
DTSTART;TZID=UTC:20230415T093000
DTEND;TZID=UTC:20230415T120000
DTSTAMP:20260420T003016
CREATED:20230324T171352Z
LAST-MODIFIED:20230324T171636Z
UID:4567-1681551000-1681560000@www.olmcfssp.org
SUMMARY:Altar & Rosary Society Meeting
DESCRIPTION:The Altar and Rosary Society is an organization of women who foster and spread devotion to the Holy Rosary\, maintain the cleanliness of the church sanctuary\, wash and iron altar linens\, and arrange flowers for the altar.
URL:https://www.olmcfssp.org/calendar/altar-rosary-society-meeting-2/
LOCATION:St. Albert of Jerusalem Basement Room
END:VEVENT
BEGIN:VEVENT
DTSTART;TZID=America/Chicago:20230415T083000
DTEND;TZID=America/Chicago:20230415T091500
DTSTAMP:20260420T003016
CREATED:20230406T191905Z
LAST-MODIFIED:20230406T191905Z
UID:4756-1681547400-1681550100@www.olmcfssp.org
SUMMARY:High Mass\, Easter Saturday
DESCRIPTION:
URL:https://www.olmcfssp.org/calendar/high-mass-easter-saturday/
LOCATION:Church
END:VEVENT
BEGIN:VEVENT
DTSTART;TZID=UTC:20230413T190000
DTEND;TZID=UTC:20230413T203000
DTSTAMP:20260420T003016
CREATED:20230324T171351Z
LAST-MODIFIED:20230324T172207Z
UID:4566-1681412400-1681417800@www.olmcfssp.org
SUMMARY:God Within Class by In Ipso
DESCRIPTION:12-week course on authentic Catholic spirituality to help you grow in prayer. Tuition is $240\, and scholarships are available. Family members enjoy 50% discount on the second enrollee. Learn more at www.in-ipso.org or contact andrea@in-ipso.org / 720-203-4499. Register by Feb 15.
URL:https://www.olmcfssp.org/calendar/god-within-class-by-in-ipso-6/
LOCATION:St. Albert of Jerusalem Basement Room
END:VEVENT
BEGIN:VEVENT
DTSTART;TZID=America/Denver:20230413T073000
DTEND;TZID=America/Denver:20230413T083000
DTSTAMP:20260420T003016
CREATED:20230324T171721Z
LAST-MODIFIED:20230324T184951Z
UID:4578-1681371000-1681374600@www.olmcfssp.org
SUMMARY:St. Joseph Business Club Meeting
DESCRIPTION:We are a group of individuals who are interested in growing our businesses and connecting with other Catholic professionals. We share personal business experiences; both operational and financial\, assist and mentor new entrepreneurs\, learn ways in which we can support one other\, and much more. Each meeting consists of a presentation concerning business knowledge or advice\, discussing a rotating topic which aims to help each individual with their business\, and also the opportunity to connect with other professionals in the club which can lead to referrals\, business deals\, advice\, etc. Even if you do not own your own company\, you are welcome to come and learn more about how you can better your work\, no matter what you do!
URL:https://www.olmcfssp.org/calendar/st-joseph-business-club-meeting-2/
LOCATION:St. John of the Cross Conference Room
END:VEVENT
BEGIN:VEVENT
DTSTART;TZID=America/Denver:20230412T190000
DTEND;TZID=America/Denver:20230412T203000
DTSTAMP:20260420T003016
CREATED:20230324T173840Z
LAST-MODIFIED:20230324T173926Z
UID:4640-1681326000-1681331400@www.olmcfssp.org
SUMMARY:Choir Practice
DESCRIPTION:
URL:https://www.olmcfssp.org/calendar/choir-practice-6/
LOCATION:St. Peter Thomas Basement Room
END:VEVENT
BEGIN:VEVENT
DTSTART;TZID=America/Denver:20230412T093000
DTEND;TZID=America/Denver:20230412T103000
DTSTAMP:20260420T003016
CREATED:20230324T173258Z
LAST-MODIFIED:20230324T184853Z
UID:4617-1681291800-1681295400@www.olmcfssp.org
SUMMARY:Legion of Mary Meeting
DESCRIPTION:The legion exists to be a sign of Mary’s maternal love for the world and a means of enlisting all her children in the Church’s evangelizing work. It is at the disposal of the parish priest for any form of service deemed useful for the welfare of the Church.
URL:https://www.olmcfssp.org/calendar/legion-of-mary-meeting-13/
LOCATION:St. Teresa of Avila Basement Room
END:VEVENT
BEGIN:VEVENT
DTSTART;TZID=America/Denver:20230411T170000
DTEND;TZID=America/Denver:20230411T180000
DTSTAMP:20260420T003016
CREATED:20230324T174429Z
LAST-MODIFIED:20230324T175815Z
UID:4682-1681232400-1681236000@www.olmcfssp.org
SUMMARY:Shepherds of Christ Prayer Group
DESCRIPTION:
URL:https://www.olmcfssp.org/calendar/shepherds-of-christ-prayer-group-6/
LOCATION:Church
END:VEVENT
BEGIN:VEVENT
DTSTART;TZID=America/Denver:20230411T093000
DTEND;TZID=America/Denver:20230411T110000
DTSTAMP:20260420T003016
CREATED:20230324T171721Z
LAST-MODIFIED:20230324T172040Z
UID:4577-1681205400-1681210800@www.olmcfssp.org
SUMMARY:Tuesday Morning Book Club
DESCRIPTION:The Tuesday morning book club meets to read and discuss a selected book that assists with spiritual growth and knowledge of our wonderful Catholic faith. All members of the parish are welcome to drop by and check us out.
URL:https://www.olmcfssp.org/calendar/tuesday-morning-book-club-6/
LOCATION:St. John of the Cross Conference Room
END:VEVENT
BEGIN:VEVENT
DTSTART;TZID=America/Denver:20230411T093000
DTEND;TZID=America/Denver:20230411T103000
DTSTAMP:20260420T003016
CREATED:20230324T174429Z
LAST-MODIFIED:20230324T175918Z
UID:4681-1681205400-1681209000@www.olmcfssp.org
SUMMARY:Holy Face Devotion Group
DESCRIPTION:His Holy Face Ministry’s mission is to bring the Face of God back into the world to breathe life into souls by making reparation for the sins committed against the majesty of God and the Catholic Church. Join us as a community in making public reparation before a 2nd class relic image of the Veil of St. Veronica on the second Tuesday or third Saturday of each month after the 8:30 AM mass. We also offer presentations on the Holy Face Devotion\, a Home Enthronement Program with the image\, and a Parish Enthronement Program to share with a wider audience.
URL:https://www.olmcfssp.org/calendar/holy-face-devotion-group-5/
LOCATION:Church
END:VEVENT
BEGIN:VEVENT
DTSTART;TZID=America/Denver:20230410T180000
DTEND;TZID=America/Denver:20230410T190000
DTSTAMP:20260420T003016
CREATED:20230324T173258Z
LAST-MODIFIED:20230324T173409Z
UID:4616-1681149600-1681153200@www.olmcfssp.org
SUMMARY:Legion of Mary Meeting
DESCRIPTION:The legion exists to be a sign of Mary’s maternal love for the world and a means of enlisting all her children in the Church’s evangelizing work. It is at the disposal of the parish priest for any form of service deemed useful for the welfare of the Church.
URL:https://www.olmcfssp.org/calendar/legion-of-mary-meeting-12/
LOCATION:St. Teresa of Avila Basement Room
END:VEVENT
BEGIN:VEVENT
DTSTART;TZID=America/Denver:20230410T091500
DTEND;TZID=America/Denver:20230410T161500
DTSTAMP:20260420T003016
CREATED:20230324T180047Z
LAST-MODIFIED:20230324T180047Z
UID:4718-1681118100-1681143300@www.olmcfssp.org
SUMMARY:Parish Office Closed
DESCRIPTION:
URL:https://www.olmcfssp.org/calendar/parish-office-closed-3/
END:VEVENT
BEGIN:VEVENT
DTSTART;TZID=America/Denver:20230409T170000
DTEND;TZID=America/Denver:20230409T180000
DTSTAMP:20260420T003016
CREATED:20230324T174429Z
LAST-MODIFIED:20230324T175750Z
UID:4680-1681059600-1681063200@www.olmcfssp.org
SUMMARY:Vespers
DESCRIPTION:
URL:https://www.olmcfssp.org/calendar/vespers-7/
LOCATION:Church
END:VEVENT
BEGIN:VEVENT
DTSTART;TZID=America/Denver:20230409T130000
DTEND;TZID=America/Denver:20230409T140000
DTSTAMP:20260420T003016
CREATED:20230324T174429Z
LAST-MODIFIED:20230324T175503Z
UID:4679-1681045200-1681048800@www.olmcfssp.org
SUMMARY:No 1pm Mass
DESCRIPTION:
URL:https://www.olmcfssp.org/calendar/no-1pm-mass-2/
END:VEVENT
BEGIN:VEVENT
DTSTART;TZID=America/Denver:20230409T123000
DTEND;TZID=America/Denver:20230409T130000
DTSTAMP:20260420T003016
CREATED:20230324T174106Z
LAST-MODIFIED:20230324T174241Z
UID:4651-1681043400-1681045200@www.olmcfssp.org
SUMMARY:Easter Egg Hunt
DESCRIPTION:If you would like your child to participate\, have them come to the parish hall immediately after Mass. Please remember to bring a basket or bag!
URL:https://www.olmcfssp.org/calendar/easter-egg-hunt/
LOCATION:Parish Hall
END:VEVENT
BEGIN:VEVENT
DTSTART;TZID=America/Denver:20230408T223000
DTEND;TZID=America/Denver:20230408T235000
DTSTAMP:20260420T003016
CREATED:20230324T174106Z
LAST-MODIFIED:20230324T174230Z
UID:4650-1680993000-1680997800@www.olmcfssp.org
SUMMARY:Easter Vigil Celebration
DESCRIPTION:Celebrate Together after the Easter Vigil in the parish hall. There will be delicious desserts & drinks provided!
URL:https://www.olmcfssp.org/calendar/easter-vigil-celebration/
LOCATION:Parish Hall
END:VEVENT
BEGIN:VEVENT
DTSTART;TZID=America/Denver:20230408T190000
DTEND;TZID=America/Denver:20230408T223000
DTSTAMP:20260420T003016
CREATED:20230324T174429Z
LAST-MODIFIED:20230324T175739Z
UID:4678-1680980400-1680993000@www.olmcfssp.org
SUMMARY:Solemn Vigil
DESCRIPTION:
URL:https://www.olmcfssp.org/calendar/solemn-vigil/
LOCATION:Church
END:VEVENT
BEGIN:VEVENT
DTSTART;TZID=America/Denver:20230408T100000
DTEND;TZID=America/Denver:20230408T101500
DTSTAMP:20260420T003016
CREATED:20230324T174106Z
LAST-MODIFIED:20230324T184818Z
UID:4649-1680948000-1680948900@www.olmcfssp.org
SUMMARY:Easter Basket Blessing
DESCRIPTION:The traditional Easter basket blessing is for foods that have Easter blessings tied to them. If you would like to have your basket of food blessed\, bring it to the parish hall by 10am. (The blessing takes about 10 minutes.) \nText taken from Polish Holidays: An Introduction by Peter Zaremba\, explains the different symbolisms tied to the foods in the Easter Baskets. \n– The White Linen or Lace Napkin that lines the wicker basket may be perceived as the shroud that enwrapped the body of Christ. \n– The Easter Lamb\, made of butter or sugar (rock candy)\, but also of dough\, wood\, plaster\, fleece\, or even plastic\, symbolizes the sacrificial Paschal Lamb\, in other words Jesus Himself\, whose banner proclaims the victory of life over death. \n– Easter Eggs symbolize new life; just as a chick pecks its way out of its shell\, so too Christ rose from His tomb to bring us the promise of eternal life. \n– Bread\, either a slice of ordinary rye bread or a special small round loaf imprinted with a cross\, symbolizes “the bread of life\,”\, a metaphor for the God’s grace. \n– Meat & Sausage are symbolic of the Paschal lamb or Christ resurrected\, His victory over death and His promise of eternal life. \n– Horseradish is one of the bitter herbs of the Passover which foretold the suffering of Christ on the Cross. It is also symbolic of life in which one must accept the bitter with the sweet. \n– Vinegar symbolizes the sour wine (our English word “vinegar” comes from the French vin aigre – sour wine) which Jesus was given on a sponge to drink while hanging on the Cross. \n– Salt symbolizes that which preserves us from corruption and adds zest to daily life. \n– Cakes and confections symbolizing the sweetness of eternal life can now (following weeks of Lenten self-denial) be freely enjoyed in celebration of Christ’s Resurrection.
URL:https://www.olmcfssp.org/calendar/easter-basket-blessing/
LOCATION:Parish Hall
END:VEVENT
BEGIN:VEVENT
DTSTART;TZID=America/Denver:20230408T080000
DTEND;TZID=America/Denver:20230408T110000
DTSTAMP:20260420T003016
CREATED:20230324T174428Z
LAST-MODIFIED:20230324T175729Z
UID:4677-1680940800-1680951600@www.olmcfssp.org
SUMMARY:Confessions
DESCRIPTION:
URL:https://www.olmcfssp.org/calendar/confessions-2/
LOCATION:Church
END:VEVENT
BEGIN:VEVENT
DTSTART;TZID=America/Denver:20230407T190000
DTEND;TZID=America/Denver:20230407T203000
DTSTAMP:20260420T003016
CREATED:20230324T174428Z
LAST-MODIFIED:20230324T175714Z
UID:4676-1680894000-1680899400@www.olmcfssp.org
SUMMARY:Tenebrae
DESCRIPTION:
URL:https://www.olmcfssp.org/calendar/tenebrae-3/
LOCATION:Church
END:VEVENT
BEGIN:VEVENT
DTSTART;TZID=America/Denver:20230407T150000
DTEND;TZID=America/Denver:20230407T170000
DTSTAMP:20260420T003016
CREATED:20230324T174428Z
LAST-MODIFIED:20230324T175706Z
UID:4675-1680879600-1680886800@www.olmcfssp.org
SUMMARY:Solemn Liturgy
DESCRIPTION:
URL:https://www.olmcfssp.org/calendar/solemn-liturgy/
LOCATION:Church
END:VEVENT
BEGIN:VEVENT
DTSTART;TZID=America/Denver:20230407T140000
DTEND;TZID=America/Denver:20230407T144500
DTSTAMP:20260420T003016
CREATED:20230324T174428Z
LAST-MODIFIED:20230324T175655Z
UID:4673-1680876000-1680878700@www.olmcfssp.org
SUMMARY:Stations of the Cross
DESCRIPTION:
URL:https://www.olmcfssp.org/calendar/stations-of-the-cross-7/
LOCATION:Church
END:VEVENT
END:VCALENDAR