BEGIN:VCALENDAR
VERSION:2.0
PRODID:-//Our Lady of Mt. Carmel - ECPv6.15.20//NONSGML v1.0//EN
CALSCALE:GREGORIAN
METHOD:PUBLISH
X-WR-CALNAME:Our Lady of Mt. Carmel
X-ORIGINAL-URL:https://www.olmcfssp.org
X-WR-CALDESC:Events for Our Lady of Mt. Carmel
REFRESH-INTERVAL;VALUE=DURATION:PT1H
X-Robots-Tag:noindex
X-PUBLISHED-TTL:PT1H
BEGIN:VTIMEZONE
TZID:America/Denver
BEGIN:DAYLIGHT
TZOFFSETFROM:-0700
TZOFFSETTO:-0600
TZNAME:MDT
DTSTART:20220313T090000
END:DAYLIGHT
BEGIN:STANDARD
TZOFFSETFROM:-0600
TZOFFSETTO:-0700
TZNAME:MST
DTSTART:20221106T080000
END:STANDARD
BEGIN:DAYLIGHT
TZOFFSETFROM:-0700
TZOFFSETTO:-0600
TZNAME:MDT
DTSTART:20230312T090000
END:DAYLIGHT
BEGIN:STANDARD
TZOFFSETFROM:-0600
TZOFFSETTO:-0700
TZNAME:MST
DTSTART:20231105T080000
END:STANDARD
BEGIN:DAYLIGHT
TZOFFSETFROM:-0700
TZOFFSETTO:-0600
TZNAME:MDT
DTSTART:20240310T090000
END:DAYLIGHT
BEGIN:STANDARD
TZOFFSETFROM:-0600
TZOFFSETTO:-0700
TZNAME:MST
DTSTART:20241103T080000
END:STANDARD
END:VTIMEZONE
BEGIN:VTIMEZONE
TZID:America/Chicago
BEGIN:DAYLIGHT
TZOFFSETFROM:-0600
TZOFFSETTO:-0500
TZNAME:CDT
DTSTART:20220313T080000
END:DAYLIGHT
BEGIN:STANDARD
TZOFFSETFROM:-0500
TZOFFSETTO:-0600
TZNAME:CST
DTSTART:20221106T070000
END:STANDARD
BEGIN:DAYLIGHT
TZOFFSETFROM:-0600
TZOFFSETTO:-0500
TZNAME:CDT
DTSTART:20230312T080000
END:DAYLIGHT
BEGIN:STANDARD
TZOFFSETFROM:-0500
TZOFFSETTO:-0600
TZNAME:CST
DTSTART:20231105T070000
END:STANDARD
BEGIN:DAYLIGHT
TZOFFSETFROM:-0600
TZOFFSETTO:-0500
TZNAME:CDT
DTSTART:20240310T080000
END:DAYLIGHT
BEGIN:STANDARD
TZOFFSETFROM:-0500
TZOFFSETTO:-0600
TZNAME:CST
DTSTART:20241103T070000
END:STANDARD
END:VTIMEZONE
BEGIN:VEVENT
DTSTART;TZID=America/Denver:20230514T160000
DTEND;TZID=America/Denver:20230514T170000
DTSTAMP:20260420T014516
CREATED:20230426T200843Z
LAST-MODIFIED:20230426T203740Z
UID:4972-1684080000-1684083600@www.olmcfssp.org
SUMMARY:Homeschool Co-Op Play: The Enchanted Bookshop
DESCRIPTION:Schola Rosa Homeschool Co-Op presents their spring play\, The Enchanted Bookshop at 6:30pm in the parish hall. Donations gratefully accepted. Dessert reception to follow.
URL:https://www.olmcfssp.org/calendar/homeschool-co-op-play-the-enchanted-bookshop/
END:VEVENT
BEGIN:VEVENT
DTSTART;TZID=America/Denver:20230513T130000
DTEND;TZID=America/Denver:20230513T160000
DTSTAMP:20260420T014516
CREATED:20230426T201652Z
LAST-MODIFIED:20230426T201653Z
UID:4985-1683982800-1683993600@www.olmcfssp.org
SUMMARY:Hibernia Music Group
DESCRIPTION:
URL:https://www.olmcfssp.org/calendar/hibernia-music-group-5/
END:VEVENT
BEGIN:VEVENT
DTSTART;TZID=America/Denver:20230513T093000
DTEND;TZID=America/Denver:20230513T113000
DTSTAMP:20260420T014516
CREATED:20230426T201759Z
LAST-MODIFIED:20230426T201759Z
UID:4992-1683970200-1683977400@www.olmcfssp.org
SUMMARY:Holy Name Society Meeting
DESCRIPTION:The Holy Name Society is an organization of men striving to grow in holiness. The group is open to all men of the parish over the age of 18. Meetings include Mass\, the recitation of the Holy Rosary\, breakfast and a spiritual talk.
URL:https://www.olmcfssp.org/calendar/holy-name-society-meeting-2/
END:VEVENT
BEGIN:VEVENT
DTSTART;TZID=America/Denver:20230513T093000
DTEND;TZID=America/Denver:20230513T110000
DTSTAMP:20260420T014516
CREATED:20230426T202044Z
LAST-MODIFIED:20230426T202046Z
UID:5025-1683970200-1683975600@www.olmcfssp.org
SUMMARY:St. Therese Book Club
DESCRIPTION:Come and study the works of St. Therese as a group. All are welcome.
URL:https://www.olmcfssp.org/calendar/st-therese-book-club-2/
END:VEVENT
BEGIN:VEVENT
DTSTART;TZID=America/Denver:20230513T093000
DTEND;TZID=America/Denver:20230513T103000
DTSTAMP:20260420T014516
CREATED:20230426T200843Z
LAST-MODIFIED:20230426T200843Z
UID:4971-1683970200-1683973800@www.olmcfssp.org
SUMMARY:Convert Reception
DESCRIPTION:
URL:https://www.olmcfssp.org/calendar/convert-reception/
END:VEVENT
BEGIN:VEVENT
DTSTART;TZID=America/Denver:20230513T083000
DTEND;TZID=America/Denver:20230513T093000
DTSTAMP:20260420T014516
CREATED:20230426T200452Z
LAST-MODIFIED:20230428T213357Z
UID:4946-1683966600-1683970200@www.olmcfssp.org
SUMMARY:Converts Reception into the Church
DESCRIPTION:Several converts at OLMC will be coming into the Church on this day! We invite all parishioners to attend the Mass + celebrate together in the hall afterwards! Cake and lemonade will be provided. If you would like to attend the Confirmations\, they will begin at 7:15am and take about 15 minutes.
URL:https://www.olmcfssp.org/calendar/converts-reception-into-the-church/
END:VEVENT
BEGIN:VEVENT
DTSTART;TZID=America/Denver:20230511T180000
DTEND;TZID=America/Denver:20230511T210000
DTSTAMP:20260420T014516
CREATED:20230426T200843Z
LAST-MODIFIED:20230426T200843Z
UID:4970-1683828000-1683838800@www.olmcfssp.org
SUMMARY:Men's Night
DESCRIPTION:Please join us for our next Men’s Group on Thursday\, May 11th. We will start the rosary at 6:00 followed by a talk at 6:30. Rick Wheeler and Nicholas Trandem will be discussing their experience in beer and wine-making.
URL:https://www.olmcfssp.org/calendar/mens-night/
END:VEVENT
BEGIN:VEVENT
DTSTART;TZID=America/Denver:20230510T190000
DTEND;TZID=America/Denver:20230510T203000
DTSTAMP:20260420T014516
CREATED:20230426T201932Z
LAST-MODIFIED:20230426T201932Z
UID:5015-1683745200-1683750600@www.olmcfssp.org
SUMMARY:Choir Practice
DESCRIPTION:
URL:https://www.olmcfssp.org/calendar/choir-practice-10/
END:VEVENT
BEGIN:VEVENT
DTSTART;TZID=America/Denver:20230510T093000
DTEND;TZID=America/Denver:20230510T103000
DTSTAMP:20260420T014516
CREATED:20230426T202043Z
LAST-MODIFIED:20230426T202045Z
UID:5024-1683711000-1683714600@www.olmcfssp.org
SUMMARY:Legion of Mary Meeting
DESCRIPTION:The legion exists to be a sign of Mary’s maternal love for the world and a means of enlisting all her children in the Church’s evangelizing work. It is at the disposal of the parish priest for any form of service deemed useful for the welfare of the Church.
URL:https://www.olmcfssp.org/calendar/legion-of-mary-meeting-22/
END:VEVENT
BEGIN:VEVENT
DTSTART;TZID=America/Denver:20230509T170000
DTEND;TZID=America/Denver:20230509T180000
DTSTAMP:20260420T014516
CREATED:20230426T200452Z
LAST-MODIFIED:20230426T200453Z
UID:4945-1683651600-1683655200@www.olmcfssp.org
SUMMARY:Shepherds of Christ Prayer Group
DESCRIPTION:
URL:https://www.olmcfssp.org/calendar/shepherds-of-christ-prayer-group-10/
END:VEVENT
BEGIN:VEVENT
DTSTART;TZID=America/Denver:20230509T093000
DTEND;TZID=America/Denver:20230509T110000
DTSTAMP:20260420T014516
CREATED:20230426T201836Z
LAST-MODIFIED:20230426T201838Z
UID:5002-1683624600-1683630000@www.olmcfssp.org
SUMMARY:Tuesday Morning Book Club
DESCRIPTION:The Tuesday morning book club meets to read and discuss a selected book that assists with spiritual growth and knowledge of our wonderful Catholic faith. All members of the parish are welcome to drop by and check us out.
URL:https://www.olmcfssp.org/calendar/tuesday-morning-book-club-10/
END:VEVENT
BEGIN:VEVENT
DTSTART;TZID=America/Denver:20230509T093000
DTEND;TZID=America/Denver:20230509T103000
DTSTAMP:20260420T014516
CREATED:20230426T200452Z
LAST-MODIFIED:20230426T200453Z
UID:4944-1683624600-1683628200@www.olmcfssp.org
SUMMARY:Holy Face Devotion Group
DESCRIPTION:His Holy Face Ministry’s mission is to bring the Face of God back into the world to breathe life into souls by making reparation for the sins committed against the majesty of God and the Catholic Church. Join us as a community in making public reparation before a 2nd class relic image of the Veil of St. Veronica on the second Tuesday or third Saturday of each month after the 8:30 AM mass. We also offer presentations on the Holy Face Devotion\, a Home Enthronement Program with the image\, and a Parish Enthronement Program to share with a wider audience.
URL:https://www.olmcfssp.org/calendar/holy-face-devotion-group-6/
END:VEVENT
BEGIN:VEVENT
DTSTART;TZID=America/Denver:20230508T180000
DTEND;TZID=America/Denver:20230508T190000
DTSTAMP:20260420T014516
CREATED:20230426T202043Z
LAST-MODIFIED:20230426T202044Z
UID:5023-1683568800-1683572400@www.olmcfssp.org
SUMMARY:Legion of Mary Meeting
DESCRIPTION:The legion exists to be a sign of Mary’s maternal love for the world and a means of enlisting all her children in the Church’s evangelizing work. It is at the disposal of the parish priest for any form of service deemed useful for the welfare of the Church.
URL:https://www.olmcfssp.org/calendar/legion-of-mary-meeting-21/
END:VEVENT
BEGIN:VEVENT
DTSTART;TZID=America/Denver:20230507T170000
DTEND;TZID=America/Denver:20230507T180000
DTSTAMP:20260420T014516
CREATED:20230324T174430Z
LAST-MODIFIED:20230426T200453Z
UID:4688-1683478800-1683482400@www.olmcfssp.org
SUMMARY:Sung Vespers
DESCRIPTION:
URL:https://www.olmcfssp.org/calendar/vespers-10/
LOCATION:Church
END:VEVENT
BEGIN:VEVENT
DTSTART;TZID=America/Denver:20230507T140000
DTEND;TZID=America/Denver:20230507T170000
DTSTAMP:20260420T014516
CREATED:20230426T201758Z
LAST-MODIFIED:20230426T201759Z
UID:4991-1683468000-1683478800@www.olmcfssp.org
SUMMARY:Laeta Vita
DESCRIPTION:Leata Vita (Joyful Life) is a group for single women ages 18-35. The purpose of our group is to meet and grow in fellowship with other women who are in a similar season of life. We meet two times a month. The first meeting of the month consists of discussing a book as part of our book club and socializing with each other. The second meeting of the month consists of a fun outing or activity (and every now and then something charitable for the parish or some other organization)\, meant to give the members a chance to get out and have some fun.
URL:https://www.olmcfssp.org/calendar/laeta-vita/
END:VEVENT
BEGIN:VEVENT
DTSTART;TZID=America/Denver:20230507T073000
DTEND;TZID=America/Denver:20230507T143000
DTSTAMP:20260420T014516
CREATED:20230426T200842Z
LAST-MODIFIED:20230426T203824Z
UID:4969-1683444600-1683469800@www.olmcfssp.org
SUMMARY:Mother's Day Craft Fair
DESCRIPTION:Mother’s Day Craft Fair after all Sunday Masses. Purchase the perfect gift to celebrate a mom you know or to give to a child receiving their first sacraments. Support both parishioner-owned businesses and help fundraise for the bus that will take the OLMC chapter to the 3 Hearts Pilgrimage.
URL:https://www.olmcfssp.org/calendar/mothers-day-craft-fair/
END:VEVENT
BEGIN:VEVENT
DTSTART;TZID=America/Denver:20230506T093000
DTEND;TZID=America/Denver:20230506T130000
DTSTAMP:20260420T014516
CREATED:20230224T204156Z
LAST-MODIFIED:20230426T202044Z
UID:4430-1683365400-1683378000@www.olmcfssp.org
SUMMARY:St. Teresa of Jesus Association
DESCRIPTION:A formation in the spirituality of St. Teresa of Jesus within a Study Group composed of men and women over the age of 25 years. This formation includes daily Mass\, Lectio Divina\, Divine Office and the living a life of apostolic endeavors: ministering to our families and the world.  The members endeavor to give glory to God\, to honor our Blessed Lady of Carmel and to aid our Holy Mother the Church by their prayers.
URL:https://www.olmcfssp.org/calendar/st-teresa-of-jesus-association/
LOCATION:St. Teresa of Avila Basement Room
END:VEVENT
BEGIN:VEVENT
DTSTART;TZID=America/Denver:20230506T083000
DTEND;TZID=America/Denver:20230506T130000
DTSTAMP:20260420T014516
CREATED:20230426T200842Z
LAST-MODIFIED:20230426T200842Z
UID:4968-1683361800-1683378000@www.olmcfssp.org
SUMMARY:May Crowning and Brunch
DESCRIPTION:May Crowning in honor of Our Lady. There will be an 8:30am high Mass\, followed by a Marian procession\, and a light breakfast provided by the church. All parishioners are encouraged to attend and dress in their Sunday best.
URL:https://www.olmcfssp.org/calendar/may-crowning-and-brunch/
END:VEVENT
BEGIN:VEVENT
DTSTART;TZID=America/Denver:20230506T083000
DTEND;TZID=America/Denver:20230506T091500
DTSTAMP:20260420T014516
CREATED:20230426T200451Z
LAST-MODIFIED:20230426T200452Z
UID:4941-1683361800-1683364500@www.olmcfssp.org
SUMMARY:High Mass\, Immaculate Heart of Mary
DESCRIPTION:
URL:https://www.olmcfssp.org/calendar/high-mass-immaculate-heart-of-mary/
END:VEVENT
BEGIN:VEVENT
DTSTART;TZID=America/Denver:20230505T093000
DTEND;TZID=America/Denver:20230506T080000
DTSTAMP:20260420T014516
CREATED:20230426T200451Z
LAST-MODIFIED:20230426T200452Z
UID:4940-1683279000-1683360000@www.olmcfssp.org
SUMMARY:First Friday Adoration
DESCRIPTION:
URL:https://www.olmcfssp.org/calendar/first-friday-adoration-2/
END:VEVENT
BEGIN:VEVENT
DTSTART;TZID=America/Denver:20230504T073000
DTEND;TZID=America/Denver:20230504T083000
DTSTAMP:20260420T014516
CREATED:20230426T201836Z
LAST-MODIFIED:20230426T201837Z
UID:5001-1683185400-1683189000@www.olmcfssp.org
SUMMARY:St. Joseph Business Club Meeting
DESCRIPTION:We are a group of individuals who are interested in growing our businesses and connecting with other Catholic professionals. We share personal business experiences; both operational and financial\, assist and mentor new entrepreneurs\, learn ways in which we can support one other\, and much more. Each meeting consists of a presentation concerning business knowledge or advice\, discussing a rotating topic which aims to help each individual with their business\, and also the opportunity to connect with other professionals in the club which can lead to referrals\, business deals\, advice\, etc. Even if you do not own your own company\, you are welcome to come and learn more about how you can better your work\, no matter what you do!
URL:https://www.olmcfssp.org/calendar/st-joseph-business-club-meeting-5/
END:VEVENT
BEGIN:VEVENT
DTSTART;TZID=America/Denver:20230503T190000
DTEND;TZID=America/Denver:20230503T203000
DTSTAMP:20260420T014516
CREATED:20230426T201932Z
LAST-MODIFIED:20230426T201932Z
UID:5014-1683140400-1683145800@www.olmcfssp.org
SUMMARY:Choir Practice
DESCRIPTION:
URL:https://www.olmcfssp.org/calendar/choir-practice-9/
END:VEVENT
BEGIN:VEVENT
DTSTART;TZID=America/Denver:20230503T180000
DTEND;TZID=America/Denver:20230503T210000
DTSTAMP:20260420T014516
CREATED:20230426T200842Z
LAST-MODIFIED:20230426T200842Z
UID:4967-1683136800-1683147600@www.olmcfssp.org
SUMMARY:St. John Bosco Youth Group
DESCRIPTION:St. John Bosco Youth Group is intended for teenagers ages 14-18 who are looking to form community and grow their Faith with others their age. Our typical youth nights include praying the Rosary\, a talk\, and lots of fun games!
URL:https://www.olmcfssp.org/calendar/st-john-bosco-youth-group-2/
END:VEVENT
BEGIN:VEVENT
DTSTART;TZID=America/Denver:20230503T093000
DTEND;TZID=America/Denver:20230503T103000
DTSTAMP:20260420T014516
CREATED:20230324T173258Z
LAST-MODIFIED:20230426T202043Z
UID:4614-1683106200-1683109800@www.olmcfssp.org
SUMMARY:Legion of Mary Meeting
DESCRIPTION:The legion exists to be a sign of Mary’s maternal love for the world and a means of enlisting all her children in the Church’s evangelizing work. It is at the disposal of the parish priest for any form of service deemed useful for the welfare of the Church.
URL:https://www.olmcfssp.org/calendar/legion-of-mary-meeting-11/
LOCATION:St. Teresa of Avila Basement Room
END:VEVENT
BEGIN:VEVENT
DTSTART;TZID=America/Denver:20230502T170000
DTEND;TZID=America/Denver:20230502T180000
DTSTAMP:20260420T014516
CREATED:20230426T200451Z
LAST-MODIFIED:20230426T200451Z
UID:4939-1683046800-1683050400@www.olmcfssp.org
SUMMARY:Shepherds of Christ Prayer Group
DESCRIPTION:
URL:https://www.olmcfssp.org/calendar/shepherds-of-christ-prayer-group-9/
END:VEVENT
BEGIN:VEVENT
DTSTART;TZID=America/Denver:20230502T093000
DTEND;TZID=America/Denver:20230502T110000
DTSTAMP:20260420T014516
CREATED:20230426T201836Z
LAST-MODIFIED:20230426T201836Z
UID:5000-1683019800-1683025200@www.olmcfssp.org
SUMMARY:Tuesday Morning Book Club
DESCRIPTION:The Tuesday morning book club meets to read and discuss a selected book that assists with spiritual growth and knowledge of our wonderful Catholic faith. All members of the parish are welcome to drop by and check us out.
URL:https://www.olmcfssp.org/calendar/tuesday-morning-book-club-9/
END:VEVENT
BEGIN:VEVENT
DTSTART;TZID=America/Denver:20230501T180000
DTEND;TZID=America/Denver:20230501T190000
DTSTAMP:20260420T014516
CREATED:20230426T202043Z
LAST-MODIFIED:20230426T202043Z
UID:5020-1682964000-1682967600@www.olmcfssp.org
SUMMARY:Legion of Mary Meeting
DESCRIPTION:The legion exists to be a sign of Mary’s maternal love for the world and a means of enlisting all her children in the Church’s evangelizing work. It is at the disposal of the parish priest for any form of service deemed useful for the welfare of the Church.
URL:https://www.olmcfssp.org/calendar/legion-of-mary-meeting-19/
END:VEVENT
BEGIN:VEVENT
DTSTART;TZID=America/Denver:20230501T180000
DTEND;TZID=America/Denver:20230501T190000
DTSTAMP:20260420T014516
CREATED:20230426T202043Z
LAST-MODIFIED:20230426T202043Z
UID:5021-1682964000-1682967600@www.olmcfssp.org
SUMMARY:Legion of Mary Meeting
DESCRIPTION:The legion exists to be a sign of Mary’s maternal love for the world and a means of enlisting all her children in the Church’s evangelizing work. It is at the disposal of the parish priest for any form of service deemed useful for the welfare of the Church.
URL:https://www.olmcfssp.org/calendar/legion-of-mary-meeting-20/
END:VEVENT
BEGIN:VEVENT
DTSTART;TZID=America/Denver:20230501T083000
DTEND;TZID=America/Denver:20230501T091500
DTSTAMP:20260420T014516
CREATED:20230426T200451Z
LAST-MODIFIED:20230426T200451Z
UID:4937-1682929800-1682932500@www.olmcfssp.org
SUMMARY:High Mass\, St. Joseph the Workman
DESCRIPTION:
URL:https://www.olmcfssp.org/calendar/high-mass-st-joseph-the-workman/
END:VEVENT
BEGIN:VEVENT
DTSTART;TZID=America/Chicago:20230429T170000
DTEND;TZID=America/Chicago:20230429T170000
DTSTAMP:20260420T014516
CREATED:20230324T211347Z
LAST-MODIFIED:20230324T211442Z
UID:4737-1682787600-1682787600@www.olmcfssp.org
SUMMARY:Spring Dance
DESCRIPTION:All those who wish to attend must RSVP no later than April 27th. Please Sign Up Here\n\nThose who are under 18 must be accompanied by a legal guardian.\n\nDress Code: All guests should be in clothing which extends below the knees\, past the shoulders\, and comes up to the neckline front and back.
URL:https://www.olmcfssp.org/calendar/spring-dance-2/
LOCATION:Parish Hall
END:VEVENT
END:VCALENDAR