BEGIN:VCALENDAR
VERSION:2.0
PRODID:-//Our Lady of Mt. Carmel - ECPv6.15.20//NONSGML v1.0//EN
CALSCALE:GREGORIAN
METHOD:PUBLISH
X-ORIGINAL-URL:https://www.olmcfssp.org
X-WR-CALDESC:Events for Our Lady of Mt. Carmel
REFRESH-INTERVAL;VALUE=DURATION:PT1H
X-Robots-Tag:noindex
X-PUBLISHED-TTL:PT1H
BEGIN:VTIMEZONE
TZID:America/Denver
BEGIN:DAYLIGHT
TZOFFSETFROM:-0700
TZOFFSETTO:-0600
TZNAME:MDT
DTSTART:20230312T090000
END:DAYLIGHT
BEGIN:STANDARD
TZOFFSETFROM:-0600
TZOFFSETTO:-0700
TZNAME:MST
DTSTART:20231105T080000
END:STANDARD
BEGIN:DAYLIGHT
TZOFFSETFROM:-0700
TZOFFSETTO:-0600
TZNAME:MDT
DTSTART:20240310T090000
END:DAYLIGHT
BEGIN:STANDARD
TZOFFSETFROM:-0600
TZOFFSETTO:-0700
TZNAME:MST
DTSTART:20241103T080000
END:STANDARD
BEGIN:DAYLIGHT
TZOFFSETFROM:-0700
TZOFFSETTO:-0600
TZNAME:MDT
DTSTART:20250309T090000
END:DAYLIGHT
BEGIN:STANDARD
TZOFFSETFROM:-0600
TZOFFSETTO:-0700
TZNAME:MST
DTSTART:20251102T080000
END:STANDARD
END:VTIMEZONE
BEGIN:VTIMEZONE
TZID:America/Chicago
BEGIN:DAYLIGHT
TZOFFSETFROM:-0600
TZOFFSETTO:-0500
TZNAME:CDT
DTSTART:20230312T080000
END:DAYLIGHT
BEGIN:STANDARD
TZOFFSETFROM:-0500
TZOFFSETTO:-0600
TZNAME:CST
DTSTART:20231105T070000
END:STANDARD
BEGIN:DAYLIGHT
TZOFFSETFROM:-0600
TZOFFSETTO:-0500
TZNAME:CDT
DTSTART:20240310T080000
END:DAYLIGHT
BEGIN:STANDARD
TZOFFSETFROM:-0500
TZOFFSETTO:-0600
TZNAME:CST
DTSTART:20241103T070000
END:STANDARD
BEGIN:DAYLIGHT
TZOFFSETFROM:-0600
TZOFFSETTO:-0500
TZNAME:CDT
DTSTART:20250309T080000
END:DAYLIGHT
BEGIN:STANDARD
TZOFFSETFROM:-0500
TZOFFSETTO:-0600
TZNAME:CST
DTSTART:20251102T070000
END:STANDARD
END:VTIMEZONE
BEGIN:VEVENT
DTSTART;TZID=America/Denver:20240815T190000
DTEND;TZID=America/Denver:20240815T200000
DTSTAMP:20260419T145448
CREATED:20240712T215010Z
LAST-MODIFIED:20240809T220847Z
UID:9096-1723748400-1723752000@www.olmcfssp.org
SUMMARY:High Mass - Assumption
DESCRIPTION:
URL:https://www.olmcfssp.org/calendar/high-mass-assumption-2/
END:VEVENT
BEGIN:VEVENT
DTSTART;TZID=America/Denver:20240817T093000
DTEND;TZID=America/Denver:20240817T120000
DTSTAMP:20260419T145448
CREATED:20231110T192427Z
LAST-MODIFIED:20240816T225347Z
UID:8252-1723887000-1723896000@www.olmcfssp.org
SUMMARY:Altar and Rosary Society Meeting
DESCRIPTION:The Altar and Rosary Society is an organization of women who foster and spread devotion to the Holy Rosary\, maintain the cleanliness of the church sanctuary\, wash and iron altar linens\, and arrange flowers for the altar.
URL:https://www.olmcfssp.org/calendar/altar-and-rosary-society-meeting-11/
END:VEVENT
BEGIN:VEVENT
DTSTART;TZID=America/Denver:20240817T173000
DTEND;TZID=America/Denver:20240817T210000
DTSTAMP:20260419T145448
CREATED:20231027T173122Z
LAST-MODIFIED:20240817T000851Z
UID:6766-1723915800-1723928400@www.olmcfssp.org
SUMMARY:Laeta Vita Movie Night
DESCRIPTION:Leata Vita (Joyful Life) is a group for single women ages 18-35. The purpose of our group is to meet and grow in fellowship with other women who are in a similar season of life. We meet two times a month. The first meeting of the month consists of discussing a book as part of our book club and socializing with each other. The second meeting of the month consists of a fun outing or activity (and every now and then something charitable for the parish or some other organization)\, meant to give the members a chance to get out and have some fun.
URL:https://www.olmcfssp.org/calendar/laeta-vita-27/
END:VEVENT
BEGIN:VEVENT
DTSTART;VALUE=DATE:20240818
DTEND;VALUE=DATE:20240819
DTSTAMP:20260419T145448
CREATED:20240712T220934Z
LAST-MODIFIED:20240816T225338Z
UID:9426-1723939200-1724025599@www.olmcfssp.org
SUMMARY:K of C Burrito Breakfast
DESCRIPTION:
URL:https://www.olmcfssp.org/calendar/k-of-c-burrito-breakfast-2/
END:VEVENT
BEGIN:VEVENT
DTSTART;TZID=America/Denver:20240818T123000
DTEND;TZID=America/Denver:20240818T140000
DTSTAMP:20260419T145448
CREATED:20231027T173355Z
LAST-MODIFIED:20240816T230841Z
UID:7026-1723984200-1723989600@www.olmcfssp.org
SUMMARY:Creation Study Group
DESCRIPTION:This group is dedicated to studying the traditional Catholic teaching on creation and Genesis as believed and taught by the Doctors\, Fathers\, Councils and Popes for two thousand years. We explore various aspects of the creation/evolutionism debate and the effects of evolutionary thought on culture\, science and the Church. As Pope St Pius X said about Modernism\, that it is the “synthesis of all heresies.” And “the chief of their doctrines\, that of evolution.” \nAll are welcome to attend and contribute their experience and expertise.
URL:https://www.olmcfssp.org/calendar/creation-study-group-10/
END:VEVENT
BEGIN:VEVENT
DTSTART;TZID=America/Denver:20240818T170000
DTEND;TZID=America/Denver:20240818T180000
DTSTAMP:20260419T145448
CREATED:20231027T172444Z
LAST-MODIFIED:20240816T222328Z
UID:6263-1724000400-1724004000@www.olmcfssp.org
SUMMARY:Sung Vespers
DESCRIPTION:
URL:https://www.olmcfssp.org/calendar/sung-vespers-67/
END:VEVENT
BEGIN:VEVENT
DTSTART;TZID=America/Denver:20240819T180000
DTEND;TZID=America/Denver:20240819T190000
DTSTAMP:20260419T145448
CREATED:20231027T173122Z
LAST-MODIFIED:20240817T000851Z
UID:6767-1724090400-1724094000@www.olmcfssp.org
SUMMARY:Legion of Mary Meeting
DESCRIPTION:The legion exists to be a sign of Mary’s maternal love for the world and a means of enlisting all her children in the Church’s evangelizing work. It is at the disposal of the parish priest for any form of service deemed useful for the welfare of the Church.
URL:https://www.olmcfssp.org/calendar/legion-of-mary-meeting-158/
END:VEVENT
BEGIN:VEVENT
DTSTART;TZID=America/Denver:20240820T093000
DTEND;TZID=America/Denver:20240820T110000
DTSTAMP:20260419T145448
CREATED:20231027T173356Z
LAST-MODIFIED:20231027T173356Z
UID:7027-1724146200-1724151600@www.olmcfssp.org
SUMMARY:Tuesday Morning Book Club
DESCRIPTION:The Tuesday morning book club meets to read and discuss a selected book that assists with spiritual growth and knowledge of our wonderful Catholic faith. All members of the parish are welcome to drop by and check us out.
URL:https://www.olmcfssp.org/calendar/tuesday-morning-book-club-81/
END:VEVENT
BEGIN:VEVENT
DTSTART;TZID=America/Denver:20240820T170000
DTEND;TZID=America/Denver:20240820T180000
DTSTAMP:20260419T145448
CREATED:20231027T172444Z
LAST-MODIFIED:20240816T222328Z
UID:6264-1724173200-1724176800@www.olmcfssp.org
SUMMARY:Shepherds of Christ Prayer Group
DESCRIPTION:
URL:https://www.olmcfssp.org/calendar/shepherds-of-christ-prayer-group-81/
END:VEVENT
BEGIN:VEVENT
DTSTART;TZID=America/Denver:20240821T190000
DTEND;TZID=America/Denver:20240821T203000
DTSTAMP:20260419T145448
CREATED:20231027T173629Z
LAST-MODIFIED:20231215T203833Z
UID:7165-1724266800-1724272200@www.olmcfssp.org
SUMMARY:Choir Practice
DESCRIPTION:
URL:https://www.olmcfssp.org/calendar/choir-practice-79/
END:VEVENT
BEGIN:VEVENT
DTSTART;TZID=America/Denver:20240822T083000
DTEND;TZID=America/Denver:20240822T093000
DTSTAMP:20260419T145448
CREATED:20240712T215010Z
LAST-MODIFIED:20240816T222328Z
UID:9097-1724315400-1724319000@www.olmcfssp.org
SUMMARY:High Mass - Immaculate Heart of Mary
DESCRIPTION:
URL:https://www.olmcfssp.org/calendar/high-mass-immaculate-heart-of-mary-3/
END:VEVENT
BEGIN:VEVENT
DTSTART;TZID=America/Denver:20240822T093000
DTEND;TZID=America/Denver:20240822T103000
DTSTAMP:20260419T145448
CREATED:20231027T173122Z
LAST-MODIFIED:20240817T000851Z
UID:6768-1724319000-1724322600@www.olmcfssp.org
SUMMARY:Legion of Mary Meeting
DESCRIPTION:The legion exists to be a sign of Mary’s maternal love for the world and a means of enlisting all her children in the Church’s evangelizing work. It is at the disposal of the parish priest for any form of service deemed useful for the welfare of the Church.
URL:https://www.olmcfssp.org/calendar/legion-of-mary-meeting-159/
END:VEVENT
BEGIN:VEVENT
DTSTART;VALUE=DATE:20240823
DTEND;VALUE=DATE:20240825
DTSTAMP:20260419T145448
CREATED:20240430T173252Z
LAST-MODIFIED:20240430T173452Z
UID:8943-1724371200-1724543999@www.olmcfssp.org
SUMMARY:3rd Annual Women's Conference
DESCRIPTION:Please see website for more details and to register: restoretradition.com
URL:https://www.olmcfssp.org/calendar/3rd-annual-restore-tradition-womens-conference/
END:VEVENT
BEGIN:VEVENT
DTSTART;VALUE=DATE:20240823
DTEND;VALUE=DATE:20240825
DTSTAMP:20260419T145448
CREATED:20240712T220934Z
LAST-MODIFIED:20240824T002358Z
UID:9427-1724371200-1724543999@www.olmcfssp.org
SUMMARY:Women's Conference
DESCRIPTION:
URL:https://www.olmcfssp.org/calendar/womens-conference/
END:VEVENT
BEGIN:VEVENT
DTSTART;TZID=America/Denver:20240824T083000
DTEND;TZID=America/Denver:20240824T160000
DTSTAMP:20260419T145448
CREATED:20240802T232335Z
LAST-MODIFIED:20240823T233826Z
UID:9935-1724488200-1724515200@www.olmcfssp.org
SUMMARY:FNE
DESCRIPTION:The Federation of North American Explorers is an authentic Catholic scouting program with groups for boys and girls between the age of 6-17. Please direct any questions to info@olmcexplorers.org
URL:https://www.olmcfssp.org/calendar/fne/
END:VEVENT
BEGIN:VEVENT
DTSTART;TZID=America/Denver:20240824T101500
DTEND;TZID=America/Denver:20240824T110000
DTSTAMP:20260419T145448
CREATED:20231027T172758Z
LAST-MODIFIED:20231027T172758Z
UID:6477-1724494500-1724497200@www.olmcfssp.org
SUMMARY:Planned Parenthood Prayer Vigil
DESCRIPTION:Please join us for our monthly parish prayer vigil at Planned Parenthood starting at 10:15 am. The facility is located at 7155 E 38th Ave. in Denver.
URL:https://www.olmcfssp.org/calendar/planned-parenthood-prayer-vigil-17/
END:VEVENT
BEGIN:VEVENT
DTSTART;TZID=America/Denver:20240825T123000
DTEND;TZID=America/Denver:20240825T141500
DTSTAMP:20260419T145448
CREATED:20231027T173122Z
LAST-MODIFIED:20231027T173122Z
UID:6769-1724589000-1724595300@www.olmcfssp.org
SUMMARY:Carmel Rookies Chess Club
DESCRIPTION:Players must RSVP to Mr. Mudd at rdm3rdm3@gmail.com to reserve their spot as space is limited.
URL:https://www.olmcfssp.org/calendar/carmel-rookies-chess-club-22/
END:VEVENT
BEGIN:VEVENT
DTSTART;TZID=America/Denver:20240825T170000
DTEND;TZID=America/Denver:20240825T180000
DTSTAMP:20260419T145448
CREATED:20231027T172444Z
LAST-MODIFIED:20240823T222330Z
UID:6265-1724605200-1724608800@www.olmcfssp.org
SUMMARY:Sung Vespers
DESCRIPTION:
URL:https://www.olmcfssp.org/calendar/sung-vespers-68/
END:VEVENT
BEGIN:VEVENT
DTSTART;TZID=America/Denver:20240826T180000
DTEND;TZID=America/Denver:20240826T190000
DTSTAMP:20260419T145448
CREATED:20231027T173123Z
LAST-MODIFIED:20240824T000854Z
UID:6770-1724695200-1724698800@www.olmcfssp.org
SUMMARY:Legion of Mary Meeting
DESCRIPTION:The legion exists to be a sign of Mary’s maternal love for the world and a means of enlisting all her children in the Church’s evangelizing work. It is at the disposal of the parish priest for any form of service deemed useful for the welfare of the Church.
URL:https://www.olmcfssp.org/calendar/legion-of-mary-meeting-160/
END:VEVENT
BEGIN:VEVENT
DTSTART;TZID=America/Denver:20240827T093000
DTEND;TZID=America/Denver:20240827T110000
DTSTAMP:20260419T145448
CREATED:20231027T173356Z
LAST-MODIFIED:20231027T173356Z
UID:7028-1724751000-1724756400@www.olmcfssp.org
SUMMARY:Tuesday Morning Book Club
DESCRIPTION:The Tuesday morning book club meets to read and discuss a selected book that assists with spiritual growth and knowledge of our wonderful Catholic faith. All members of the parish are welcome to drop by and check us out.
URL:https://www.olmcfssp.org/calendar/tuesday-morning-book-club-82/
END:VEVENT
BEGIN:VEVENT
DTSTART;TZID=America/Denver:20240827T170000
DTEND;TZID=America/Denver:20240827T180000
DTSTAMP:20260419T145448
CREATED:20231027T172445Z
LAST-MODIFIED:20240823T222330Z
UID:6266-1724778000-1724781600@www.olmcfssp.org
SUMMARY:Shepherds of Christ Prayer Group
DESCRIPTION:
URL:https://www.olmcfssp.org/calendar/shepherds-of-christ-prayer-group-82/
END:VEVENT
BEGIN:VEVENT
DTSTART;TZID=America/Denver:20240828T180000
DTEND;TZID=America/Denver:20240828T210000
DTSTAMP:20260419T145448
CREATED:20231027T173123Z
LAST-MODIFIED:20240824T000854Z
UID:6771-1724868000-1724878800@www.olmcfssp.org
SUMMARY:Hibernia Music Group
DESCRIPTION:An OLMC acoustic music group. We play traditional Irish\, Folk and Americana music. All are welcome to join us\, beginner or advanced\, Instrumentalist or Vocalist. Our goal is to sharpen our skills\, increase our musical knowledge\, have good Catholic fellowship\, and share our music.
URL:https://www.olmcfssp.org/calendar/hibernia-music-group-35/
END:VEVENT
BEGIN:VEVENT
DTSTART;TZID=America/Denver:20240828T190000
DTEND;TZID=America/Denver:20240828T203000
DTSTAMP:20260419T145448
CREATED:20231027T173630Z
LAST-MODIFIED:20231215T203833Z
UID:7166-1724871600-1724877000@www.olmcfssp.org
SUMMARY:Choir Practice
DESCRIPTION:
URL:https://www.olmcfssp.org/calendar/choir-practice-80/
END:VEVENT
BEGIN:VEVENT
DTSTART;TZID=America/Denver:20240829T093000
DTEND;TZID=America/Denver:20240829T103000
DTSTAMP:20260419T145448
CREATED:20231027T173123Z
LAST-MODIFIED:20240824T000854Z
UID:6772-1724923800-1724927400@www.olmcfssp.org
SUMMARY:Legion of Mary Meeting
DESCRIPTION:The legion exists to be a sign of Mary’s maternal love for the world and a means of enlisting all her children in the Church’s evangelizing work. It is at the disposal of the parish priest for any form of service deemed useful for the welfare of the Church.
URL:https://www.olmcfssp.org/calendar/legion-of-mary-meeting-161/
END:VEVENT
BEGIN:VEVENT
DTSTART;TZID=America/Denver:20240901T140000
DTEND;TZID=America/Denver:20240901T170000
DTSTAMP:20260419T145448
CREATED:20231027T173123Z
LAST-MODIFIED:20240831T002440Z
UID:6773-1725199200-1725210000@www.olmcfssp.org
SUMMARY:Laeta Vita
DESCRIPTION:Leata Vita (Joyful Life) is a group for single women ages 18-35. The purpose of our group is to meet and grow in fellowship with other women who are in a similar season of life. We meet two times a month. The first meeting of the month consists of discussing a book as part of our book club and socializing with each other. The second meeting of the month consists of a fun outing or activity (and every now and then something charitable for the parish or some other organization)\, meant to give the members a chance to get out and have some fun.
URL:https://www.olmcfssp.org/calendar/laeta-vita-28/
END:VEVENT
BEGIN:VEVENT
DTSTART;TZID=America/Denver:20240901T170000
DTEND;TZID=America/Denver:20240901T180000
DTSTAMP:20260419T145448
CREATED:20231027T172445Z
LAST-MODIFIED:20240830T222327Z
UID:6267-1725210000-1725213600@www.olmcfssp.org
SUMMARY:Sung Vespers
DESCRIPTION:
URL:https://www.olmcfssp.org/calendar/sung-vespers-69/
END:VEVENT
BEGIN:VEVENT
DTSTART;TZID=America/Denver:20240902T180000
DTEND;TZID=America/Denver:20240902T190000
DTSTAMP:20260419T145448
CREATED:20231027T173123Z
LAST-MODIFIED:20240831T002440Z
UID:6774-1725300000-1725303600@www.olmcfssp.org
SUMMARY:Legion of Mary Meeting
DESCRIPTION:The legion exists to be a sign of Mary’s maternal love for the world and a means of enlisting all her children in the Church’s evangelizing work. It is at the disposal of the parish priest for any form of service deemed useful for the welfare of the Church.
URL:https://www.olmcfssp.org/calendar/legion-of-mary-meeting-162/
END:VEVENT
BEGIN:VEVENT
DTSTART;TZID=America/Denver:20240903T093000
DTEND;TZID=America/Denver:20240903T110000
DTSTAMP:20260419T145448
CREATED:20231027T173356Z
LAST-MODIFIED:20231027T173356Z
UID:7029-1725355800-1725361200@www.olmcfssp.org
SUMMARY:Tuesday Morning Book Club
DESCRIPTION:The Tuesday morning book club meets to read and discuss a selected book that assists with spiritual growth and knowledge of our wonderful Catholic faith. All members of the parish are welcome to drop by and check us out.
URL:https://www.olmcfssp.org/calendar/tuesday-morning-book-club-83/
END:VEVENT
BEGIN:VEVENT
DTSTART;TZID=America/Denver:20240903T170000
DTEND;TZID=America/Denver:20240903T180000
DTSTAMP:20260419T145448
CREATED:20231027T172445Z
LAST-MODIFIED:20240830T222327Z
UID:6268-1725382800-1725386400@www.olmcfssp.org
SUMMARY:Shepherds of Christ Prayer Group
DESCRIPTION:
URL:https://www.olmcfssp.org/calendar/shepherds-of-christ-prayer-group-83/
END:VEVENT
BEGIN:VEVENT
DTSTART;TZID=America/Denver:20240904T183000
DTEND;TZID=America/Denver:20240904T203000
DTSTAMP:20260419T145448
CREATED:20231027T174344Z
LAST-MODIFIED:20240830T225336Z
UID:7286-1725474600-1725481800@www.olmcfssp.org
SUMMARY:Safety Team Meeting
DESCRIPTION:The purpose of the OLMC Safety Team is to provide a safe and secure environment for all parishioners and visitors. Primarily\, this is accomplished by the observation of people\, places and events and your assessment of situations and then to follow through with appropriate action.
URL:https://www.olmcfssp.org/calendar/safety-team-meeting-19/
END:VEVENT
END:VCALENDAR