BEGIN:VCALENDAR
VERSION:2.0
PRODID:-//Our Lady of Mt. Carmel - ECPv6.15.20//NONSGML v1.0//EN
CALSCALE:GREGORIAN
METHOD:PUBLISH
X-WR-CALNAME:Our Lady of Mt. Carmel
X-ORIGINAL-URL:https://www.olmcfssp.org
X-WR-CALDESC:Events for Our Lady of Mt. Carmel
REFRESH-INTERVAL;VALUE=DURATION:PT1H
X-Robots-Tag:noindex
X-PUBLISHED-TTL:PT1H
BEGIN:VTIMEZONE
TZID:America/Denver
BEGIN:DAYLIGHT
TZOFFSETFROM:-0700
TZOFFSETTO:-0600
TZNAME:MDT
DTSTART:20220313T090000
END:DAYLIGHT
BEGIN:STANDARD
TZOFFSETFROM:-0600
TZOFFSETTO:-0700
TZNAME:MST
DTSTART:20221106T080000
END:STANDARD
BEGIN:DAYLIGHT
TZOFFSETFROM:-0700
TZOFFSETTO:-0600
TZNAME:MDT
DTSTART:20230312T090000
END:DAYLIGHT
BEGIN:STANDARD
TZOFFSETFROM:-0600
TZOFFSETTO:-0700
TZNAME:MST
DTSTART:20231105T080000
END:STANDARD
BEGIN:DAYLIGHT
TZOFFSETFROM:-0700
TZOFFSETTO:-0600
TZNAME:MDT
DTSTART:20240310T090000
END:DAYLIGHT
BEGIN:STANDARD
TZOFFSETFROM:-0600
TZOFFSETTO:-0700
TZNAME:MST
DTSTART:20241103T080000
END:STANDARD
END:VTIMEZONE
BEGIN:VTIMEZONE
TZID:UTC
BEGIN:STANDARD
TZOFFSETFROM:+0000
TZOFFSETTO:+0000
TZNAME:UTC
DTSTART:20220101T000000
END:STANDARD
END:VTIMEZONE
BEGIN:VEVENT
DTSTART;TZID=America/Denver:20230319T123000
DTEND;TZID=America/Denver:20230319T140000
DTSTAMP:20260420T144250
CREATED:20230224T203612Z
LAST-MODIFIED:20230302T222718Z
UID:4407-1679229000-1679234400@www.olmcfssp.org
SUMMARY:Creation Study Group Meeting
DESCRIPTION:The Failure of Big Bang Cosmology.  Foundations Restored: Episode 8.\n\n  \nAll are welcome to attend and contribute their experience and expertise.
URL:https://www.olmcfssp.org/calendar/creation-study-group-meeting/
LOCATION:St. John of the Cross Conference Room
END:VEVENT
BEGIN:VEVENT
DTSTART;TZID=America/Denver:20230319T073000
DTEND;TZID=America/Denver:20230319T143000
DTSTAMP:20260420T144250
CREATED:20230224T194006Z
LAST-MODIFIED:20230224T222926Z
UID:4318-1679211000-1679236200@www.olmcfssp.org
SUMMARY:Coffee and Donuts Hosted by the ARS
DESCRIPTION:Please stop by the parish hall to celebrate St. Joseph’s feast day with delicious desserts and drinks!
URL:https://www.olmcfssp.org/calendar/coffee-and-donuts-hosted-by-the-ars/
LOCATION:Parish Hall
END:VEVENT
BEGIN:VEVENT
DTSTART;TZID=America/Denver:20230318T093000
DTEND;TZID=America/Denver:20230318T120000
DTSTAMP:20260420T144250
CREATED:20230224T195927Z
LAST-MODIFIED:20230224T222840Z
UID:4391-1679131800-1679140800@www.olmcfssp.org
SUMMARY:Altar & Rosary Society Meeting
DESCRIPTION:The Altar and Rosary Society is an organization of women who foster and spread devotion to the Holy Rosary\, maintain the cleanliness of the church sanctuary\, wash and iron altar linens\, and arrange flowers for the altar.
URL:https://www.olmcfssp.org/calendar/altar-rosary-society-meeting/
LOCATION:St. Albert of Jerusalem Basement Room
END:VEVENT
BEGIN:VEVENT
DTSTART;TZID=America/Denver:20230317T180000
DTEND;TZID=America/Denver:20230317T184500
DTSTAMP:20260420T144250
CREATED:20230224T195306Z
LAST-MODIFIED:20230224T222801Z
UID:4366-1679076000-1679078700@www.olmcfssp.org
SUMMARY:Stations of the Cross
DESCRIPTION:
URL:https://www.olmcfssp.org/calendar/stations-of-the-cross-4/
LOCATION:Church
END:VEVENT
BEGIN:VEVENT
DTSTART;TZID=America/Denver:20230317T164500
DTEND;TZID=America/Denver:20230317T180000
DTSTAMP:20260420T144250
CREATED:20230224T194006Z
LAST-MODIFIED:20230224T222747Z
UID:4317-1679071500-1679076000@www.olmcfssp.org
SUMMARY:Meatless Soup Potluck
DESCRIPTION:All are welcome to attend this communal meal and please bring a soup to share!
URL:https://www.olmcfssp.org/calendar/meatless-soup-potluck-4/
LOCATION:Parish Hall
END:VEVENT
BEGIN:VEVENT
DTSTART;TZID=America/Denver:20230316T190000
DTEND;TZID=America/Denver:20230316T203000
DTSTAMP:20260420T144250
CREATED:20230224T195906Z
LAST-MODIFIED:20230224T222706Z
UID:4387-1678993200-1678998600@www.olmcfssp.org
SUMMARY:God Within Class by In Ipso
DESCRIPTION:12-week course on authentic Catholic spirituality to help you grow in prayer. Tuition is $240\, and scholarships are available. Family members enjoy 50% discount on the second enrollee. Learn more at www.in-ipso.org or contact andrea@in-ipso.org / 720-203-4499. Register by Feb 15.
URL:https://www.olmcfssp.org/calendar/god-within-class-by-in-ipso-3/
LOCATION:St. Albert of Jerusalem Basement Room
END:VEVENT
BEGIN:VEVENT
DTSTART;TZID=America/Denver:20230315T190000
DTEND;TZID=America/Denver:20230315T203000
DTSTAMP:20260420T144250
CREATED:20230224T203841Z
LAST-MODIFIED:20230224T222649Z
UID:4419-1678906800-1678912200@www.olmcfssp.org
SUMMARY:Choir Practice
DESCRIPTION:
URL:https://www.olmcfssp.org/calendar/choir-practice-3/
LOCATION:St. Peter Thomas Basement Room
END:VEVENT
BEGIN:VEVENT
DTSTART;TZID=America/Denver:20230315T180000
DTEND;TZID=America/Denver:20230315T210000
DTSTAMP:20260420T144250
CREATED:20230224T194005Z
LAST-MODIFIED:20230224T222638Z
UID:4311-1678903200-1678914000@www.olmcfssp.org
SUMMARY:St. John Bosco Youth Group
DESCRIPTION:St. John Bosco Youth Group is intended for teenagers ages 14-18 who are looking to form community and grow their Faith with others their age. Our typical youth nights include praying the Rosary\, a talk\, and lots of fun games!
URL:https://www.olmcfssp.org/calendar/st-john-bosco-youth-group-10/
LOCATION:Parish Hall
END:VEVENT
BEGIN:VEVENT
DTSTART;TZID=America/Denver:20230315T093000
DTEND;TZID=America/Denver:20230315T110000
DTSTAMP:20260420T144250
CREATED:20230224T204157Z
LAST-MODIFIED:20230224T222507Z
UID:4436-1678872600-1678878000@www.olmcfssp.org
SUMMARY:Legion of Mary Meeting
DESCRIPTION:The legion exists to be a sign of Mary’s maternal love for the world and a means of enlisting all her children in the Church’s evangelizing work. It is at the disposal of the parish priest for any form of service deemed useful for the welfare of the Church.
URL:https://www.olmcfssp.org/calendar/legion-of-mary-meeting-5/
LOCATION:St. Teresa of Avila Basement Room
END:VEVENT
BEGIN:VEVENT
DTSTART;TZID=America/Denver:20230314T170000
DTEND;TZID=America/Denver:20230314T180000
DTSTAMP:20260420T144250
CREATED:20230224T195306Z
LAST-MODIFIED:20230224T222436Z
UID:4365-1678813200-1678816800@www.olmcfssp.org
SUMMARY:Shepherds of Christ Prayer Group
DESCRIPTION:
URL:https://www.olmcfssp.org/calendar/shepherds-of-christ-prayer-group-2/
LOCATION:Church
END:VEVENT
BEGIN:VEVENT
DTSTART;TZID=America/Denver:20230314T093000
DTEND;TZID=America/Denver:20230314T110000
DTSTAMP:20260420T144250
CREATED:20230224T203612Z
LAST-MODIFIED:20230224T222425Z
UID:4406-1678786200-1678791600@www.olmcfssp.org
SUMMARY:Tuesday Morning Book Club
DESCRIPTION:The Tuesday morning book club meets to read and discuss a selected book that assists with spiritual growth and knowledge of our wonderful Catholic faith. All members of the parish are welcome to drop by and check us out.
URL:https://www.olmcfssp.org/calendar/tuesday-morning-book-club-2/
LOCATION:St. John of the Cross Conference Room
END:VEVENT
BEGIN:VEVENT
DTSTART;TZID=America/Denver:20230314T093000
DTEND;TZID=America/Denver:20230314T103000
DTSTAMP:20260420T144250
CREATED:20230224T195305Z
LAST-MODIFIED:20230224T222221Z
UID:4354-1678786200-1678789800@www.olmcfssp.org
SUMMARY:Holy Face Devotion Group
DESCRIPTION:His Holy Face Ministry’s mission is to bring the Face of God back into the world to breathe life into souls by making reparation for the sins committed against the majesty of God and the Catholic Church. Join us as a community in making public reparation before a 2nd class relic image of the Veil of St. Veronica on the second Tuesday or third Saturday of each month after the 8:30 AM mass. We also offer presentations on the Holy Face Devotion\, a Home Enthronement Program with the image\, and a Parish Enthronement Program to share with a wider audience.
URL:https://www.olmcfssp.org/calendar/holy-face-devotion-group/
LOCATION:Church
END:VEVENT
BEGIN:VEVENT
DTSTART;TZID=America/Denver:20230313T180000
DTEND;TZID=America/Denver:20230313T190000
DTSTAMP:20260420T144250
CREATED:20230224T204157Z
LAST-MODIFIED:20230224T222203Z
UID:4435-1678730400-1678734000@www.olmcfssp.org
SUMMARY:Legion of Mary Meeting
DESCRIPTION:The legion exists to be a sign of Mary’s maternal love for the world and a means of enlisting all her children in the Church’s evangelizing work. It is at the disposal of the parish priest for any form of service deemed useful for the welfare of the Church.
URL:https://www.olmcfssp.org/calendar/legion-of-mary-meeting-4/
LOCATION:St. Teresa of Avila Basement Room
END:VEVENT
BEGIN:VEVENT
DTSTART;TZID=America/Denver:20230312T170000
DTEND;TZID=America/Denver:20230312T180000
DTSTAMP:20260420T144250
CREATED:20230224T195305Z
LAST-MODIFIED:20230224T222147Z
UID:4353-1678640400-1678644000@www.olmcfssp.org
SUMMARY:Vespers
DESCRIPTION:
URL:https://www.olmcfssp.org/calendar/vespers-3/
LOCATION:Church
END:VEVENT
BEGIN:VEVENT
DTSTART;TZID=America/Denver:20230312T123000
DTEND;TZID=America/Denver:20230312T140000
DTSTAMP:20260420T144250
CREATED:20230224T204156Z
LAST-MODIFIED:20230224T222131Z
UID:4434-1678624200-1678629600@www.olmcfssp.org
SUMMARY:Knights of Columbus Meeting
DESCRIPTION:As faithful Catholics\, we are called to be salt and light in this material world. As traditional Catholics within the Church Universal\, we are sometimes called\, in charity\, to bring more illumination and flavor to our fellow Catholics. Let us join with him in spreading the message within the Knights of Columbus.
URL:https://www.olmcfssp.org/calendar/knights-of-columbus-meeting/
LOCATION:St. Teresa of Avila Basement Room
END:VEVENT
BEGIN:VEVENT
DTSTART;TZID=America/Denver:20230311T140000
DTEND;TZID=America/Denver:20230311T160000
DTSTAMP:20260420T144250
CREATED:20230224T194957Z
LAST-MODIFIED:20230224T225852Z
UID:4336-1678543200-1678550400@www.olmcfssp.org
SUMMARY:Yogurt and Kefir Making Class with Ann Walsh
DESCRIPTION:Learn how easy it is to make your own yogurt and milk kefir! So easy and more economical than store bought! No supplies needed.
URL:https://www.olmcfssp.org/calendar/yogurt-and-kefir-making-class-with-ann-walsh/
LOCATION:Parish Hall
END:VEVENT
BEGIN:VEVENT
DTSTART;TZID=America/Denver:20230311T130000
DTEND;TZID=America/Denver:20230311T160000
DTSTAMP:20260420T144250
CREATED:20230224T200247Z
LAST-MODIFIED:20230224T225339Z
UID:4395-1678539600-1678550400@www.olmcfssp.org
SUMMARY:Hibernia Music Group
DESCRIPTION:Acoustic music group at OLMC. We play traditional Irish\, Folk and Americana music\, and simply jam sometimes. All are welcome to join us whether you are a beginner or advanced\, Instrumentalist or Vocalist. Our goal is to sharpen our skills by playing together\, increase our musical knowledge by learning from each other\, have good Catholic fellowship\, and share our music when opportunities arise. Come and play with us!  Contact Solomon Carrico at 720.288.9158 or solomoncarrico@protonmail.com
URL:https://www.olmcfssp.org/calendar/hibernia-music-group-2/
LOCATION:St. Elijah Basement Room
END:VEVENT
BEGIN:VEVENT
DTSTART;TZID=America/Denver:20230311T093000
DTEND;TZID=America/Denver:20230311T113000
DTSTAMP:20260420T144250
CREATED:20230224T195906Z
LAST-MODIFIED:20230224T222006Z
UID:4386-1678527000-1678534200@www.olmcfssp.org
SUMMARY:Holy Name Society Meeting
DESCRIPTION:The Holy Name Society is an organization of men striving to grow in holiness. The group is open to all men of the parish over the age of 18. Meetings include Mass\, the recitation of the Holy Rosary\, breakfast and a spiritual talk.
URL:https://www.olmcfssp.org/calendar/holy-name-society-meeting/
LOCATION:St. Albert of Jerusalem Basement Room
END:VEVENT
BEGIN:VEVENT
DTSTART;TZID=America/Denver:20230311T093000
DTEND;TZID=America/Denver:20230311T110000
DTSTAMP:20260420T144250
CREATED:20230224T204156Z
LAST-MODIFIED:20230224T230032Z
UID:4433-1678527000-1678532400@www.olmcfssp.org
SUMMARY:St. Therese Book Club
DESCRIPTION:A study of the life of St. Therese of the Child Jesus and Holy Face using her writings and other authors. As a group we read the selected book and discuss as we read. We have learned much of Therese’s life and spirituality. All are welcome to join us.  At present we are reading ‘A Call To a Deeper Love” which is a compilation of the writings of the family correspondence of the parents of St. Therese of the Child Jesus
URL:https://www.olmcfssp.org/calendar/st-therese-book-club/
LOCATION:St. Teresa of Avila Basement Room
END:VEVENT
BEGIN:VEVENT
DTSTART;TZID=America/Denver:20230310T180000
DTEND;TZID=America/Denver:20230310T184500
DTSTAMP:20260420T144250
CREATED:20230224T195305Z
LAST-MODIFIED:20230224T221514Z
UID:4352-1678471200-1678473900@www.olmcfssp.org
SUMMARY:Stations of the Cross
DESCRIPTION:
URL:https://www.olmcfssp.org/calendar/stations-of-the-cross-3/
LOCATION:Church
END:VEVENT
BEGIN:VEVENT
DTSTART;TZID=America/Denver:20230310T164500
DTEND;TZID=America/Denver:20230310T180000
DTSTAMP:20260420T144250
CREATED:20230224T194004Z
LAST-MODIFIED:20230224T221445Z
UID:4309-1678466700-1678471200@www.olmcfssp.org
SUMMARY:Meatless Soup Potluck
DESCRIPTION:All are welcome to attend this communal meal and please bring a soup to share!
URL:https://www.olmcfssp.org/calendar/meatless-soup-potluck-3/
LOCATION:Parish Hall
END:VEVENT
BEGIN:VEVENT
DTSTART;TZID=UTC:20230309T190000
DTEND;TZID=UTC:20230309T203000
DTSTAMP:20260420T144250
CREATED:20230224T195906Z
LAST-MODIFIED:20230224T220635Z
UID:4385-1678388400-1678393800@www.olmcfssp.org
SUMMARY:God Within Class by In Ipso
DESCRIPTION:12-week course on authentic Catholic spirituality to help you grow in prayer. Tuition is $240\, and scholarships are available. Family members enjoy 50% discount on the second enrollee. Learn more at www.in-ipso.org or contact andrea@in-ipso.org / 720-203-4499. Register by Feb 15.
URL:https://www.olmcfssp.org/calendar/god-within-class-by-in-ipso-2/
LOCATION:St. Albert of Jerusalem Basement Room
END:VEVENT
BEGIN:VEVENT
DTSTART;TZID=America/Denver:20230309T174500
DTEND;TZID=America/Denver:20230309T190000
DTSTAMP:20260420T144250
CREATED:20230224T194748Z
LAST-MODIFIED:20230224T220613Z
UID:4329-1678383900-1678388400@www.olmcfssp.org
SUMMARY:Eternal Rest: The Art of Dying Well Class by Fr. Krager
DESCRIPTION:We will discuss the origin of death\, the afterlife\, and the beaty of the sacraments that usher us into eternal life. Open to all parishioners.
URL:https://www.olmcfssp.org/calendar/eternal-rest-the-art-of-dying-well-class-by-fr-krager-2/
LOCATION:Parish Hall
END:VEVENT
BEGIN:VEVENT
DTSTART;TZID=America/Denver:20230308T190000
DTEND;TZID=America/Denver:20230308T203000
DTSTAMP:20260420T144250
CREATED:20230224T203840Z
LAST-MODIFIED:20230224T220557Z
UID:4418-1678302000-1678307400@www.olmcfssp.org
SUMMARY:Choir Practice
DESCRIPTION:
URL:https://www.olmcfssp.org/calendar/choir-practice-2/
LOCATION:St. Peter Thomas Basement Room
END:VEVENT
BEGIN:VEVENT
DTSTART;TZID=America/Denver:20230308T093000
DTEND;TZID=America/Denver:20230308T110000
DTSTAMP:20260420T144250
CREATED:20230224T204156Z
LAST-MODIFIED:20230224T220542Z
UID:4432-1678267800-1678273200@www.olmcfssp.org
SUMMARY:Legion of Mary Meeting
DESCRIPTION:The legion exists to be a sign of Mary’s maternal love for the world and a means of enlisting all her children in the Church’s evangelizing work. It is at the disposal of the parish priest for any form of service deemed useful for the welfare of the Church.
URL:https://www.olmcfssp.org/calendar/legion-of-mary-meeting-3/
LOCATION:St. Teresa of Avila Basement Room
END:VEVENT
BEGIN:VEVENT
DTSTART;TZID=America/Denver:20230307T170000
DTEND;TZID=America/Denver:20230307T180000
DTSTAMP:20260420T144250
CREATED:20230224T195305Z
LAST-MODIFIED:20230224T220508Z
UID:4351-1678208400-1678212000@www.olmcfssp.org
SUMMARY:Shepherds of Christ Prayer Group
DESCRIPTION:
URL:https://www.olmcfssp.org/calendar/shepherds-of-christ-prayer-group/
LOCATION:Church
END:VEVENT
BEGIN:VEVENT
DTSTART;TZID=America/Denver:20230307T093000
DTEND;TZID=America/Denver:20230307T110000
DTSTAMP:20260420T144250
CREATED:20230224T203612Z
LAST-MODIFIED:20230224T220456Z
UID:4405-1678181400-1678186800@www.olmcfssp.org
SUMMARY:Tuesday Morning Book Club
DESCRIPTION:The Tuesday morning book club meets to read and discuss a selected book that assists with spiritual growth and knowledge of our wonderful Catholic faith. All members of the parish are welcome to drop by and check us out.
URL:https://www.olmcfssp.org/calendar/tuesday-morning-book-club/
LOCATION:St. John of the Cross Conference Room
END:VEVENT
BEGIN:VEVENT
DTSTART;TZID=America/Denver:20230307T083000
DTEND;TZID=America/Denver:20230307T093000
DTSTAMP:20260420T144250
CREATED:20230224T195305Z
LAST-MODIFIED:20230224T213826Z
UID:4350-1678177800-1678181400@www.olmcfssp.org
SUMMARY:High Mass\, St. Thomas Aquinas
DESCRIPTION:
URL:https://www.olmcfssp.org/calendar/high-mass-st-thomas-aquinas/
LOCATION:Church
END:VEVENT
BEGIN:VEVENT
DTSTART;TZID=America/Denver:20230306T180000
DTEND;TZID=America/Denver:20230306T190000
DTSTAMP:20260420T144250
CREATED:20230224T204156Z
LAST-MODIFIED:20230224T213545Z
UID:4431-1678125600-1678129200@www.olmcfssp.org
SUMMARY:Legion of Mary Meeting
DESCRIPTION:The legion exists to be a sign of Mary’s maternal love for the world and a means of enlisting all her children in the Church’s evangelizing work. It is at the disposal of the parish priest for any form of service deemed useful for the welfare of the Church.
URL:https://www.olmcfssp.org/calendar/legion-of-mary-meeting-2/
LOCATION:St. Teresa of Avila Basement Room
END:VEVENT
BEGIN:VEVENT
DTSTART;TZID=America/Denver:20230305T173000
DTEND;TZID=America/Denver:20230305T183000
DTSTAMP:20260420T144250
CREATED:20230224T195305Z
LAST-MODIFIED:20230302T222327Z
UID:4349-1678037400-1678041000@www.olmcfssp.org
SUMMARY:Vespers
DESCRIPTION:
URL:https://www.olmcfssp.org/calendar/vespers-2/
LOCATION:Church
END:VEVENT
END:VCALENDAR