BEGIN:VCALENDAR
VERSION:2.0
PRODID:-//Our Lady of Mt. Carmel - ECPv6.15.20//NONSGML v1.0//EN
CALSCALE:GREGORIAN
METHOD:PUBLISH
X-ORIGINAL-URL:https://www.olmcfssp.org
X-WR-CALDESC:Events for Our Lady of Mt. Carmel
REFRESH-INTERVAL;VALUE=DURATION:PT1H
X-Robots-Tag:noindex
X-PUBLISHED-TTL:PT1H
BEGIN:VTIMEZONE
TZID:America/Denver
BEGIN:DAYLIGHT
TZOFFSETFROM:-0700
TZOFFSETTO:-0600
TZNAME:MDT
DTSTART:20230312T090000
END:DAYLIGHT
BEGIN:STANDARD
TZOFFSETFROM:-0600
TZOFFSETTO:-0700
TZNAME:MST
DTSTART:20231105T080000
END:STANDARD
BEGIN:DAYLIGHT
TZOFFSETFROM:-0700
TZOFFSETTO:-0600
TZNAME:MDT
DTSTART:20240310T090000
END:DAYLIGHT
BEGIN:STANDARD
TZOFFSETFROM:-0600
TZOFFSETTO:-0700
TZNAME:MST
DTSTART:20241103T080000
END:STANDARD
BEGIN:DAYLIGHT
TZOFFSETFROM:-0700
TZOFFSETTO:-0600
TZNAME:MDT
DTSTART:20250309T090000
END:DAYLIGHT
BEGIN:STANDARD
TZOFFSETFROM:-0600
TZOFFSETTO:-0700
TZNAME:MST
DTSTART:20251102T080000
END:STANDARD
END:VTIMEZONE
BEGIN:VTIMEZONE
TZID:America/Chicago
BEGIN:DAYLIGHT
TZOFFSETFROM:-0600
TZOFFSETTO:-0500
TZNAME:CDT
DTSTART:20230312T080000
END:DAYLIGHT
BEGIN:STANDARD
TZOFFSETFROM:-0500
TZOFFSETTO:-0600
TZNAME:CST
DTSTART:20231105T070000
END:STANDARD
BEGIN:DAYLIGHT
TZOFFSETFROM:-0600
TZOFFSETTO:-0500
TZNAME:CDT
DTSTART:20240310T080000
END:DAYLIGHT
BEGIN:STANDARD
TZOFFSETFROM:-0500
TZOFFSETTO:-0600
TZNAME:CST
DTSTART:20241103T070000
END:STANDARD
BEGIN:DAYLIGHT
TZOFFSETFROM:-0600
TZOFFSETTO:-0500
TZNAME:CDT
DTSTART:20250309T080000
END:DAYLIGHT
BEGIN:STANDARD
TZOFFSETFROM:-0500
TZOFFSETTO:-0600
TZNAME:CST
DTSTART:20251102T070000
END:STANDARD
END:VTIMEZONE
BEGIN:VEVENT
DTSTART;TZID=America/Denver:20240914T093000
DTEND;TZID=America/Denver:20240914T113000
DTSTAMP:20260419T175606
CREATED:20231027T172912Z
LAST-MODIFIED:20240914T002421Z
UID:6547-1726306200-1726313400@www.olmcfssp.org
SUMMARY:Holy Name Society Meeting
DESCRIPTION:The Holy Name Society is an organization of men striving to grow in holiness. The group is open to all men of the parish over the age of 18. Meetings include Mass\, the recitation of the Holy Rosary\, breakfast and a spiritual talk.
URL:https://www.olmcfssp.org/calendar/holy-name-society-meeting-17/
END:VEVENT
BEGIN:VEVENT
DTSTART;TZID=America/Denver:20240914T093000
DTEND;TZID=America/Denver:20240914T130000
DTSTAMP:20260419T175606
CREATED:20231027T174344Z
LAST-MODIFIED:20240913T230830Z
UID:7287-1726306200-1726318800@www.olmcfssp.org
SUMMARY:St. Teresa of Jesus Association
DESCRIPTION:A formation in the spirituality of St. Teresa of Jesus within a Study Group composed of men and women over the age of 25 years. This formation includes daily Mass\, Lectio Divina\, Divine Office and the living a life of apostolic endeavors: ministering to our families and the world.  The members endeavor to give glory to God\, to honor our Blessed Lady of Carmel and to aid our Holy Mother the Church by their prayers.
URL:https://www.olmcfssp.org/calendar/st-teresa-of-jesus-association-18/
END:VEVENT
BEGIN:VEVENT
DTSTART;TZID=America/Denver:20240914T130000
DTEND;TZID=America/Denver:20240914T160000
DTSTAMP:20260419T175606
CREATED:20231027T173124Z
LAST-MODIFIED:20240914T002426Z
UID:6779-1726318800-1726329600@www.olmcfssp.org
SUMMARY:Hibernia Music Group
DESCRIPTION:An OLMC acoustic music group. We play traditional Irish\, Folk and Americana music. All are welcome to join us\, beginner or advanced\, Instrumentalist or Vocalist. Our goal is to sharpen our skills\, increase our musical knowledge\, have good Catholic fellowship\, and share our music.
URL:https://www.olmcfssp.org/calendar/hibernia-music-group-36/
END:VEVENT
BEGIN:VEVENT
DTSTART;TZID=America/Denver:20240915T123000
DTEND;TZID=America/Denver:20240915T140000
DTSTAMP:20260419T175606
CREATED:20231027T173356Z
LAST-MODIFIED:20240913T232329Z
UID:7031-1726403400-1726408800@www.olmcfssp.org
SUMMARY:Creation Study Group
DESCRIPTION:This group is dedicated to studying the traditional Catholic teaching on creation and Genesis as believed and taught by the Doctors\, Fathers\, Councils and Popes for two thousand years. We explore various aspects of the creation/evolutionism debate and the effects of evolutionary thought on culture\, science and the Church. As Pope St Pius X said about Modernism\, that it is the “synthesis of all heresies.” And “the chief of their doctrines\, that of evolution.” \nAll are welcome to attend and contribute their experience and expertise.
URL:https://www.olmcfssp.org/calendar/creation-study-group-11/
END:VEVENT
BEGIN:VEVENT
DTSTART;TZID=America/Denver:20240915T140000
DTEND;TZID=America/Denver:20240915T170000
DTSTAMP:20260419T175606
CREATED:20231027T173125Z
LAST-MODIFIED:20240914T002426Z
UID:6789-1726408800-1726419600@www.olmcfssp.org
SUMMARY:Laeta Vita
DESCRIPTION:Leata Vita (Joyful Life) is a group for single women ages 18-35. The purpose of our group is to meet and grow in fellowship with other women who are in a similar season of life. We meet two times a month. The first meeting of the month consists of discussing a book as part of our book club and socializing with each other. The second meeting of the month consists of a fun outing or activity (and every now and then something charitable for the parish or some other organization)\, meant to give the members a chance to get out and have some fun.
URL:https://www.olmcfssp.org/calendar/laeta-vita-29/
END:VEVENT
BEGIN:VEVENT
DTSTART;TZID=America/Denver:20240915T170000
DTEND;TZID=America/Denver:20240915T180000
DTSTAMP:20260419T175606
CREATED:20231027T172447Z
LAST-MODIFIED:20240913T222337Z
UID:6272-1726419600-1726423200@www.olmcfssp.org
SUMMARY:Sung Vespers
DESCRIPTION:
URL:https://www.olmcfssp.org/calendar/sung-vespers-71/
END:VEVENT
BEGIN:VEVENT
DTSTART;TZID=America/Denver:20240916T180000
DTEND;TZID=America/Denver:20240916T190000
DTSTAMP:20260419T175606
CREATED:20231027T173125Z
LAST-MODIFIED:20240914T002426Z
UID:6791-1726509600-1726513200@www.olmcfssp.org
SUMMARY:Legion of Mary Meeting
DESCRIPTION:The legion exists to be a sign of Mary’s maternal love for the world and a means of enlisting all her children in the Church’s evangelizing work. It is at the disposal of the parish priest for any form of service deemed useful for the welfare of the Church.
URL:https://www.olmcfssp.org/calendar/legion-of-mary-meeting-166/
END:VEVENT
BEGIN:VEVENT
DTSTART;TZID=America/Denver:20240917T093000
DTEND;TZID=America/Denver:20240917T110000
DTSTAMP:20260419T175606
CREATED:20231027T173357Z
LAST-MODIFIED:20231027T173357Z
UID:7032-1726565400-1726570800@www.olmcfssp.org
SUMMARY:Tuesday Morning Book Club
DESCRIPTION:The Tuesday morning book club meets to read and discuss a selected book that assists with spiritual growth and knowledge of our wonderful Catholic faith. All members of the parish are welcome to drop by and check us out.
URL:https://www.olmcfssp.org/calendar/tuesday-morning-book-club-85/
END:VEVENT
BEGIN:VEVENT
DTSTART;TZID=America/Denver:20240917T170000
DTEND;TZID=America/Denver:20240917T180000
DTSTAMP:20260419T175606
CREATED:20231027T172447Z
LAST-MODIFIED:20240913T222337Z
UID:6273-1726592400-1726596000@www.olmcfssp.org
SUMMARY:Shepherds of Christ Prayer Group
DESCRIPTION:
URL:https://www.olmcfssp.org/calendar/shepherds-of-christ-prayer-group-85/
END:VEVENT
BEGIN:VEVENT
DTSTART;TZID=America/Denver:20240918T190000
DTEND;TZID=America/Denver:20240918T203000
DTSTAMP:20260419T175606
CREATED:20231027T173630Z
LAST-MODIFIED:20240914T000930Z
UID:7169-1726686000-1726691400@www.olmcfssp.org
SUMMARY:Choir Practice
DESCRIPTION:
URL:https://www.olmcfssp.org/calendar/choir-practice-83/
END:VEVENT
BEGIN:VEVENT
DTSTART;TZID=America/Denver:20240919T093000
DTEND;TZID=America/Denver:20240919T103000
DTSTAMP:20260419T175606
CREATED:20231027T173125Z
LAST-MODIFIED:20240914T002426Z
UID:6792-1726738200-1726741800@www.olmcfssp.org
SUMMARY:Legion of Mary Meeting
DESCRIPTION:The legion exists to be a sign of Mary’s maternal love for the world and a means of enlisting all her children in the Church’s evangelizing work. It is at the disposal of the parish priest for any form of service deemed useful for the welfare of the Church.
URL:https://www.olmcfssp.org/calendar/legion-of-mary-meeting-167/
END:VEVENT
BEGIN:VEVENT
DTSTART;TZID=America/Denver:20240919T093000
DTEND;TZID=America/Denver:20240919T110000
DTSTAMP:20260419T175606
CREATED:20231027T174344Z
LAST-MODIFIED:20240913T230830Z
UID:7288-1726738200-1726743600@www.olmcfssp.org
SUMMARY:St. Therese Book Club
DESCRIPTION:Come and study the works of St. Therese as a group. All are welcome.
URL:https://www.olmcfssp.org/calendar/st-therese-book-club-19/
END:VEVENT
BEGIN:VEVENT
DTSTART;TZID=America/Denver:20240921T090000
DTEND;TZID=America/Denver:20240921T160000
DTSTAMP:20260419T175606
CREATED:20240712T220934Z
LAST-MODIFIED:20240921T003930Z
UID:9429-1726909200-1726934400@www.olmcfssp.org
SUMMARY:Jumble Sale
DESCRIPTION:
URL:https://www.olmcfssp.org/calendar/jumble-sale-4/
END:VEVENT
BEGIN:VEVENT
DTSTART;TZID=America/Denver:20240921T093000
DTEND;TZID=America/Denver:20240921T120000
DTSTAMP:20260419T175606
CREATED:20231027T172912Z
LAST-MODIFIED:20231103T182346Z
UID:6548-1726911000-1726920000@www.olmcfssp.org
SUMMARY:Altar & Rosary Society Meeting
DESCRIPTION:The Altar and Rosary Society is an organization of women who foster and spread devotion to the Holy Rosary\, maintain the cleanliness of the church sanctuary\, wash and iron altar linens\, and arrange flowers for the altar.
URL:https://www.olmcfssp.org/calendar/altar-rosary-society-meeting-20/
END:VEVENT
BEGIN:VEVENT
DTSTART;TZID=America/Denver:20240922T123000
DTEND;TZID=America/Denver:20240922T141500
DTSTAMP:20260419T175606
CREATED:20231027T173126Z
LAST-MODIFIED:20231027T173126Z
UID:6793-1727008200-1727014500@www.olmcfssp.org
SUMMARY:Carmel Rookies Chess Club
DESCRIPTION:Players must RSVP to Mr. Mudd at rdm3rdm3@gmail.com to reserve their spot as space is limited.
URL:https://www.olmcfssp.org/calendar/carmel-rookies-chess-club-23/
END:VEVENT
BEGIN:VEVENT
DTSTART;TZID=America/Denver:20240922T170000
DTEND;TZID=America/Denver:20240922T180000
DTSTAMP:20260419T175606
CREATED:20231027T172447Z
LAST-MODIFIED:20240920T222327Z
UID:6274-1727024400-1727028000@www.olmcfssp.org
SUMMARY:Sung Vespers
DESCRIPTION:
URL:https://www.olmcfssp.org/calendar/sung-vespers-72/
END:VEVENT
BEGIN:VEVENT
DTSTART;TZID=America/Denver:20240923T180000
DTEND;TZID=America/Denver:20240923T190000
DTSTAMP:20260419T175606
CREATED:20231027T173126Z
LAST-MODIFIED:20240921T005440Z
UID:6794-1727114400-1727118000@www.olmcfssp.org
SUMMARY:Legion of Mary Meeting
DESCRIPTION:The legion exists to be a sign of Mary’s maternal love for the world and a means of enlisting all her children in the Church’s evangelizing work. It is at the disposal of the parish priest for any form of service deemed useful for the welfare of the Church.
URL:https://www.olmcfssp.org/calendar/legion-of-mary-meeting-168/
END:VEVENT
BEGIN:VEVENT
DTSTART;TZID=America/Denver:20240924T093000
DTEND;TZID=America/Denver:20240924T110000
DTSTAMP:20260419T175606
CREATED:20231027T173357Z
LAST-MODIFIED:20231027T173357Z
UID:7033-1727170200-1727175600@www.olmcfssp.org
SUMMARY:Tuesday Morning Book Club
DESCRIPTION:The Tuesday morning book club meets to read and discuss a selected book that assists with spiritual growth and knowledge of our wonderful Catholic faith. All members of the parish are welcome to drop by and check us out.
URL:https://www.olmcfssp.org/calendar/tuesday-morning-book-club-86/
END:VEVENT
BEGIN:VEVENT
DTSTART;TZID=America/Denver:20240924T170000
DTEND;TZID=America/Denver:20240924T180000
DTSTAMP:20260419T175606
CREATED:20231027T172447Z
LAST-MODIFIED:20240920T222327Z
UID:6275-1727197200-1727200800@www.olmcfssp.org
SUMMARY:Shepherds of Christ Prayer Group
DESCRIPTION:
URL:https://www.olmcfssp.org/calendar/shepherds-of-christ-prayer-group-86/
END:VEVENT
BEGIN:VEVENT
DTSTART;TZID=America/Denver:20240925T180000
DTEND;TZID=America/Denver:20240925T210000
DTSTAMP:20260419T175606
CREATED:20231027T173126Z
LAST-MODIFIED:20240921T005440Z
UID:6795-1727287200-1727298000@www.olmcfssp.org
SUMMARY:Hibernia Music Group
DESCRIPTION:An OLMC acoustic music group. We play traditional Irish\, Folk and Americana music. All are welcome to join us\, beginner or advanced\, Instrumentalist or Vocalist. Our goal is to sharpen our skills\, increase our musical knowledge\, have good Catholic fellowship\, and share our music.
URL:https://www.olmcfssp.org/calendar/hibernia-music-group-37/
END:VEVENT
BEGIN:VEVENT
DTSTART;TZID=America/Denver:20240925T190000
DTEND;TZID=America/Denver:20240925T203000
DTSTAMP:20260419T175606
CREATED:20231027T173630Z
LAST-MODIFIED:20240921T000908Z
UID:7170-1727290800-1727296200@www.olmcfssp.org
SUMMARY:Choir Practice
DESCRIPTION:
URL:https://www.olmcfssp.org/calendar/choir-practice-84/
END:VEVENT
BEGIN:VEVENT
DTSTART;TZID=America/Denver:20240926T093000
DTEND;TZID=America/Denver:20240926T103000
DTSTAMP:20260419T175606
CREATED:20231027T173126Z
LAST-MODIFIED:20240921T005440Z
UID:6796-1727343000-1727346600@www.olmcfssp.org
SUMMARY:Legion of Mary Meeting
DESCRIPTION:The legion exists to be a sign of Mary’s maternal love for the world and a means of enlisting all her children in the Church’s evangelizing work. It is at the disposal of the parish priest for any form of service deemed useful for the welfare of the Church.
URL:https://www.olmcfssp.org/calendar/legion-of-mary-meeting-169/
END:VEVENT
BEGIN:VEVENT
DTSTART;TZID=America/Denver:20240928T083000
DTEND;TZID=America/Denver:20240928T160000
DTSTAMP:20260419T175606
CREATED:20240802T232336Z
LAST-MODIFIED:20240928T010946Z
UID:9937-1727512200-1727539200@www.olmcfssp.org
SUMMARY:FNE
DESCRIPTION:The Federation of North American Explorers is an authentic Catholic scouting program with groups for boys and girls between the age of 6-17. Please direct any questions to info@olmcexplorers.org
URL:https://www.olmcfssp.org/calendar/fne-3/
END:VEVENT
BEGIN:VEVENT
DTSTART;TZID=America/Denver:20240928T101500
DTEND;TZID=America/Denver:20240928T110000
DTSTAMP:20260419T175606
CREATED:20231027T172758Z
LAST-MODIFIED:20231027T172758Z
UID:6478-1727518500-1727521200@www.olmcfssp.org
SUMMARY:Planned Parenthood Prayer Vigil
DESCRIPTION:Please join us for our monthly parish prayer vigil at Planned Parenthood starting at 10:15 am. The facility is located at 7155 E 38th Ave. in Denver.
URL:https://www.olmcfssp.org/calendar/planned-parenthood-prayer-vigil-18/
END:VEVENT
BEGIN:VEVENT
DTSTART;TZID=America/Chicago:20240928T180000
DTEND;TZID=America/Chicago:20240928T210000
DTSTAMP:20260419T175606
CREATED:20240925T175525Z
LAST-MODIFIED:20240925T175822Z
UID:10418-1727546400-1727557200@www.olmcfssp.org
SUMMARY:Leisure and Culture Game Night
DESCRIPTION:From 6-9pm in the parish hall for adults 21+\, to connect adults from all walks of life in an enriching environment. Come in your Sunday best or teatime attire. Contact Hope Hecker (h2jcxavier@gmail.com) with any questions.
URL:https://www.olmcfssp.org/calendar/leisure-and-culture-game-night/
LOCATION:Parish Hall
END:VEVENT
BEGIN:VEVENT
DTSTART;VALUE=DATE:20240929
DTEND;VALUE=DATE:20240930
DTSTAMP:20260419T175606
CREATED:20240712T215451Z
LAST-MODIFIED:20240928T010946Z
UID:9194-1727568000-1727654399@www.olmcfssp.org
SUMMARY:Parish Picnic
DESCRIPTION:
URL:https://www.olmcfssp.org/calendar/parish-picnic-2/
LOCATION:deKoevend Park\, 99 E University Ln\, Littleton\, CO\, United States
END:VEVENT
BEGIN:VEVENT
DTSTART;TZID=America/Denver:20240929T120000
DTEND;TZID=America/Denver:20240929T143000
DTSTAMP:20260419T175606
CREATED:20240712T215715Z
LAST-MODIFIED:20240928T005529Z
UID:9245-1727611200-1727620200@www.olmcfssp.org
SUMMARY:Adult Chess Club
DESCRIPTION:For players 18 and over. Players must RSVP to Mr. Mudd at rdm3rdm3@gmail.com to reserve their spot as space is limited.
URL:https://www.olmcfssp.org/calendar/adult-chess-club/
END:VEVENT
BEGIN:VEVENT
DTSTART;TZID=America/Denver:20240929T170000
DTEND;TZID=America/Denver:20240929T180000
DTSTAMP:20260419T175606
CREATED:20231027T172448Z
LAST-MODIFIED:20240927T223828Z
UID:6276-1727629200-1727632800@www.olmcfssp.org
SUMMARY:Sung Vespers
DESCRIPTION:
URL:https://www.olmcfssp.org/calendar/sung-vespers-73/
END:VEVENT
BEGIN:VEVENT
DTSTART;TZID=America/Denver:20240930T180000
DTEND;TZID=America/Denver:20240930T190000
DTSTAMP:20260419T175606
CREATED:20231027T173126Z
LAST-MODIFIED:20240928T010911Z
UID:6797-1727719200-1727722800@www.olmcfssp.org
SUMMARY:Legion of Mary Meeting
DESCRIPTION:The legion exists to be a sign of Mary’s maternal love for the world and a means of enlisting all her children in the Church’s evangelizing work. It is at the disposal of the parish priest for any form of service deemed useful for the welfare of the Church.
URL:https://www.olmcfssp.org/calendar/legion-of-mary-meeting-170/
END:VEVENT
BEGIN:VEVENT
DTSTART;TZID=America/Denver:20241001T093000
DTEND;TZID=America/Denver:20241001T110000
DTSTAMP:20260419T175606
CREATED:20231027T173357Z
LAST-MODIFIED:20231027T173357Z
UID:7034-1727775000-1727780400@www.olmcfssp.org
SUMMARY:Tuesday Morning Book Club
DESCRIPTION:The Tuesday morning book club meets to read and discuss a selected book that assists with spiritual growth and knowledge of our wonderful Catholic faith. All members of the parish are welcome to drop by and check us out.
URL:https://www.olmcfssp.org/calendar/tuesday-morning-book-club-87/
END:VEVENT
END:VCALENDAR