BEGIN:VCALENDAR
VERSION:2.0
PRODID:-//Our Lady of Mt. Carmel - ECPv6.15.20//NONSGML v1.0//EN
CALSCALE:GREGORIAN
METHOD:PUBLISH
X-WR-CALNAME:Our Lady of Mt. Carmel
X-ORIGINAL-URL:https://www.olmcfssp.org
X-WR-CALDESC:Events for Our Lady of Mt. Carmel
REFRESH-INTERVAL;VALUE=DURATION:PT1H
X-Robots-Tag:noindex
X-PUBLISHED-TTL:PT1H
BEGIN:VTIMEZONE
TZID:America/Denver
BEGIN:DAYLIGHT
TZOFFSETFROM:-0700
TZOFFSETTO:-0600
TZNAME:MDT
DTSTART:20230312T090000
END:DAYLIGHT
BEGIN:STANDARD
TZOFFSETFROM:-0600
TZOFFSETTO:-0700
TZNAME:MST
DTSTART:20231105T080000
END:STANDARD
BEGIN:DAYLIGHT
TZOFFSETFROM:-0700
TZOFFSETTO:-0600
TZNAME:MDT
DTSTART:20240310T090000
END:DAYLIGHT
BEGIN:STANDARD
TZOFFSETFROM:-0600
TZOFFSETTO:-0700
TZNAME:MST
DTSTART:20241103T080000
END:STANDARD
BEGIN:DAYLIGHT
TZOFFSETFROM:-0700
TZOFFSETTO:-0600
TZNAME:MDT
DTSTART:20250309T090000
END:DAYLIGHT
BEGIN:STANDARD
TZOFFSETFROM:-0600
TZOFFSETTO:-0700
TZNAME:MST
DTSTART:20251102T080000
END:STANDARD
END:VTIMEZONE
BEGIN:VTIMEZONE
TZID:America/Chicago
BEGIN:DAYLIGHT
TZOFFSETFROM:-0600
TZOFFSETTO:-0500
TZNAME:CDT
DTSTART:20230312T080000
END:DAYLIGHT
BEGIN:STANDARD
TZOFFSETFROM:-0500
TZOFFSETTO:-0600
TZNAME:CST
DTSTART:20231105T070000
END:STANDARD
BEGIN:DAYLIGHT
TZOFFSETFROM:-0600
TZOFFSETTO:-0500
TZNAME:CDT
DTSTART:20240310T080000
END:DAYLIGHT
BEGIN:STANDARD
TZOFFSETFROM:-0500
TZOFFSETTO:-0600
TZNAME:CST
DTSTART:20241103T070000
END:STANDARD
BEGIN:DAYLIGHT
TZOFFSETFROM:-0600
TZOFFSETTO:-0500
TZNAME:CDT
DTSTART:20250309T080000
END:DAYLIGHT
BEGIN:STANDARD
TZOFFSETFROM:-0500
TZOFFSETTO:-0600
TZNAME:CST
DTSTART:20251102T070000
END:STANDARD
END:VTIMEZONE
BEGIN:VEVENT
DTSTART;TZID=America/Denver:20240923T180000
DTEND;TZID=America/Denver:20240923T190000
DTSTAMP:20260420T005231
CREATED:20231027T173126Z
LAST-MODIFIED:20240921T005440Z
UID:6794-1727114400-1727118000@www.olmcfssp.org
SUMMARY:Legion of Mary Meeting
DESCRIPTION:The legion exists to be a sign of Mary’s maternal love for the world and a means of enlisting all her children in the Church’s evangelizing work. It is at the disposal of the parish priest for any form of service deemed useful for the welfare of the Church.
URL:https://www.olmcfssp.org/calendar/legion-of-mary-meeting-168/
END:VEVENT
BEGIN:VEVENT
DTSTART;TZID=America/Denver:20240924T093000
DTEND;TZID=America/Denver:20240924T110000
DTSTAMP:20260420T005231
CREATED:20231027T173357Z
LAST-MODIFIED:20231027T173357Z
UID:7033-1727170200-1727175600@www.olmcfssp.org
SUMMARY:Tuesday Morning Book Club
DESCRIPTION:The Tuesday morning book club meets to read and discuss a selected book that assists with spiritual growth and knowledge of our wonderful Catholic faith. All members of the parish are welcome to drop by and check us out.
URL:https://www.olmcfssp.org/calendar/tuesday-morning-book-club-86/
END:VEVENT
BEGIN:VEVENT
DTSTART;TZID=America/Denver:20240924T170000
DTEND;TZID=America/Denver:20240924T180000
DTSTAMP:20260420T005231
CREATED:20231027T172447Z
LAST-MODIFIED:20240920T222327Z
UID:6275-1727197200-1727200800@www.olmcfssp.org
SUMMARY:Shepherds of Christ Prayer Group
DESCRIPTION:
URL:https://www.olmcfssp.org/calendar/shepherds-of-christ-prayer-group-86/
END:VEVENT
BEGIN:VEVENT
DTSTART;TZID=America/Denver:20240925T180000
DTEND;TZID=America/Denver:20240925T210000
DTSTAMP:20260420T005231
CREATED:20231027T173126Z
LAST-MODIFIED:20240921T005440Z
UID:6795-1727287200-1727298000@www.olmcfssp.org
SUMMARY:Hibernia Music Group
DESCRIPTION:An OLMC acoustic music group. We play traditional Irish\, Folk and Americana music. All are welcome to join us\, beginner or advanced\, Instrumentalist or Vocalist. Our goal is to sharpen our skills\, increase our musical knowledge\, have good Catholic fellowship\, and share our music.
URL:https://www.olmcfssp.org/calendar/hibernia-music-group-37/
END:VEVENT
BEGIN:VEVENT
DTSTART;TZID=America/Denver:20240925T190000
DTEND;TZID=America/Denver:20240925T203000
DTSTAMP:20260420T005231
CREATED:20231027T173630Z
LAST-MODIFIED:20240921T000908Z
UID:7170-1727290800-1727296200@www.olmcfssp.org
SUMMARY:Choir Practice
DESCRIPTION:
URL:https://www.olmcfssp.org/calendar/choir-practice-84/
END:VEVENT
BEGIN:VEVENT
DTSTART;TZID=America/Denver:20240926T093000
DTEND;TZID=America/Denver:20240926T103000
DTSTAMP:20260420T005231
CREATED:20231027T173126Z
LAST-MODIFIED:20240921T005440Z
UID:6796-1727343000-1727346600@www.olmcfssp.org
SUMMARY:Legion of Mary Meeting
DESCRIPTION:The legion exists to be a sign of Mary’s maternal love for the world and a means of enlisting all her children in the Church’s evangelizing work. It is at the disposal of the parish priest for any form of service deemed useful for the welfare of the Church.
URL:https://www.olmcfssp.org/calendar/legion-of-mary-meeting-169/
END:VEVENT
BEGIN:VEVENT
DTSTART;TZID=America/Denver:20240928T083000
DTEND;TZID=America/Denver:20240928T160000
DTSTAMP:20260420T005231
CREATED:20240802T232336Z
LAST-MODIFIED:20240928T010946Z
UID:9937-1727512200-1727539200@www.olmcfssp.org
SUMMARY:FNE
DESCRIPTION:The Federation of North American Explorers is an authentic Catholic scouting program with groups for boys and girls between the age of 6-17. Please direct any questions to info@olmcexplorers.org
URL:https://www.olmcfssp.org/calendar/fne-3/
END:VEVENT
BEGIN:VEVENT
DTSTART;TZID=America/Denver:20240928T101500
DTEND;TZID=America/Denver:20240928T110000
DTSTAMP:20260420T005231
CREATED:20231027T172758Z
LAST-MODIFIED:20231027T172758Z
UID:6478-1727518500-1727521200@www.olmcfssp.org
SUMMARY:Planned Parenthood Prayer Vigil
DESCRIPTION:Please join us for our monthly parish prayer vigil at Planned Parenthood starting at 10:15 am. The facility is located at 7155 E 38th Ave. in Denver.
URL:https://www.olmcfssp.org/calendar/planned-parenthood-prayer-vigil-18/
END:VEVENT
BEGIN:VEVENT
DTSTART;TZID=America/Chicago:20240928T180000
DTEND;TZID=America/Chicago:20240928T210000
DTSTAMP:20260420T005231
CREATED:20240925T175525Z
LAST-MODIFIED:20240925T175822Z
UID:10418-1727546400-1727557200@www.olmcfssp.org
SUMMARY:Leisure and Culture Game Night
DESCRIPTION:From 6-9pm in the parish hall for adults 21+\, to connect adults from all walks of life in an enriching environment. Come in your Sunday best or teatime attire. Contact Hope Hecker (h2jcxavier@gmail.com) with any questions.
URL:https://www.olmcfssp.org/calendar/leisure-and-culture-game-night/
LOCATION:Parish Hall
END:VEVENT
BEGIN:VEVENT
DTSTART;VALUE=DATE:20240929
DTEND;VALUE=DATE:20240930
DTSTAMP:20260420T005231
CREATED:20240712T215451Z
LAST-MODIFIED:20240928T010946Z
UID:9194-1727568000-1727654399@www.olmcfssp.org
SUMMARY:Parish Picnic
DESCRIPTION:
URL:https://www.olmcfssp.org/calendar/parish-picnic-2/
LOCATION:deKoevend Park\, 99 E University Ln\, Littleton\, CO\, United States
END:VEVENT
BEGIN:VEVENT
DTSTART;TZID=America/Denver:20240929T120000
DTEND;TZID=America/Denver:20240929T143000
DTSTAMP:20260420T005231
CREATED:20240712T215715Z
LAST-MODIFIED:20240928T005529Z
UID:9245-1727611200-1727620200@www.olmcfssp.org
SUMMARY:Adult Chess Club
DESCRIPTION:For players 18 and over. Players must RSVP to Mr. Mudd at rdm3rdm3@gmail.com to reserve their spot as space is limited.
URL:https://www.olmcfssp.org/calendar/adult-chess-club/
END:VEVENT
BEGIN:VEVENT
DTSTART;TZID=America/Denver:20240929T170000
DTEND;TZID=America/Denver:20240929T180000
DTSTAMP:20260420T005231
CREATED:20231027T172448Z
LAST-MODIFIED:20240927T223828Z
UID:6276-1727629200-1727632800@www.olmcfssp.org
SUMMARY:Sung Vespers
DESCRIPTION:
URL:https://www.olmcfssp.org/calendar/sung-vespers-73/
END:VEVENT
BEGIN:VEVENT
DTSTART;TZID=America/Denver:20240930T180000
DTEND;TZID=America/Denver:20240930T190000
DTSTAMP:20260420T005231
CREATED:20231027T173126Z
LAST-MODIFIED:20240928T010911Z
UID:6797-1727719200-1727722800@www.olmcfssp.org
SUMMARY:Legion of Mary Meeting
DESCRIPTION:The legion exists to be a sign of Mary’s maternal love for the world and a means of enlisting all her children in the Church’s evangelizing work. It is at the disposal of the parish priest for any form of service deemed useful for the welfare of the Church.
URL:https://www.olmcfssp.org/calendar/legion-of-mary-meeting-170/
END:VEVENT
BEGIN:VEVENT
DTSTART;TZID=America/Denver:20241001T093000
DTEND;TZID=America/Denver:20241001T110000
DTSTAMP:20260420T005231
CREATED:20231027T173357Z
LAST-MODIFIED:20231027T173357Z
UID:7034-1727775000-1727780400@www.olmcfssp.org
SUMMARY:Tuesday Morning Book Club
DESCRIPTION:The Tuesday morning book club meets to read and discuss a selected book that assists with spiritual growth and knowledge of our wonderful Catholic faith. All members of the parish are welcome to drop by and check us out.
URL:https://www.olmcfssp.org/calendar/tuesday-morning-book-club-87/
END:VEVENT
BEGIN:VEVENT
DTSTART;TZID=America/Denver:20241001T170000
DTEND;TZID=America/Denver:20241001T180000
DTSTAMP:20260420T005231
CREATED:20231027T172448Z
LAST-MODIFIED:20240927T223828Z
UID:6277-1727802000-1727805600@www.olmcfssp.org
SUMMARY:Shepherds of Christ Prayer Group
DESCRIPTION:
URL:https://www.olmcfssp.org/calendar/shepherds-of-christ-prayer-group-87/
END:VEVENT
BEGIN:VEVENT
DTSTART;TZID=America/Denver:20241002T183000
DTEND;TZID=America/Denver:20241002T203000
DTSTAMP:20260420T005231
CREATED:20231027T174344Z
LAST-MODIFIED:20240927T230831Z
UID:7289-1727893800-1727901000@www.olmcfssp.org
SUMMARY:Safety Team Meeting
DESCRIPTION:The purpose of the OLMC Safety Team is to provide a safe and secure environment for all parishioners and visitors. Primarily\, this is accomplished by the observation of people\, places and events and your assessment of situations and then to follow through with appropriate action.
URL:https://www.olmcfssp.org/calendar/safety-team-meeting-20/
END:VEVENT
BEGIN:VEVENT
DTSTART;TZID=America/Denver:20241002T190000
DTEND;TZID=America/Denver:20241002T203000
DTSTAMP:20260420T005231
CREATED:20231027T173631Z
LAST-MODIFIED:20240928T000943Z
UID:7171-1727895600-1727901000@www.olmcfssp.org
SUMMARY:Choir Practice
DESCRIPTION:
URL:https://www.olmcfssp.org/calendar/choir-practice-85/
END:VEVENT
BEGIN:VEVENT
DTSTART;TZID=America/Denver:20241003T093000
DTEND;TZID=America/Denver:20241003T103000
DTSTAMP:20260420T005231
CREATED:20231027T173127Z
LAST-MODIFIED:20240928T010911Z
UID:6798-1727947800-1727951400@www.olmcfssp.org
SUMMARY:Legion of Mary Meeting
DESCRIPTION:The legion exists to be a sign of Mary’s maternal love for the world and a means of enlisting all her children in the Church’s evangelizing work. It is at the disposal of the parish priest for any form of service deemed useful for the welfare of the Church.
URL:https://www.olmcfssp.org/calendar/legion-of-mary-meeting-171/
END:VEVENT
BEGIN:VEVENT
DTSTART;TZID=America/Denver:20241004T093000
DTEND;TZID=America/Denver:20241005T080000
DTSTAMP:20260420T005231
CREATED:20230922T160150Z
LAST-MODIFIED:20241004T223832Z
UID:5852-1728034200-1728115200@www.olmcfssp.org
SUMMARY:First Friday Adoration
DESCRIPTION:
URL:https://www.olmcfssp.org/calendar/first-friday-adoration-20/
END:VEVENT
BEGIN:VEVENT
DTSTART;TZID=America/Denver:20241005T093000
DTEND;TZID=America/Denver:20241005T113000
DTSTAMP:20260420T005231
CREATED:20240110T230756Z
LAST-MODIFIED:20241005T010929Z
UID:8747-1728120600-1728127800@www.olmcfssp.org
SUMMARY:Confraternity of Christian Mothers
DESCRIPTION:All women aged 16 and up of all walks of life are invited to attend. Some of us are called to physical motherhood\, but we are all called to spiritual motherhood. 
URL:https://www.olmcfssp.org/calendar/confraternity-of-christian-mothers-64/
LOCATION:Parish Hall
END:VEVENT
BEGIN:VEVENT
DTSTART;TZID=America/Denver:20241006T140000
DTEND;TZID=America/Denver:20241006T170000
DTSTAMP:20260420T005231
CREATED:20231027T173127Z
LAST-MODIFIED:20241005T012429Z
UID:6799-1728223200-1728234000@www.olmcfssp.org
SUMMARY:Laeta Vita
DESCRIPTION:Leata Vita (Joyful Life) is a group for single women ages 18-35. The purpose of our group is to meet and grow in fellowship with other women who are in a similar season of life. We meet two times a month. The first meeting of the month consists of discussing a book as part of our book club and socializing with each other. The second meeting of the month consists of a fun outing or activity (and every now and then something charitable for the parish or some other organization)\, meant to give the members a chance to get out and have some fun.
URL:https://www.olmcfssp.org/calendar/laeta-vita-30/
END:VEVENT
BEGIN:VEVENT
DTSTART;TZID=America/Denver:20241006T170000
DTEND;TZID=America/Denver:20241006T180000
DTSTAMP:20260420T005231
CREATED:20231027T172449Z
LAST-MODIFIED:20241004T223832Z
UID:6279-1728234000-1728237600@www.olmcfssp.org
SUMMARY:Sung Vespers
DESCRIPTION:
URL:https://www.olmcfssp.org/calendar/sung-vespers-74/
END:VEVENT
BEGIN:VEVENT
DTSTART;TZID=America/Denver:20241007T083000
DTEND;TZID=America/Denver:20241007T093000
DTSTAMP:20260420T005231
CREATED:20240712T215011Z
LAST-MODIFIED:20241004T223832Z
UID:9099-1728289800-1728293400@www.olmcfssp.org
SUMMARY:High Mass - Our Lady of the Rosary
DESCRIPTION:
URL:https://www.olmcfssp.org/calendar/high-mass-our-lady-of-the-rosary-2/
END:VEVENT
BEGIN:VEVENT
DTSTART;TZID=America/Denver:20241007T180000
DTEND;TZID=America/Denver:20241007T190000
DTSTAMP:20260420T005231
CREATED:20231027T173127Z
LAST-MODIFIED:20241005T012429Z
UID:6800-1728324000-1728327600@www.olmcfssp.org
SUMMARY:Legion of Mary Meeting
DESCRIPTION:The legion exists to be a sign of Mary’s maternal love for the world and a means of enlisting all her children in the Church’s evangelizing work. It is at the disposal of the parish priest for any form of service deemed useful for the welfare of the Church.
URL:https://www.olmcfssp.org/calendar/legion-of-mary-meeting-172/
END:VEVENT
BEGIN:VEVENT
DTSTART;TZID=America/Denver:20241008T093000
DTEND;TZID=America/Denver:20241008T103000
DTSTAMP:20260420T005231
CREATED:20240110T185517Z
LAST-MODIFIED:20241004T223832Z
UID:8708-1728379800-1728383400@www.olmcfssp.org
SUMMARY:Holy Face Devotion Group
DESCRIPTION:His Holy Face Ministry’s mission is to bring the Face of God back into the world to breathe life into souls by making reparation for the sins committed against the majesty of God and the Catholic Church. Join us as a community in making public reparation before a 2nd class relic image of the Veil of St. Veronica on the second Tuesday or third Saturday of each month after the 8:30 AM mass. We also offer presentations on the Holy Face Devotion\, a Home Enthronement Program with the image\, and a Parish Enthronement Program to share with a wider audience.
URL:https://www.olmcfssp.org/calendar/holy-face-devotion-group-27/
END:VEVENT
BEGIN:VEVENT
DTSTART;TZID=America/Denver:20241008T093000
DTEND;TZID=America/Denver:20241008T110000
DTSTAMP:20260420T005231
CREATED:20231027T173357Z
LAST-MODIFIED:20231027T173357Z
UID:7035-1728379800-1728385200@www.olmcfssp.org
SUMMARY:Tuesday Morning Book Club
DESCRIPTION:The Tuesday morning book club meets to read and discuss a selected book that assists with spiritual growth and knowledge of our wonderful Catholic faith. All members of the parish are welcome to drop by and check us out.
URL:https://www.olmcfssp.org/calendar/tuesday-morning-book-club-88/
END:VEVENT
BEGIN:VEVENT
DTSTART;TZID=America/Denver:20241008T113000
DTEND;TZID=America/Denver:20241008T130000
DTSTAMP:20260420T005231
CREATED:20240712T220940Z
LAST-MODIFIED:20241005T003935Z
UID:9440-1728387000-1728392400@www.olmcfssp.org
SUMMARY:St. Joseph Business Club - Lunch and Learn
DESCRIPTION:
URL:https://www.olmcfssp.org/calendar/st-joseph-business-club-lunch-and-learn-2/
END:VEVENT
BEGIN:VEVENT
DTSTART;TZID=America/Denver:20241008T170000
DTEND;TZID=America/Denver:20241008T180000
DTSTAMP:20260420T005231
CREATED:20231027T172449Z
LAST-MODIFIED:20241004T223832Z
UID:6289-1728406800-1728410400@www.olmcfssp.org
SUMMARY:Shepherds of Christ Prayer Group
DESCRIPTION:
URL:https://www.olmcfssp.org/calendar/shepherds-of-christ-prayer-group-88/
END:VEVENT
BEGIN:VEVENT
DTSTART;TZID=America/Chicago:20241009T180000
DTEND;TZID=America/Chicago:20241009T200000
DTSTAMP:20260420T005231
CREATED:20240925T174108Z
LAST-MODIFIED:20240925T174108Z
UID:10407-1728496800-1728504000@www.olmcfssp.org
SUMMARY:Third Order of St. Francis of Assisi
DESCRIPTION:The object of the Third Order of St. Francis of Assisi is to lead its members to Eternal Salvation by a life in conformity with the “Life and Poverty of the Most High Lord Jesus Christ and His Most Holy Mother” in imitation of St. Francis. The Third Order form of Religious Life provides a structure and form of life conducive to the pursuit of virtue and Holiness for those out in the world without the obligation of Vows under sin. The Rule of this Order is adapted to all: it takes into consideration the different circumstances and frailties of human life. Those who are discerning a vocation to the MFM Third Order are welcome to attend our meetings. 
URL:https://www.olmcfssp.org/calendar/third-order-of-st-francis-of-assisi/
LOCATION:St. Teresa of Avila Basement Room
END:VEVENT
BEGIN:VEVENT
DTSTART;TZID=America/Denver:20241009T190000
DTEND;TZID=America/Denver:20241009T203000
DTSTAMP:20260420T005231
CREATED:20231027T173631Z
LAST-MODIFIED:20241005T000908Z
UID:7172-1728500400-1728505800@www.olmcfssp.org
SUMMARY:Choir Practice
DESCRIPTION:
URL:https://www.olmcfssp.org/calendar/choir-practice-86/
END:VEVENT
END:VCALENDAR