BEGIN:VCALENDAR
VERSION:2.0
PRODID:-//Our Lady of Mt. Carmel - ECPv6.15.20//NONSGML v1.0//EN
CALSCALE:GREGORIAN
METHOD:PUBLISH
X-WR-CALNAME:Our Lady of Mt. Carmel
X-ORIGINAL-URL:https://www.olmcfssp.org
X-WR-CALDESC:Events for Our Lady of Mt. Carmel
REFRESH-INTERVAL;VALUE=DURATION:PT1H
X-Robots-Tag:noindex
X-PUBLISHED-TTL:PT1H
BEGIN:VTIMEZONE
TZID:America/Denver
BEGIN:DAYLIGHT
TZOFFSETFROM:-0700
TZOFFSETTO:-0600
TZNAME:MDT
DTSTART:20240310T090000
END:DAYLIGHT
BEGIN:STANDARD
TZOFFSETFROM:-0600
TZOFFSETTO:-0700
TZNAME:MST
DTSTART:20241103T080000
END:STANDARD
BEGIN:DAYLIGHT
TZOFFSETFROM:-0700
TZOFFSETTO:-0600
TZNAME:MDT
DTSTART:20250309T090000
END:DAYLIGHT
BEGIN:STANDARD
TZOFFSETFROM:-0600
TZOFFSETTO:-0700
TZNAME:MST
DTSTART:20251102T080000
END:STANDARD
BEGIN:DAYLIGHT
TZOFFSETFROM:-0700
TZOFFSETTO:-0600
TZNAME:MDT
DTSTART:20260308T090000
END:DAYLIGHT
BEGIN:STANDARD
TZOFFSETFROM:-0600
TZOFFSETTO:-0700
TZNAME:MST
DTSTART:20261101T080000
END:STANDARD
END:VTIMEZONE
BEGIN:VEVENT
DTSTART;TZID=America/Denver:20251027T180000
DTEND;TZID=America/Denver:20251027T190000
DTSTAMP:20260421T200214
CREATED:20240712T220706Z
LAST-MODIFIED:20251024T015328Z
UID:9346-1761588000-1761591600@www.olmcfssp.org
SUMMARY:Legion of Mary Meeting
DESCRIPTION:The legion exists to be a sign of Mary’s maternal love for the world and a means of enlisting all her children in the Church’s evangelizing work. It is at the disposal of the parish priest for any form of service deemed useful for the welfare of the Church.
URL:https://www.olmcfssp.org/calendar/legion-of-mary-meeting-282/
END:VEVENT
BEGIN:VEVENT
DTSTART;TZID=America/Denver:20251026T170000
DTEND;TZID=America/Denver:20251026T180000
DTSTAMP:20260421T200214
CREATED:20231027T172520Z
LAST-MODIFIED:20251025T010832Z
UID:6423-1761498000-1761501600@www.olmcfssp.org
SUMMARY:Sung Vespers
DESCRIPTION:
URL:https://www.olmcfssp.org/calendar/sung-vespers-129/
END:VEVENT
BEGIN:VEVENT
DTSTART;TZID=America/Denver:20251026T123000
DTEND;TZID=America/Denver:20251026T141500
DTSTAMP:20260421T200214
CREATED:20240712T220706Z
LAST-MODIFIED:20251024T015328Z
UID:9345-1761481800-1761488100@www.olmcfssp.org
SUMMARY:Carmel Rookies Chess Club
DESCRIPTION:Carmel Rookies Chess Club for players under 18. Players/parents must RSVP to Mr. Mudd at rdm3rdm3@gmail.com to reserve their spot as space is limited.
URL:https://www.olmcfssp.org/calendar/carmel-rookies-chess-club-67/
END:VEVENT
BEGIN:VEVENT
DTSTART;TZID=America/Denver:20251025T101500
DTEND;TZID=America/Denver:20251025T110000
DTSTAMP:20260421T200214
CREATED:20240712T215502Z
LAST-MODIFIED:20251025T042329Z
UID:9222-1761387300-1761390000@www.olmcfssp.org
SUMMARY:Planned Parenthood Prayer Vigil
DESCRIPTION:Please join us for our monthly parish prayer vigil at Planned Parenthood starting at 10:15 am. The facility is located at 7155 E 38th Ave. in Denver.
URL:https://www.olmcfssp.org/calendar/planned-parenthood-prayer-vigil-47/
END:VEVENT
BEGIN:VEVENT
DTSTART;TZID=America/Denver:20251023T093000
DTEND;TZID=America/Denver:20251023T103000
DTSTAMP:20260421T200214
CREATED:20240712T220706Z
LAST-MODIFIED:20251017T015328Z
UID:9344-1761211800-1761215400@www.olmcfssp.org
SUMMARY:Legion of Mary Meeting
DESCRIPTION:The legion exists to be a sign of Mary’s maternal love for the world and a means of enlisting all her children in the Church’s evangelizing work. It is at the disposal of the parish priest for any form of service deemed useful for the welfare of the Church.
URL:https://www.olmcfssp.org/calendar/legion-of-mary-meeting-281/
END:VEVENT
BEGIN:VEVENT
DTSTART;TZID=America/Denver:20251022T190000
DTEND;TZID=America/Denver:20251022T203000
DTSTAMP:20260421T200214
CREATED:20231027T173643Z
LAST-MODIFIED:20251018T020826Z
UID:7236-1761159600-1761165000@www.olmcfssp.org
SUMMARY:Choir Practice
DESCRIPTION:
URL:https://www.olmcfssp.org/calendar/choir-practice-140/
END:VEVENT
BEGIN:VEVENT
DTSTART;TZID=America/Denver:20251022T180000
DTEND;TZID=America/Denver:20251022T210000
DTSTAMP:20260421T200214
CREATED:20240712T220706Z
LAST-MODIFIED:20251017T015328Z
UID:9343-1761156000-1761166800@www.olmcfssp.org
SUMMARY:Hibernia Music Group
DESCRIPTION:An OLMC acoustic music group. We play traditional Irish\, Folk and Americana music. All are welcome to join us\, beginner or advanced\, Instrumentalist or Vocalist. Our goal is to sharpen our skills\, increase our musical knowledge\, have good Catholic fellowship\, and share our music.
URL:https://www.olmcfssp.org/calendar/hibernia-music-group-63/
END:VEVENT
BEGIN:VEVENT
DTSTART;TZID=America/Denver:20251021T170000
DTEND;TZID=America/Denver:20251021T180000
DTSTAMP:20260421T200214
CREATED:20231027T172519Z
LAST-MODIFIED:20251018T010829Z
UID:6422-1761066000-1761069600@www.olmcfssp.org
SUMMARY:Shepherds of Christ Prayer Group
DESCRIPTION:
URL:https://www.olmcfssp.org/calendar/shepherds-of-christ-prayer-group-142/
END:VEVENT
BEGIN:VEVENT
DTSTART;TZID=America/Denver:20251021T093000
DTEND;TZID=America/Denver:20251021T110000
DTSTAMP:20260421T200214
CREATED:20231027T173412Z
LAST-MODIFIED:20231027T173412Z
UID:7112-1761039000-1761044400@www.olmcfssp.org
SUMMARY:Tuesday Morning Book Club
DESCRIPTION:The Tuesday morning book club meets to read and discuss a selected book that assists with spiritual growth and knowledge of our wonderful Catholic faith. All members of the parish are welcome to drop by and check us out.
URL:https://www.olmcfssp.org/calendar/tuesday-morning-book-club-142/
END:VEVENT
BEGIN:VEVENT
DTSTART;TZID=America/Denver:20251020T180000
DTEND;TZID=America/Denver:20251020T190000
DTSTAMP:20260421T200214
CREATED:20240712T220706Z
LAST-MODIFIED:20251017T015328Z
UID:9342-1760983200-1760986800@www.olmcfssp.org
SUMMARY:Legion of Mary Meeting
DESCRIPTION:The legion exists to be a sign of Mary’s maternal love for the world and a means of enlisting all her children in the Church’s evangelizing work. It is at the disposal of the parish priest for any form of service deemed useful for the welfare of the Church.
URL:https://www.olmcfssp.org/calendar/legion-of-mary-meeting-280/
END:VEVENT
BEGIN:VEVENT
DTSTART;TZID=America/Denver:20251019T170000
DTEND;TZID=America/Denver:20251019T180000
DTSTAMP:20260421T200214
CREATED:20231027T172519Z
LAST-MODIFIED:20251018T010829Z
UID:6421-1760893200-1760896800@www.olmcfssp.org
SUMMARY:Sung Vespers
DESCRIPTION:
URL:https://www.olmcfssp.org/calendar/sung-vespers-128/
END:VEVENT
BEGIN:VEVENT
DTSTART;TZID=America/Denver:20251019T140000
DTEND;TZID=America/Denver:20251019T170000
DTSTAMP:20260421T200214
CREATED:20240712T220706Z
LAST-MODIFIED:20251017T015328Z
UID:9341-1760882400-1760893200@www.olmcfssp.org
SUMMARY:Laeta Vita
DESCRIPTION:Leata Vita (Joyful Life) is a group for single women ages 18-35. The purpose of our group is to meet and grow in fellowship with other women who are in a similar season of life. We meet two times a month. The first meeting of the month consists of discussing a book as part of our book club and socializing with each other. The second meeting of the month consists of a fun outing or activity (and every now and then something charitable for the parish or some other organization)\, meant to give the members a chance to get out and have some fun.
URL:https://www.olmcfssp.org/calendar/laeta-vita-56/
END:VEVENT
BEGIN:VEVENT
DTSTART;TZID=America/Denver:20251019T123000
DTEND;TZID=America/Denver:20251019T140000
DTSTAMP:20260421T200214
CREATED:20231027T173412Z
LAST-MODIFIED:20251018T023827Z
UID:7111-1760877000-1760882400@www.olmcfssp.org
SUMMARY:Creation Study Group
DESCRIPTION:This group is dedicated to studying the traditional Catholic teaching on creation and Genesis as believed and taught by the Doctors\, Fathers\, Councils and Popes for two thousand years. We explore various aspects of the creation/evolutionism debate and the effects of evolutionary thought on culture\, science and the Church. As Pope St Pius X said about Modernism\, that it is the “synthesis of all heresies.” And “the chief of their doctrines\, that of evolution.” \nAll are welcome to attend and contribute their experience and expertise.
URL:https://www.olmcfssp.org/calendar/creation-study-group-24/
END:VEVENT
BEGIN:VEVENT
DTSTART;TZID=America/Denver:20251018T093000
DTEND;TZID=America/Denver:20251018T120000
DTSTAMP:20260421T200214
CREATED:20231027T172921Z
LAST-MODIFIED:20231103T182346Z
UID:6593-1760779800-1760788800@www.olmcfssp.org
SUMMARY:Altar & Rosary Society Meeting
DESCRIPTION:The Altar and Rosary Society is an organization of women who foster and spread devotion to the Holy Rosary\, maintain the cleanliness of the church sanctuary\, wash and iron altar linens\, and arrange flowers for the altar.
URL:https://www.olmcfssp.org/calendar/altar-rosary-society-meeting-33/
END:VEVENT
BEGIN:VEVENT
DTSTART;TZID=America/Denver:20251016T093000
DTEND;TZID=America/Denver:20251016T110000
DTSTAMP:20260421T200214
CREATED:20231027T174345Z
LAST-MODIFIED:20251011T015337Z
UID:7337-1760607000-1760612400@www.olmcfssp.org
SUMMARY:St. Therese Book Club
DESCRIPTION:Come and study the works of St. Therese as a group. All are welcome.
URL:https://www.olmcfssp.org/calendar/st-therese-book-club-32/
END:VEVENT
BEGIN:VEVENT
DTSTART;TZID=America/Denver:20251016T093000
DTEND;TZID=America/Denver:20251016T103000
DTSTAMP:20260421T200214
CREATED:20240712T220706Z
LAST-MODIFIED:20251010T015331Z
UID:9340-1760607000-1760610600@www.olmcfssp.org
SUMMARY:Legion of Mary Meeting
DESCRIPTION:The legion exists to be a sign of Mary’s maternal love for the world and a means of enlisting all her children in the Church’s evangelizing work. It is at the disposal of the parish priest for any form of service deemed useful for the welfare of the Church.
URL:https://www.olmcfssp.org/calendar/legion-of-mary-meeting-279/
END:VEVENT
BEGIN:VEVENT
DTSTART;TZID=America/Denver:20251015T190000
DTEND;TZID=America/Denver:20251015T203000
DTSTAMP:20260421T200214
CREATED:20231027T173643Z
LAST-MODIFIED:20251011T020828Z
UID:7235-1760554800-1760560200@www.olmcfssp.org
SUMMARY:Choir Practice
DESCRIPTION:
URL:https://www.olmcfssp.org/calendar/choir-practice-139/
END:VEVENT
BEGIN:VEVENT
DTSTART;TZID=America/Denver:20251014T170000
DTEND;TZID=America/Denver:20251014T180000
DTSTAMP:20260421T200214
CREATED:20231027T172519Z
LAST-MODIFIED:20251011T010833Z
UID:6420-1760461200-1760464800@www.olmcfssp.org
SUMMARY:Shepherds of Christ Prayer Group
DESCRIPTION:
URL:https://www.olmcfssp.org/calendar/shepherds-of-christ-prayer-group-141/
END:VEVENT
BEGIN:VEVENT
DTSTART;TZID=America/Denver:20251014T093000
DTEND;TZID=America/Denver:20251014T110000
DTSTAMP:20260421T200214
CREATED:20231027T173411Z
LAST-MODIFIED:20231027T173411Z
UID:7110-1760434200-1760439600@www.olmcfssp.org
SUMMARY:Tuesday Morning Book Club
DESCRIPTION:The Tuesday morning book club meets to read and discuss a selected book that assists with spiritual growth and knowledge of our wonderful Catholic faith. All members of the parish are welcome to drop by and check us out.
URL:https://www.olmcfssp.org/calendar/tuesday-morning-book-club-141/
END:VEVENT
BEGIN:VEVENT
DTSTART;TZID=America/Denver:20251014T093000
DTEND;TZID=America/Denver:20251014T103000
DTSTAMP:20260421T200214
CREATED:20240110T185520Z
LAST-MODIFIED:20251011T010833Z
UID:8720-1760434200-1760437800@www.olmcfssp.org
SUMMARY:Holy Face Devotion Group
DESCRIPTION:His Holy Face Ministry’s mission is to bring the Face of God back into the world to breathe life into souls by making reparation for the sins committed against the majesty of God and the Catholic Church. Join us as a community in making public reparation before a 2nd class relic image of the Veil of St. Veronica on the second Tuesday or third Saturday of each month after the 8:30 AM mass. We also offer presentations on the Holy Face Devotion\, a Home Enthronement Program with the image\, and a Parish Enthronement Program to share with a wider audience.
URL:https://www.olmcfssp.org/calendar/holy-face-devotion-group-39/
END:VEVENT
BEGIN:VEVENT
DTSTART;TZID=America/Denver:20251013T180000
DTEND;TZID=America/Denver:20251013T190000
DTSTAMP:20260421T200214
CREATED:20240712T220706Z
LAST-MODIFIED:20251010T015331Z
UID:9339-1760378400-1760382000@www.olmcfssp.org
SUMMARY:Legion of Mary Meeting
DESCRIPTION:The legion exists to be a sign of Mary’s maternal love for the world and a means of enlisting all her children in the Church’s evangelizing work. It is at the disposal of the parish priest for any form of service deemed useful for the welfare of the Church.
URL:https://www.olmcfssp.org/calendar/legion-of-mary-meeting-278/
END:VEVENT
BEGIN:VEVENT
DTSTART;TZID=America/Denver:20251012T170000
DTEND;TZID=America/Denver:20251012T180000
DTSTAMP:20260421T200214
CREATED:20231027T172519Z
LAST-MODIFIED:20251011T010833Z
UID:6419-1760288400-1760292000@www.olmcfssp.org
SUMMARY:Sung Vespers
DESCRIPTION:
URL:https://www.olmcfssp.org/calendar/sung-vespers-127/
END:VEVENT
BEGIN:VEVENT
DTSTART;TZID=America/Denver:20251012T123000
DTEND;TZID=America/Denver:20251012T140000
DTSTAMP:20260421T200214
CREATED:20240712T220706Z
LAST-MODIFIED:20251010T015331Z
UID:9338-1760272200-1760277600@www.olmcfssp.org
SUMMARY:Knights of Columbus Meeting
DESCRIPTION:As faithful Catholics\, we are called to be salt and light in this material world. As traditional Catholics within the Church Universal\, we are sometimes called\, in charity\, to bring more illumination and flavor to our fellow Catholics. Let us join with him in spreading the message within the Knights of Columbus.
URL:https://www.olmcfssp.org/calendar/knights-of-columbus-meeting-31/
END:VEVENT
BEGIN:VEVENT
DTSTART;TZID=America/Denver:20251011T130000
DTEND;TZID=America/Denver:20251011T160000
DTSTAMP:20260421T200214
CREATED:20240712T220706Z
LAST-MODIFIED:20251010T015331Z
UID:9337-1760187600-1760198400@www.olmcfssp.org
SUMMARY:Hibernia Music Group
DESCRIPTION:An OLMC acoustic music group. We play traditional Irish\, Folk and Americana music. All are welcome to join us\, beginner or advanced\, Instrumentalist or Vocalist. Our goal is to sharpen our skills\, increase our musical knowledge\, have good Catholic fellowship\, and share our music.
URL:https://www.olmcfssp.org/calendar/hibernia-music-group-62/
END:VEVENT
BEGIN:VEVENT
DTSTART;TZID=America/Denver:20251011T093000
DTEND;TZID=America/Denver:20251011T130000
DTSTAMP:20260421T200214
CREATED:20231027T174345Z
LAST-MODIFIED:20251011T015337Z
UID:7336-1760175000-1760187600@www.olmcfssp.org
SUMMARY:St. Teresa of Jesus Association
DESCRIPTION:A formation in the spirituality of St. Teresa of Jesus within a Study Group composed of men and women over the age of 25 years. This formation includes daily Mass\, Lectio Divina\, Divine Office and the living a life of apostolic endeavors: ministering to our families and the world.  The members endeavor to give glory to God\, to honor our Blessed Lady of Carmel and to aid our Holy Mother the Church by their prayers.
URL:https://www.olmcfssp.org/calendar/st-teresa-of-jesus-association-31/
END:VEVENT
BEGIN:VEVENT
DTSTART;TZID=America/Denver:20251011T093000
DTEND;TZID=America/Denver:20251011T113000
DTSTAMP:20260421T200214
CREATED:20231027T172921Z
LAST-MODIFIED:20251011T043832Z
UID:6592-1760175000-1760182200@www.olmcfssp.org
SUMMARY:Holy Name Society Meeting
DESCRIPTION:The Holy Name Society is an organization of men striving to grow in holiness. The group is open to all men of the parish over the age of 18. Meetings include Mass\, the recitation of the Holy Rosary\, breakfast and a spiritual talk.
URL:https://www.olmcfssp.org/calendar/holy-name-society-meeting-30/
END:VEVENT
BEGIN:VEVENT
DTSTART;TZID=America/Denver:20251009T093000
DTEND;TZID=America/Denver:20251009T103000
DTSTAMP:20260421T200214
CREATED:20240712T220706Z
LAST-MODIFIED:20251003T015333Z
UID:9336-1760002200-1760005800@www.olmcfssp.org
SUMMARY:Legion of Mary Meeting
DESCRIPTION:The legion exists to be a sign of Mary’s maternal love for the world and a means of enlisting all her children in the Church’s evangelizing work. It is at the disposal of the parish priest for any form of service deemed useful for the welfare of the Church.
URL:https://www.olmcfssp.org/calendar/legion-of-mary-meeting-277/
END:VEVENT
BEGIN:VEVENT
DTSTART;TZID=America/Denver:20251008T190000
DTEND;TZID=America/Denver:20251008T203000
DTSTAMP:20260421T200214
CREATED:20231027T173643Z
LAST-MODIFIED:20251004T020828Z
UID:7234-1759950000-1759955400@www.olmcfssp.org
SUMMARY:Choir Practice
DESCRIPTION:
URL:https://www.olmcfssp.org/calendar/choir-practice-138/
END:VEVENT
BEGIN:VEVENT
DTSTART;TZID=America/Denver:20251007T170000
DTEND;TZID=America/Denver:20251007T180000
DTSTAMP:20260421T200214
CREATED:20231027T172519Z
LAST-MODIFIED:20251004T010836Z
UID:6418-1759856400-1759860000@www.olmcfssp.org
SUMMARY:Shepherds of Christ Prayer Group
DESCRIPTION:
URL:https://www.olmcfssp.org/calendar/shepherds-of-christ-prayer-group-140/
END:VEVENT
BEGIN:VEVENT
DTSTART;TZID=America/Denver:20251007T093000
DTEND;TZID=America/Denver:20251007T110000
DTSTAMP:20260421T200214
CREATED:20231027T173411Z
LAST-MODIFIED:20231027T173411Z
UID:7109-1759829400-1759834800@www.olmcfssp.org
SUMMARY:Tuesday Morning Book Club
DESCRIPTION:The Tuesday morning book club meets to read and discuss a selected book that assists with spiritual growth and knowledge of our wonderful Catholic faith. All members of the parish are welcome to drop by and check us out.
URL:https://www.olmcfssp.org/calendar/tuesday-morning-book-club-140/
END:VEVENT
END:VCALENDAR