BEGIN:VCALENDAR
VERSION:2.0
PRODID:-//Our Lady of Mt. Carmel - ECPv6.15.20//NONSGML v1.0//EN
CALSCALE:GREGORIAN
METHOD:PUBLISH
X-WR-CALNAME:Our Lady of Mt. Carmel
X-ORIGINAL-URL:https://www.olmcfssp.org
X-WR-CALDESC:Events for Our Lady of Mt. Carmel
REFRESH-INTERVAL;VALUE=DURATION:PT1H
X-Robots-Tag:noindex
X-PUBLISHED-TTL:PT1H
BEGIN:VTIMEZONE
TZID:America/Denver
BEGIN:DAYLIGHT
TZOFFSETFROM:-0700
TZOFFSETTO:-0600
TZNAME:MDT
DTSTART:20240310T090000
END:DAYLIGHT
BEGIN:STANDARD
TZOFFSETFROM:-0600
TZOFFSETTO:-0700
TZNAME:MST
DTSTART:20241103T080000
END:STANDARD
BEGIN:DAYLIGHT
TZOFFSETFROM:-0700
TZOFFSETTO:-0600
TZNAME:MDT
DTSTART:20250309T090000
END:DAYLIGHT
BEGIN:STANDARD
TZOFFSETFROM:-0600
TZOFFSETTO:-0700
TZNAME:MST
DTSTART:20251102T080000
END:STANDARD
BEGIN:DAYLIGHT
TZOFFSETFROM:-0700
TZOFFSETTO:-0600
TZNAME:MDT
DTSTART:20260308T090000
END:DAYLIGHT
BEGIN:STANDARD
TZOFFSETFROM:-0600
TZOFFSETTO:-0700
TZNAME:MST
DTSTART:20261101T080000
END:STANDARD
END:VTIMEZONE
BEGIN:VEVENT
DTSTART;TZID=America/Denver:20251215T180000
DTEND;TZID=America/Denver:20251215T190000
DTSTAMP:20260421T181753
CREATED:20240712T220708Z
LAST-MODIFIED:20251212T030830Z
UID:9369-1765821600-1765825200@www.olmcfssp.org
SUMMARY:Legion of Mary Meeting
DESCRIPTION:The legion exists to be a sign of Mary’s maternal love for the world and a means of enlisting all her children in the Church’s evangelizing work. It is at the disposal of the parish priest for any form of service deemed useful for the welfare of the Church.
URL:https://www.olmcfssp.org/calendar/legion-of-mary-meeting-296/
END:VEVENT
BEGIN:VEVENT
DTSTART;TZID=America/Denver:20251214T170000
DTEND;TZID=America/Denver:20251214T180000
DTSTAMP:20260421T181753
CREATED:20231215T182414Z
LAST-MODIFIED:20251213T023847Z
UID:8648-1765731600-1765735200@www.olmcfssp.org
SUMMARY:Sung Vespers
DESCRIPTION:
URL:https://www.olmcfssp.org/calendar/sung-vespers-136/
END:VEVENT
BEGIN:VEVENT
DTSTART;TZID=America/Denver:20251214T123000
DTEND;TZID=America/Denver:20251214T140000
DTSTAMP:20260421T181753
CREATED:20240712T220707Z
LAST-MODIFIED:20251212T030830Z
UID:9368-1765715400-1765720800@www.olmcfssp.org
SUMMARY:Knights of Columbus Meeting
DESCRIPTION:As faithful Catholics\, we are called to be salt and light in this material world. As traditional Catholics within the Church Universal\, we are sometimes called\, in charity\, to bring more illumination and flavor to our fellow Catholics. Let us join with him in spreading the message within the Knights of Columbus.
URL:https://www.olmcfssp.org/calendar/knights-of-columbus-meeting-33/
END:VEVENT
BEGIN:VEVENT
DTSTART;TZID=America/Denver:20251213T130000
DTEND;TZID=America/Denver:20251213T160000
DTSTAMP:20260421T181753
CREATED:20240712T220707Z
LAST-MODIFIED:20251212T030830Z
UID:9367-1765630800-1765641600@www.olmcfssp.org
SUMMARY:Hibernia Music Group
DESCRIPTION:An OLMC acoustic music group. We play traditional Irish\, Folk and Americana music. All are welcome to join us\, beginner or advanced\, Instrumentalist or Vocalist. Our goal is to sharpen our skills\, increase our musical knowledge\, have good Catholic fellowship\, and share our music.
URL:https://www.olmcfssp.org/calendar/hibernia-music-group-66/
END:VEVENT
BEGIN:VEVENT
DTSTART;TZID=America/Denver:20251213T093000
DTEND;TZID=America/Denver:20251213T130000
DTSTAMP:20260421T181753
CREATED:20231215T192333Z
LAST-MODIFIED:20251213T030828Z
UID:8659-1765618200-1765630800@www.olmcfssp.org
SUMMARY:St. Teresa of Jesus Association
DESCRIPTION:A formation in the spirituality of St. Teresa of Jesus within a Study Group composed of men and women over the age of 25 years. This formation includes daily Mass\, Lectio Divina\, Divine Office and the living a life of apostolic endeavors: ministering to our families and the world.  The members endeavor to give glory to God\, to honor our Blessed Lady of Carmel and to aid our Holy Mother the Church by their prayers.
URL:https://www.olmcfssp.org/calendar/st-teresa-of-jesus-association-33/
END:VEVENT
BEGIN:VEVENT
DTSTART;TZID=America/Denver:20251213T093000
DTEND;TZID=America/Denver:20251213T113000
DTSTAMP:20260421T181753
CREATED:20231215T193825Z
LAST-MODIFIED:20251213T055331Z
UID:8662-1765618200-1765625400@www.olmcfssp.org
SUMMARY:Holy Name Society Meeting
DESCRIPTION:The Holy Name Society is an organization of men striving to grow in holiness. The group is open to all men of the parish over the age of 18. Meetings include Mass\, the recitation of the Holy Rosary\, breakfast and a spiritual talk.
URL:https://www.olmcfssp.org/calendar/holy-name-society-meeting-32/
END:VEVENT
BEGIN:VEVENT
DTSTART;TZID=America/Denver:20251211T093000
DTEND;TZID=America/Denver:20251211T103000
DTSTAMP:20260421T181753
CREATED:20240712T220707Z
LAST-MODIFIED:20251205T030830Z
UID:9366-1765445400-1765449000@www.olmcfssp.org
SUMMARY:Legion of Mary Meeting
DESCRIPTION:The legion exists to be a sign of Mary’s maternal love for the world and a means of enlisting all her children in the Church’s evangelizing work. It is at the disposal of the parish priest for any form of service deemed useful for the welfare of the Church.
URL:https://www.olmcfssp.org/calendar/legion-of-mary-meeting-295/
END:VEVENT
BEGIN:VEVENT
DTSTART;TZID=America/Denver:20251210T190000
DTEND;TZID=America/Denver:20251210T203000
DTSTAMP:20260421T181753
CREATED:20231215T203834Z
LAST-MODIFIED:20251206T035343Z
UID:8668-1765393200-1765398600@www.olmcfssp.org
SUMMARY:Choir Practice
DESCRIPTION:
URL:https://www.olmcfssp.org/calendar/choir-practice-147/
END:VEVENT
BEGIN:VEVENT
DTSTART;TZID=America/Denver:20251209T170000
DTEND;TZID=America/Denver:20251209T180000
DTSTAMP:20260421T181753
CREATED:20231215T182414Z
LAST-MODIFIED:20251206T023842Z
UID:8647-1765299600-1765303200@www.olmcfssp.org
SUMMARY:Shepherds of Christ Prayer Group
DESCRIPTION:
URL:https://www.olmcfssp.org/calendar/shepherds-of-christ-prayer-group-149/
END:VEVENT
BEGIN:VEVENT
DTSTART;TZID=America/Denver:20251209T093000
DTEND;TZID=America/Denver:20251209T110000
DTSTAMP:20260421T181753
CREATED:20231215T195340Z
LAST-MODIFIED:20251206T042330Z
UID:8665-1765272600-1765278000@www.olmcfssp.org
SUMMARY:Tuesday Morning Book Club
DESCRIPTION:The Tuesday morning book club meets to read and discuss a selected book that assists with spiritual growth and knowledge of our wonderful Catholic faith. All members of the parish are welcome to drop by and check us out.
URL:https://www.olmcfssp.org/calendar/tuesday-morning-book-club-148/
END:VEVENT
BEGIN:VEVENT
DTSTART;TZID=America/Denver:20251209T093000
DTEND;TZID=America/Denver:20251209T103000
DTSTAMP:20260421T181753
CREATED:20240110T185520Z
LAST-MODIFIED:20251206T023842Z
UID:8722-1765272600-1765276200@www.olmcfssp.org
SUMMARY:Holy Face Devotion Group
DESCRIPTION:His Holy Face Ministry’s mission is to bring the Face of God back into the world to breathe life into souls by making reparation for the sins committed against the majesty of God and the Catholic Church. Join us as a community in making public reparation before a 2nd class relic image of the Veil of St. Veronica on the second Tuesday or third Saturday of each month after the 8:30 AM mass. We also offer presentations on the Holy Face Devotion\, a Home Enthronement Program with the image\, and a Parish Enthronement Program to share with a wider audience.
URL:https://www.olmcfssp.org/calendar/holy-face-devotion-group-41/
END:VEVENT
BEGIN:VEVENT
DTSTART;TZID=America/Denver:20251208T180000
DTEND;TZID=America/Denver:20251208T190000
DTSTAMP:20260421T181753
CREATED:20240712T220707Z
LAST-MODIFIED:20251205T030830Z
UID:9365-1765216800-1765220400@www.olmcfssp.org
SUMMARY:Legion of Mary Meeting
DESCRIPTION:The legion exists to be a sign of Mary’s maternal love for the world and a means of enlisting all her children in the Church’s evangelizing work. It is at the disposal of the parish priest for any form of service deemed useful for the welfare of the Church.
URL:https://www.olmcfssp.org/calendar/legion-of-mary-meeting-294/
END:VEVENT
BEGIN:VEVENT
DTSTART;TZID=America/Denver:20251207T170000
DTEND;TZID=America/Denver:20251207T180000
DTSTAMP:20260421T181753
CREATED:20231208T182334Z
LAST-MODIFIED:20251206T023842Z
UID:8620-1765126800-1765130400@www.olmcfssp.org
SUMMARY:Sung Vespers
DESCRIPTION:
URL:https://www.olmcfssp.org/calendar/sung-vespers-135/
END:VEVENT
BEGIN:VEVENT
DTSTART;TZID=America/Denver:20251207T140000
DTEND;TZID=America/Denver:20251207T170000
DTSTAMP:20260421T181753
CREATED:20240712T220707Z
LAST-MODIFIED:20251205T030830Z
UID:9364-1765116000-1765126800@www.olmcfssp.org
SUMMARY:Laeta Vita
DESCRIPTION:Leata Vita (Joyful Life) is a group for single women ages 18-35. The purpose of our group is to meet and grow in fellowship with other women who are in a similar season of life. We meet two times a month. The first meeting of the month consists of discussing a book as part of our book club and socializing with each other. The second meeting of the month consists of a fun outing or activity (and every now and then something charitable for the parish or some other organization)\, meant to give the members a chance to get out and have some fun.
URL:https://www.olmcfssp.org/calendar/laeta-vita-59/
END:VEVENT
BEGIN:VEVENT
DTSTART;TZID=America/Denver:20251206T093000
DTEND;TZID=America/Denver:20251206T113000
DTSTAMP:20260421T181753
CREATED:20240110T230818Z
LAST-MODIFIED:20251206T055333Z
UID:8767-1765013400-1765020600@www.olmcfssp.org
SUMMARY:Confraternity of Christian Mothers
DESCRIPTION:All women aged 16 and up of all walks of life are invited to attend. Some of us are called to physical motherhood\, but we are all called to spiritual motherhood. 
URL:https://www.olmcfssp.org/calendar/confraternity-of-christian-mothers-78/
END:VEVENT
BEGIN:VEVENT
DTSTART;TZID=America/Denver:20251204T093000
DTEND;TZID=America/Denver:20251204T103000
DTSTAMP:20260421T181753
CREATED:20240712T220707Z
LAST-MODIFIED:20251128T030838Z
UID:9363-1764840600-1764844200@www.olmcfssp.org
SUMMARY:Legion of Mary Meeting
DESCRIPTION:The legion exists to be a sign of Mary’s maternal love for the world and a means of enlisting all her children in the Church’s evangelizing work. It is at the disposal of the parish priest for any form of service deemed useful for the welfare of the Church.
URL:https://www.olmcfssp.org/calendar/legion-of-mary-meeting-293/
END:VEVENT
BEGIN:VEVENT
DTSTART;TZID=America/Denver:20251203T190000
DTEND;TZID=America/Denver:20251203T203000
DTSTAMP:20260421T181753
CREATED:20231208T202334Z
LAST-MODIFIED:20251129T035330Z
UID:8642-1764788400-1764793800@www.olmcfssp.org
SUMMARY:Choir Practice
DESCRIPTION:
URL:https://www.olmcfssp.org/calendar/choir-practice-146/
END:VEVENT
BEGIN:VEVENT
DTSTART;TZID=America/Denver:20251203T183000
DTEND;TZID=America/Denver:20251203T203000
DTSTAMP:20260421T181753
CREATED:20231208T192333Z
LAST-MODIFIED:20251129T030826Z
UID:8632-1764786600-1764793800@www.olmcfssp.org
SUMMARY:Safety Team Meeting
DESCRIPTION:The purpose of the OLMC Safety Team is to provide a safe and secure environment for all parishioners and visitors. Primarily\, this is accomplished by the observation of people\, places and events and your assessment of situations and then to follow through with appropriate action.
URL:https://www.olmcfssp.org/calendar/safety-team-meeting-34/
END:VEVENT
BEGIN:VEVENT
DTSTART;TZID=America/Denver:20251202T170000
DTEND;TZID=America/Denver:20251202T180000
DTSTAMP:20260421T181753
CREATED:20231208T182334Z
LAST-MODIFIED:20251129T023827Z
UID:8619-1764694800-1764698400@www.olmcfssp.org
SUMMARY:Shepherds of Christ Prayer Group
DESCRIPTION:
URL:https://www.olmcfssp.org/calendar/shepherds-of-christ-prayer-group-148/
END:VEVENT
BEGIN:VEVENT
DTSTART;TZID=America/Denver:20251202T093000
DTEND;TZID=America/Denver:20251202T110000
DTSTAMP:20260421T181753
CREATED:20231208T195327Z
LAST-MODIFIED:20251129T042333Z
UID:8638-1764667800-1764673200@www.olmcfssp.org
SUMMARY:Tuesday Morning Book Club
DESCRIPTION:The Tuesday morning book club meets to read and discuss a selected book that assists with spiritual growth and knowledge of our wonderful Catholic faith. All members of the parish are welcome to drop by and check us out.
URL:https://www.olmcfssp.org/calendar/tuesday-morning-book-club-147/
END:VEVENT
BEGIN:VEVENT
DTSTART;TZID=America/Denver:20251201T180000
DTEND;TZID=America/Denver:20251201T190000
DTSTAMP:20260421T181753
CREATED:20240712T220707Z
LAST-MODIFIED:20251128T030838Z
UID:9362-1764612000-1764615600@www.olmcfssp.org
SUMMARY:Legion of Mary Meeting
DESCRIPTION:The legion exists to be a sign of Mary’s maternal love for the world and a means of enlisting all her children in the Church’s evangelizing work. It is at the disposal of the parish priest for any form of service deemed useful for the welfare of the Church.
URL:https://www.olmcfssp.org/calendar/legion-of-mary-meeting-292/
END:VEVENT
BEGIN:VEVENT
DTSTART;TZID=America/Denver:20251130T170000
DTEND;TZID=America/Denver:20251130T180000
DTSTAMP:20260421T181753
CREATED:20231201T182756Z
LAST-MODIFIED:20251129T023827Z
UID:8550-1764522000-1764525600@www.olmcfssp.org
SUMMARY:Sung Vespers
DESCRIPTION:
URL:https://www.olmcfssp.org/calendar/sung-vespers-134/
END:VEVENT
BEGIN:VEVENT
DTSTART;TZID=America/Denver:20251127T093000
DTEND;TZID=America/Denver:20251127T103000
DTSTAMP:20260421T181753
CREATED:20240712T220707Z
LAST-MODIFIED:20251121T030831Z
UID:9361-1764235800-1764239400@www.olmcfssp.org
SUMMARY:Legion of Mary Meeting
DESCRIPTION:The legion exists to be a sign of Mary’s maternal love for the world and a means of enlisting all her children in the Church’s evangelizing work. It is at the disposal of the parish priest for any form of service deemed useful for the welfare of the Church.
URL:https://www.olmcfssp.org/calendar/legion-of-mary-meeting-291/
END:VEVENT
BEGIN:VEVENT
DTSTART;TZID=America/Denver:20251126T190000
DTEND;TZID=America/Denver:20251126T203000
DTSTAMP:20260421T181753
CREATED:20231201T202330Z
LAST-MODIFIED:20251122T033830Z
UID:8572-1764183600-1764189000@www.olmcfssp.org
SUMMARY:Choir Practice
DESCRIPTION:
URL:https://www.olmcfssp.org/calendar/choir-practice-145/
END:VEVENT
BEGIN:VEVENT
DTSTART;TZID=America/Denver:20251126T180000
DTEND;TZID=America/Denver:20251126T210000
DTSTAMP:20260421T181753
CREATED:20240712T220707Z
LAST-MODIFIED:20251121T030831Z
UID:9360-1764180000-1764190800@www.olmcfssp.org
SUMMARY:Hibernia Music Group
DESCRIPTION:An OLMC acoustic music group. We play traditional Irish\, Folk and Americana music. All are welcome to join us\, beginner or advanced\, Instrumentalist or Vocalist. Our goal is to sharpen our skills\, increase our musical knowledge\, have good Catholic fellowship\, and share our music.
URL:https://www.olmcfssp.org/calendar/hibernia-music-group-65/
END:VEVENT
BEGIN:VEVENT
DTSTART;TZID=America/Denver:20251125T170000
DTEND;TZID=America/Denver:20251125T180000
DTSTAMP:20260421T181753
CREATED:20231201T182756Z
LAST-MODIFIED:20251122T022337Z
UID:8549-1764090000-1764093600@www.olmcfssp.org
SUMMARY:Shepherds of Christ Prayer Group
DESCRIPTION:
URL:https://www.olmcfssp.org/calendar/shepherds-of-christ-prayer-group-147/
END:VEVENT
BEGIN:VEVENT
DTSTART;TZID=America/Denver:20251125T093000
DTEND;TZID=America/Denver:20251125T110000
DTSTAMP:20260421T181753
CREATED:20231201T195335Z
LAST-MODIFIED:20251122T040832Z
UID:8569-1764063000-1764068400@www.olmcfssp.org
SUMMARY:Tuesday Morning Book Club
DESCRIPTION:The Tuesday morning book club meets to read and discuss a selected book that assists with spiritual growth and knowledge of our wonderful Catholic faith. All members of the parish are welcome to drop by and check us out.
URL:https://www.olmcfssp.org/calendar/tuesday-morning-book-club-146/
END:VEVENT
BEGIN:VEVENT
DTSTART;TZID=America/Denver:20251124T180000
DTEND;TZID=America/Denver:20251124T190000
DTSTAMP:20260421T181753
CREATED:20240712T220707Z
LAST-MODIFIED:20251121T030831Z
UID:9359-1764007200-1764010800@www.olmcfssp.org
SUMMARY:Legion of Mary Meeting
DESCRIPTION:The legion exists to be a sign of Mary’s maternal love for the world and a means of enlisting all her children in the Church’s evangelizing work. It is at the disposal of the parish priest for any form of service deemed useful for the welfare of the Church.
URL:https://www.olmcfssp.org/calendar/legion-of-mary-meeting-290/
END:VEVENT
BEGIN:VEVENT
DTSTART;TZID=America/Denver:20251123T170000
DTEND;TZID=America/Denver:20251123T180000
DTSTAMP:20260421T181753
CREATED:20231124T182340Z
LAST-MODIFIED:20251122T022337Z
UID:8500-1763917200-1763920800@www.olmcfssp.org
SUMMARY:Sung Vespers
DESCRIPTION:
URL:https://www.olmcfssp.org/calendar/sung-vespers-133/
END:VEVENT
BEGIN:VEVENT
DTSTART;TZID=America/Denver:20251123T123000
DTEND;TZID=America/Denver:20251123T141500
DTSTAMP:20260421T181753
CREATED:20240712T220707Z
LAST-MODIFIED:20251121T030831Z
UID:9358-1763901000-1763907300@www.olmcfssp.org
SUMMARY:Carmel Rookies Chess Club
DESCRIPTION:Carmel Rookies Chess Club for players under 18. Players/parents must RSVP to Mr. Mudd at rdm3rdm3@gmail.com to reserve their spot as space is limited.
URL:https://www.olmcfssp.org/calendar/carmel-rookies-chess-club-68/
END:VEVENT
END:VCALENDAR