BEGIN:VCALENDAR
VERSION:2.0
PRODID:-//Our Lady of Mt. Carmel - ECPv6.15.20//NONSGML v1.0//EN
CALSCALE:GREGORIAN
METHOD:PUBLISH
X-WR-CALNAME:Our Lady of Mt. Carmel
X-ORIGINAL-URL:https://www.olmcfssp.org
X-WR-CALDESC:Events for Our Lady of Mt. Carmel
REFRESH-INTERVAL;VALUE=DURATION:PT1H
X-Robots-Tag:noindex
X-PUBLISHED-TTL:PT1H
BEGIN:VTIMEZONE
TZID:America/Denver
BEGIN:DAYLIGHT
TZOFFSETFROM:-0700
TZOFFSETTO:-0600
TZNAME:MDT
DTSTART:20250309T090000
END:DAYLIGHT
BEGIN:STANDARD
TZOFFSETFROM:-0600
TZOFFSETTO:-0700
TZNAME:MST
DTSTART:20251102T080000
END:STANDARD
BEGIN:DAYLIGHT
TZOFFSETFROM:-0700
TZOFFSETTO:-0600
TZNAME:MDT
DTSTART:20260308T090000
END:DAYLIGHT
BEGIN:STANDARD
TZOFFSETFROM:-0600
TZOFFSETTO:-0700
TZNAME:MST
DTSTART:20261101T080000
END:STANDARD
BEGIN:DAYLIGHT
TZOFFSETFROM:-0700
TZOFFSETTO:-0600
TZNAME:MDT
DTSTART:20270314T090000
END:DAYLIGHT
BEGIN:STANDARD
TZOFFSETFROM:-0600
TZOFFSETTO:-0700
TZNAME:MST
DTSTART:20271107T080000
END:STANDARD
END:VTIMEZONE
BEGIN:VEVENT
DTSTART;TZID=America/Denver:20261101T140000
DTEND;TZID=America/Denver:20261101T170000
DTSTAMP:20260421T194432
CREATED:20250314T000844Z
LAST-MODIFIED:20260417T023830Z
UID:11783-1793541600-1793552400@www.olmcfssp.org
SUMMARY:Laeta Vita
DESCRIPTION:Leata Vita (Joyful Life) is a group for single women ages 18-35. The purpose of our group is to meet and grow in fellowship with other women who are in a similar season of life. We meet two times a month. The first meeting of the month consists of discussing a book as part of our book club and socializing with each other. The second meeting of the month consists of a fun outing or activity (and every now and then something charitable for the parish or some other organization)\, meant to give the members a chance to get out and have some fun.
URL:https://www.olmcfssp.org/calendar/laeta-vita-81/
END:VEVENT
BEGIN:VEVENT
DTSTART;TZID=America/Denver:20261101T170000
DTEND;TZID=America/Denver:20261101T180000
DTSTAMP:20260421T194432
CREATED:20241108T235350Z
LAST-MODIFIED:20260418T022331Z
UID:10708-1793552400-1793556000@www.olmcfssp.org
SUMMARY:Sung Vespers
DESCRIPTION:
URL:https://www.olmcfssp.org/calendar/sung-vespers-182/
END:VEVENT
BEGIN:VEVENT
DTSTART;TZID=America/Denver:20261102T180000
DTEND;TZID=America/Denver:20261102T190000
DTSTAMP:20260421T194432
CREATED:20250314T000844Z
LAST-MODIFIED:20260417T023830Z
UID:11784-1793642400-1793646000@www.olmcfssp.org
SUMMARY:Legion of Mary Meeting
DESCRIPTION:The legion exists to be a sign of Mary’s maternal love for the world and a means of enlisting all her children in the Church’s evangelizing work. It is at the disposal of the parish priest for any form of service deemed useful for the welfare of the Church.
URL:https://www.olmcfssp.org/calendar/legion-of-mary-meeting-388/
END:VEVENT
BEGIN:VEVENT
DTSTART;TZID=America/Denver:20261103T093000
DTEND;TZID=America/Denver:20261103T110000
DTSTAMP:20260421T194432
CREATED:20241109T003826Z
LAST-MODIFIED:20260418T053834Z
UID:10714-1793698200-1793703600@www.olmcfssp.org
SUMMARY:Tuesday Morning Book Club
DESCRIPTION:The Tuesday morning book club meets to read and discuss a selected book that assists with spiritual growth and knowledge of our wonderful Catholic faith. All members of the parish are welcome to drop by and check us out.
URL:https://www.olmcfssp.org/calendar/tuesday-morning-book-club-195/
END:VEVENT
BEGIN:VEVENT
DTSTART;TZID=America/Denver:20261103T170000
DTEND;TZID=America/Denver:20261103T180000
DTSTAMP:20260421T194432
CREATED:20241108T235350Z
LAST-MODIFIED:20260418T022331Z
UID:10709-1793725200-1793728800@www.olmcfssp.org
SUMMARY:Shepherds of Christ Prayer Group
DESCRIPTION:
URL:https://www.olmcfssp.org/calendar/shepherds-of-christ-prayer-group-196/
END:VEVENT
BEGIN:VEVENT
DTSTART;TZID=America/Denver:20261104T183000
DTEND;TZID=America/Denver:20261104T203000
DTSTAMP:20260421T194432
CREATED:20241109T002328Z
LAST-MODIFIED:20260418T025329Z
UID:10711-1793817000-1793824200@www.olmcfssp.org
SUMMARY:Safety Team Meeting
DESCRIPTION:The purpose of the OLMC Safety Team is to provide a safe and secure environment for all parishioners and visitors. Primarily\, this is accomplished by the observation of people\, places and events and your assessment of situations and then to follow through with appropriate action.
URL:https://www.olmcfssp.org/calendar/safety-team-meeting-45/
END:VEVENT
BEGIN:VEVENT
DTSTART;TZID=America/Denver:20261104T190000
DTEND;TZID=America/Denver:20261104T203000
DTSTAMP:20260421T194432
CREATED:20241109T012329Z
LAST-MODIFIED:20260418T032328Z
UID:10718-1793818800-1793824200@www.olmcfssp.org
SUMMARY:Choir Practice
DESCRIPTION:
URL:https://www.olmcfssp.org/calendar/choir-practice-194/
END:VEVENT
BEGIN:VEVENT
DTSTART;TZID=America/Denver:20261105T093000
DTEND;TZID=America/Denver:20261105T103000
DTSTAMP:20260421T194432
CREATED:20250314T000844Z
LAST-MODIFIED:20260417T023830Z
UID:11785-1793871000-1793874600@www.olmcfssp.org
SUMMARY:Legion of Mary Meeting
DESCRIPTION:The legion exists to be a sign of Mary’s maternal love for the world and a means of enlisting all her children in the Church’s evangelizing work. It is at the disposal of the parish priest for any form of service deemed useful for the welfare of the Church.
URL:https://www.olmcfssp.org/calendar/legion-of-mary-meeting-389/
END:VEVENT
BEGIN:VEVENT
DTSTART;TZID=America/Denver:20261107T093000
DTEND;TZID=America/Denver:20261107T113000
DTSTAMP:20260421T194432
CREATED:20241109T025329Z
LAST-MODIFIED:20260418T055331Z
UID:10721-1794043800-1794051000@www.olmcfssp.org
SUMMARY:Confraternity of Christian Mothers
DESCRIPTION:All women aged 16 and up of all walks of life are invited to attend. Some of us are called to physical motherhood\, but we are all called to spiritual motherhood. 
URL:https://www.olmcfssp.org/calendar/confraternity-of-christian-mothers-89/
END:VEVENT
BEGIN:VEVENT
DTSTART;TZID=America/Denver:20261108T123000
DTEND;TZID=America/Denver:20261108T140000
DTSTAMP:20260421T194432
CREATED:20250314T000844Z
LAST-MODIFIED:20260417T023830Z
UID:11786-1794141000-1794146400@www.olmcfssp.org
SUMMARY:Knights of Columbus Meeting
DESCRIPTION:As faithful Catholics\, we are called to be salt and light in this material world. As traditional Catholics within the Church Universal\, we are sometimes called\, in charity\, to bring more illumination and flavor to our fellow Catholics. Let us join with him in spreading the message within the Knights of Columbus.
URL:https://www.olmcfssp.org/calendar/knights-of-columbus-meeting-44/
END:VEVENT
BEGIN:VEVENT
DTSTART;TZID=America/Denver:20261108T170000
DTEND;TZID=America/Denver:20261108T180000
DTSTAMP:20260421T194432
CREATED:20241115T235335Z
LAST-MODIFIED:20260418T022331Z
UID:10797-1794157200-1794160800@www.olmcfssp.org
SUMMARY:Sung Vespers
DESCRIPTION:
URL:https://www.olmcfssp.org/calendar/sung-vespers-183/
END:VEVENT
BEGIN:VEVENT
DTSTART;TZID=America/Denver:20261109T180000
DTEND;TZID=America/Denver:20261109T190000
DTSTAMP:20260421T194432
CREATED:20250314T000844Z
LAST-MODIFIED:20260417T023830Z
UID:11787-1794247200-1794250800@www.olmcfssp.org
SUMMARY:Legion of Mary Meeting
DESCRIPTION:The legion exists to be a sign of Mary’s maternal love for the world and a means of enlisting all her children in the Church’s evangelizing work. It is at the disposal of the parish priest for any form of service deemed useful for the welfare of the Church.
URL:https://www.olmcfssp.org/calendar/legion-of-mary-meeting-390/
END:VEVENT
BEGIN:VEVENT
DTSTART;TZID=America/Denver:20261110T093000
DTEND;TZID=America/Denver:20261110T103000
DTSTAMP:20260421T194432
CREATED:20241115T235335Z
LAST-MODIFIED:20260418T022332Z
UID:10798-1794303000-1794306600@www.olmcfssp.org
SUMMARY:Holy Face Devotion Group
DESCRIPTION:His Holy Face Ministry’s mission is to bring the Face of God back into the world to breathe life into souls by making reparation for the sins committed against the majesty of God and the Catholic Church. Join us as a community in making public reparation before a 2nd class relic image of the Veil of St. Veronica on the second Tuesday or third Saturday of each month after the 8:30 AM mass. We also offer presentations on the Holy Face Devotion\, a Home Enthronement Program with the image\, and a Parish Enthronement Program to share with a wider audience.
URL:https://www.olmcfssp.org/calendar/holy-face-devotion-group-52/
END:VEVENT
BEGIN:VEVENT
DTSTART;TZID=America/Denver:20261110T093000
DTEND;TZID=America/Denver:20261110T110000
DTSTAMP:20260421T194432
CREATED:20241116T003836Z
LAST-MODIFIED:20260418T053834Z
UID:10805-1794303000-1794308400@www.olmcfssp.org
SUMMARY:Tuesday Morning Book Club
DESCRIPTION:The Tuesday morning book club meets to read and discuss a selected book that assists with spiritual growth and knowledge of our wonderful Catholic faith. All members of the parish are welcome to drop by and check us out.
URL:https://www.olmcfssp.org/calendar/tuesday-morning-book-club-196/
END:VEVENT
BEGIN:VEVENT
DTSTART;TZID=America/Denver:20261110T170000
DTEND;TZID=America/Denver:20261110T180000
DTSTAMP:20260421T194432
CREATED:20241115T235335Z
LAST-MODIFIED:20260418T022332Z
UID:10799-1794330000-1794333600@www.olmcfssp.org
SUMMARY:Shepherds of Christ Prayer Group
DESCRIPTION:
URL:https://www.olmcfssp.org/calendar/shepherds-of-christ-prayer-group-197/
END:VEVENT
BEGIN:VEVENT
DTSTART;TZID=America/Denver:20261111T190000
DTEND;TZID=America/Denver:20261111T203000
DTSTAMP:20260421T194432
CREATED:20241116T013828Z
LAST-MODIFIED:20260418T032328Z
UID:10810-1794423600-1794429000@www.olmcfssp.org
SUMMARY:Choir Practice
DESCRIPTION:
URL:https://www.olmcfssp.org/calendar/choir-practice-195/
END:VEVENT
BEGIN:VEVENT
DTSTART;TZID=America/Denver:20261112T093000
DTEND;TZID=America/Denver:20261112T103000
DTSTAMP:20260421T194432
CREATED:20250314T000844Z
LAST-MODIFIED:20260417T023830Z
UID:11788-1794475800-1794479400@www.olmcfssp.org
SUMMARY:Legion of Mary Meeting
DESCRIPTION:The legion exists to be a sign of Mary’s maternal love for the world and a means of enlisting all her children in the Church’s evangelizing work. It is at the disposal of the parish priest for any form of service deemed useful for the welfare of the Church.
URL:https://www.olmcfssp.org/calendar/legion-of-mary-meeting-391/
END:VEVENT
BEGIN:VEVENT
DTSTART;TZID=America/Denver:20261114T093000
DTEND;TZID=America/Denver:20261114T113000
DTSTAMP:20260421T194432
CREATED:20241116T025326Z
LAST-MODIFIED:20260418T055331Z
UID:10814-1794648600-1794655800@www.olmcfssp.org
SUMMARY:Holy Name Society Meeting
DESCRIPTION:The Holy Name Society is an organization of men striving to grow in holiness. The group is open to all men of the parish over the age of 18. Meetings include Mass\, the recitation of the Holy Rosary\, breakfast and a spiritual talk.
URL:https://www.olmcfssp.org/calendar/holy-name-society-meeting-43/
END:VEVENT
BEGIN:VEVENT
DTSTART;TZID=America/Denver:20261114T093000
DTEND;TZID=America/Denver:20261114T130000
DTSTAMP:20260421T194432
CREATED:20241116T002327Z
LAST-MODIFIED:20260418T025329Z
UID:10802-1794648600-1794661200@www.olmcfssp.org
SUMMARY:St. Teresa of Jesus Association
DESCRIPTION:A formation in the spirituality of St. Teresa of Jesus within a Study Group composed of men and women over the age of 25 years. This formation includes daily Mass\, Lectio Divina\, Divine Office and the living a life of apostolic endeavors: ministering to our families and the world.  The members endeavor to give glory to God\, to honor our Blessed Lady of Carmel and to aid our Holy Mother the Church by their prayers.
URL:https://www.olmcfssp.org/calendar/st-teresa-of-jesus-association-44/
END:VEVENT
BEGIN:VEVENT
DTSTART;TZID=America/Denver:20261114T130000
DTEND;TZID=America/Denver:20261114T160000
DTSTAMP:20260421T194432
CREATED:20250314T000844Z
LAST-MODIFIED:20260417T023830Z
UID:11789-1794661200-1794672000@www.olmcfssp.org
SUMMARY:Hibernia Music Group
DESCRIPTION:An OLMC acoustic music group. We play traditional Irish\, Folk and Americana music. All are welcome to join us\, beginner or advanced\, Instrumentalist or Vocalist. Our goal is to sharpen our skills\, increase our musical knowledge\, have good Catholic fellowship\, and share our music.
URL:https://www.olmcfssp.org/calendar/hibernia-music-group-88/
END:VEVENT
BEGIN:VEVENT
DTSTART;TZID=America/Denver:20261115T123000
DTEND;TZID=America/Denver:20261115T140000
DTSTAMP:20260421T194432
CREATED:20241116T003836Z
LAST-MODIFIED:20260418T053834Z
UID:10806-1794745800-1794751200@www.olmcfssp.org
SUMMARY:Creation Study Group
DESCRIPTION:This group is dedicated to studying the traditional Catholic teaching on creation and Genesis as believed and taught by the Doctors\, Fathers\, Councils and Popes for two thousand years. We explore various aspects of the creation/evolutionism debate and the effects of evolutionary thought on culture\, science and the Church. As Pope St Pius X said about Modernism\, that it is the “synthesis of all heresies.” And “the chief of their doctrines\, that of evolution.” \nAll are welcome to attend and contribute their experience and expertise.
URL:https://www.olmcfssp.org/calendar/creation-study-group-37/
END:VEVENT
BEGIN:VEVENT
DTSTART;TZID=America/Denver:20261115T140000
DTEND;TZID=America/Denver:20261115T170000
DTSTAMP:20260421T194432
CREATED:20250314T000845Z
LAST-MODIFIED:20260417T023830Z
UID:11790-1794751200-1794762000@www.olmcfssp.org
SUMMARY:Laeta Vita
DESCRIPTION:Leata Vita (Joyful Life) is a group for single women ages 18-35. The purpose of our group is to meet and grow in fellowship with other women who are in a similar season of life. We meet two times a month. The first meeting of the month consists of discussing a book as part of our book club and socializing with each other. The second meeting of the month consists of a fun outing or activity (and every now and then something charitable for the parish or some other organization)\, meant to give the members a chance to get out and have some fun.
URL:https://www.olmcfssp.org/calendar/laeta-vita-82/
END:VEVENT
BEGIN:VEVENT
DTSTART;TZID=America/Denver:20261115T170000
DTEND;TZID=America/Denver:20261115T180000
DTSTAMP:20260421T194432
CREATED:20241122T235329Z
LAST-MODIFIED:20260418T022332Z
UID:10876-1794762000-1794765600@www.olmcfssp.org
SUMMARY:Sung Vespers
DESCRIPTION:
URL:https://www.olmcfssp.org/calendar/sung-vespers-184/
END:VEVENT
BEGIN:VEVENT
DTSTART;TZID=America/Denver:20261116T180000
DTEND;TZID=America/Denver:20261116T190000
DTSTAMP:20260421T194432
CREATED:20250314T000845Z
LAST-MODIFIED:20260417T023830Z
UID:11791-1794852000-1794855600@www.olmcfssp.org
SUMMARY:Legion of Mary Meeting
DESCRIPTION:The legion exists to be a sign of Mary’s maternal love for the world and a means of enlisting all her children in the Church’s evangelizing work. It is at the disposal of the parish priest for any form of service deemed useful for the welfare of the Church.
URL:https://www.olmcfssp.org/calendar/legion-of-mary-meeting-392/
END:VEVENT
BEGIN:VEVENT
DTSTART;TZID=America/Denver:20261117T093000
DTEND;TZID=America/Denver:20261117T110000
DTSTAMP:20260421T194432
CREATED:20241123T003829Z
LAST-MODIFIED:20260418T053834Z
UID:10884-1794907800-1794913200@www.olmcfssp.org
SUMMARY:Tuesday Morning Book Club
DESCRIPTION:The Tuesday morning book club meets to read and discuss a selected book that assists with spiritual growth and knowledge of our wonderful Catholic faith. All members of the parish are welcome to drop by and check us out.
URL:https://www.olmcfssp.org/calendar/tuesday-morning-book-club-197/
END:VEVENT
BEGIN:VEVENT
DTSTART;TZID=America/Denver:20261117T170000
DTEND;TZID=America/Denver:20261117T180000
DTSTAMP:20260421T194432
CREATED:20241122T235329Z
LAST-MODIFIED:20260418T022332Z
UID:10877-1794934800-1794938400@www.olmcfssp.org
SUMMARY:Shepherds of Christ Prayer Group
DESCRIPTION:
URL:https://www.olmcfssp.org/calendar/shepherds-of-christ-prayer-group-198/
END:VEVENT
BEGIN:VEVENT
DTSTART;TZID=America/Denver:20261118T190000
DTEND;TZID=America/Denver:20261118T203000
DTSTAMP:20260421T194432
CREATED:20241123T013837Z
LAST-MODIFIED:20260418T032328Z
UID:10889-1795028400-1795033800@www.olmcfssp.org
SUMMARY:Choir Practice
DESCRIPTION:
URL:https://www.olmcfssp.org/calendar/choir-practice-196/
END:VEVENT
BEGIN:VEVENT
DTSTART;TZID=America/Denver:20261119T093000
DTEND;TZID=America/Denver:20261119T103000
DTSTAMP:20260421T194432
CREATED:20250314T000845Z
LAST-MODIFIED:20260417T023830Z
UID:11792-1795080600-1795084200@www.olmcfssp.org
SUMMARY:Legion of Mary Meeting
DESCRIPTION:The legion exists to be a sign of Mary’s maternal love for the world and a means of enlisting all her children in the Church’s evangelizing work. It is at the disposal of the parish priest for any form of service deemed useful for the welfare of the Church.
URL:https://www.olmcfssp.org/calendar/legion-of-mary-meeting-393/
END:VEVENT
BEGIN:VEVENT
DTSTART;TZID=America/Denver:20261119T093000
DTEND;TZID=America/Denver:20261119T110000
DTSTAMP:20260421T194432
CREATED:20241123T002340Z
LAST-MODIFIED:20260418T025330Z
UID:10880-1795080600-1795086000@www.olmcfssp.org
SUMMARY:St. Therese Book Club
DESCRIPTION:Come and study the works of St. Therese as a group. All are welcome.
URL:https://www.olmcfssp.org/calendar/st-therese-book-club-45/
END:VEVENT
BEGIN:VEVENT
DTSTART;TZID=America/Denver:20261121T093000
DTEND;TZID=America/Denver:20261121T120000
DTSTAMP:20260421T194432
CREATED:20241123T025328Z
LAST-MODIFIED:20260418T055331Z
UID:10893-1795253400-1795262400@www.olmcfssp.org
SUMMARY:Altar and Rosary Society Meeting
DESCRIPTION:The Altar and Rosary Society is an organization of women who foster and spread devotion to the Holy Rosary\, maintain the cleanliness of the church sanctuary\, wash and iron altar linens\, and arrange flowers for the altar.
URL:https://www.olmcfssp.org/calendar/altar-and-rosary-society-meeting-38/
END:VEVENT
END:VCALENDAR