BEGIN:VCALENDAR
VERSION:2.0
PRODID:-//Our Lady of Mt. Carmel - ECPv6.15.20//NONSGML v1.0//EN
CALSCALE:GREGORIAN
METHOD:PUBLISH
X-WR-CALNAME:Our Lady of Mt. Carmel
X-ORIGINAL-URL:https://www.olmcfssp.org
X-WR-CALDESC:Events for Our Lady of Mt. Carmel
REFRESH-INTERVAL;VALUE=DURATION:PT1H
X-Robots-Tag:noindex
X-PUBLISHED-TTL:PT1H
BEGIN:VTIMEZONE
TZID:America/Denver
BEGIN:DAYLIGHT
TZOFFSETFROM:-0700
TZOFFSETTO:-0600
TZNAME:MDT
DTSTART:20260308T090000
END:DAYLIGHT
BEGIN:STANDARD
TZOFFSETFROM:-0600
TZOFFSETTO:-0700
TZNAME:MST
DTSTART:20261101T080000
END:STANDARD
BEGIN:DAYLIGHT
TZOFFSETFROM:-0700
TZOFFSETTO:-0600
TZNAME:MDT
DTSTART:20270314T090000
END:DAYLIGHT
BEGIN:STANDARD
TZOFFSETFROM:-0600
TZOFFSETTO:-0700
TZNAME:MST
DTSTART:20271107T080000
END:STANDARD
BEGIN:DAYLIGHT
TZOFFSETFROM:-0700
TZOFFSETTO:-0600
TZNAME:MDT
DTSTART:20280312T090000
END:DAYLIGHT
BEGIN:STANDARD
TZOFFSETFROM:-0600
TZOFFSETTO:-0700
TZNAME:MST
DTSTART:20281105T080000
END:STANDARD
END:VTIMEZONE
BEGIN:VEVENT
DTSTART;TZID=America/Denver:20271012T093000
DTEND;TZID=America/Denver:20271012T110000
DTSTAMP:20260422T161923
CREATED:20251018T023831Z
LAST-MODIFIED:20260418T053836Z
UID:13301-1823333400-1823338800@www.olmcfssp.org
SUMMARY:Tuesday Morning Book Club
DESCRIPTION:The Tuesday morning book club meets to read and discuss a selected book that assists with spiritual growth and knowledge of our wonderful Catholic faith. All members of the parish are welcome to drop by and check us out.
URL:https://www.olmcfssp.org/calendar/tuesday-morning-book-club-244/
END:VEVENT
BEGIN:VEVENT
DTSTART;TZID=America/Denver:20271012T170000
DTEND;TZID=America/Denver:20271012T180000
DTSTAMP:20260422T161923
CREATED:20251018T010835Z
LAST-MODIFIED:20260418T022334Z
UID:13291-1823360400-1823364000@www.olmcfssp.org
SUMMARY:Shepherds of Christ Prayer Group
DESCRIPTION:
URL:https://www.olmcfssp.org/calendar/shepherds-of-christ-prayer-group-245/
END:VEVENT
BEGIN:VEVENT
DTSTART;TZID=America/Denver:20271013T190000
DTEND;TZID=America/Denver:20271013T203000
DTSTAMP:20260422T161923
CREATED:20251018T020830Z
LAST-MODIFIED:20260418T032330Z
UID:13298-1823454000-1823459400@www.olmcfssp.org
SUMMARY:Choir Practice
DESCRIPTION:
URL:https://www.olmcfssp.org/calendar/choir-practice-243/
END:VEVENT
BEGIN:VEVENT
DTSTART;TZID=America/Denver:20271014T093000
DTEND;TZID=America/Denver:20271014T103000
DTSTAMP:20260422T161923
CREATED:20260206T030832Z
LAST-MODIFIED:20260417T023834Z
UID:14042-1823506200-1823509800@www.olmcfssp.org
SUMMARY:Legion of Mary Meeting
DESCRIPTION:The legion exists to be a sign of Mary’s maternal love for the world and a means of enlisting all her children in the Church’s evangelizing work. It is at the disposal of the parish priest for any form of service deemed useful for the welfare of the Church.
URL:https://www.olmcfssp.org/calendar/legion-of-mary-meeting-487/
END:VEVENT
BEGIN:VEVENT
DTSTART;TZID=America/Denver:20271016T093000
DTEND;TZID=America/Denver:20271016T120000
DTSTAMP:20260422T161923
CREATED:20251018T043834Z
LAST-MODIFIED:20260418T055332Z
UID:13308-1823679000-1823688000@www.olmcfssp.org
SUMMARY:Altar and Rosary Society Meeting
DESCRIPTION:The Altar and Rosary Society is an organization of women who foster and spread devotion to the Holy Rosary\, maintain the cleanliness of the church sanctuary\, wash and iron altar linens\, and arrange flowers for the altar.
URL:https://www.olmcfssp.org/calendar/altar-and-rosary-society-meeting-49/
END:VEVENT
BEGIN:VEVENT
DTSTART;TZID=America/Denver:20271017T123000
DTEND;TZID=America/Denver:20271017T140000
DTSTAMP:20260422T161923
CREATED:20251018T023831Z
LAST-MODIFIED:20260418T053836Z
UID:13302-1823776200-1823781600@www.olmcfssp.org
SUMMARY:Creation Study Group
DESCRIPTION:This group is dedicated to studying the traditional Catholic teaching on creation and Genesis as believed and taught by the Doctors\, Fathers\, Councils and Popes for two thousand years. We explore various aspects of the creation/evolutionism debate and the effects of evolutionary thought on culture\, science and the Church. As Pope St Pius X said about Modernism\, that it is the “synthesis of all heresies.” And “the chief of their doctrines\, that of evolution.” \nAll are welcome to attend and contribute their experience and expertise.
URL:https://www.olmcfssp.org/calendar/creation-study-group-48/
END:VEVENT
BEGIN:VEVENT
DTSTART;TZID=America/Denver:20271017T170000
DTEND;TZID=America/Denver:20271017T180000
DTSTAMP:20260422T161923
CREATED:20251018T010835Z
LAST-MODIFIED:20260418T022334Z
UID:13292-1823792400-1823796000@www.olmcfssp.org
SUMMARY:Sung Vespers
DESCRIPTION:
URL:https://www.olmcfssp.org/calendar/sung-vespers-232/
END:VEVENT
BEGIN:VEVENT
DTSTART;TZID=America/Denver:20271018T180000
DTEND;TZID=America/Denver:20271018T190000
DTSTAMP:20260422T161923
CREATED:20260206T030832Z
LAST-MODIFIED:20260417T023834Z
UID:14044-1823882400-1823886000@www.olmcfssp.org
SUMMARY:Legion of Mary Meeting
DESCRIPTION:The legion exists to be a sign of Mary’s maternal love for the world and a means of enlisting all her children in the Church’s evangelizing work. It is at the disposal of the parish priest for any form of service deemed useful for the welfare of the Church.
URL:https://www.olmcfssp.org/calendar/legion-of-mary-meeting-488/
END:VEVENT
BEGIN:VEVENT
DTSTART;TZID=America/Denver:20271019T093000
DTEND;TZID=America/Denver:20271019T110000
DTSTAMP:20260422T161923
CREATED:20251025T023836Z
LAST-MODIFIED:20260418T053836Z
UID:13344-1823938200-1823943600@www.olmcfssp.org
SUMMARY:Tuesday Morning Book Club
DESCRIPTION:The Tuesday morning book club meets to read and discuss a selected book that assists with spiritual growth and knowledge of our wonderful Catholic faith. All members of the parish are welcome to drop by and check us out.
URL:https://www.olmcfssp.org/calendar/tuesday-morning-book-club-245/
END:VEVENT
BEGIN:VEVENT
DTSTART;TZID=America/Denver:20271019T170000
DTEND;TZID=America/Denver:20271019T180000
DTSTAMP:20260422T161923
CREATED:20251025T010839Z
LAST-MODIFIED:20260418T022334Z
UID:13333-1823965200-1823968800@www.olmcfssp.org
SUMMARY:Shepherds of Christ Prayer Group
DESCRIPTION:
URL:https://www.olmcfssp.org/calendar/shepherds-of-christ-prayer-group-246/
END:VEVENT
BEGIN:VEVENT
DTSTART;TZID=America/Denver:20271020T190000
DTEND;TZID=America/Denver:20271020T203000
DTSTAMP:20260422T161923
CREATED:20251025T021022Z
LAST-MODIFIED:20260418T032330Z
UID:13339-1824058800-1824064200@www.olmcfssp.org
SUMMARY:Choir Practice
DESCRIPTION:
URL:https://www.olmcfssp.org/calendar/choir-practice-244/
END:VEVENT
BEGIN:VEVENT
DTSTART;TZID=America/Denver:20271021T093000
DTEND;TZID=America/Denver:20271021T103000
DTSTAMP:20260422T161923
CREATED:20260213T020836Z
LAST-MODIFIED:20260417T023834Z
UID:14130-1824111000-1824114600@www.olmcfssp.org
SUMMARY:Legion of Mary Meeting
DESCRIPTION:The legion exists to be a sign of Mary’s maternal love for the world and a means of enlisting all her children in the Church’s evangelizing work. It is at the disposal of the parish priest for any form of service deemed useful for the welfare of the Church.
URL:https://www.olmcfssp.org/calendar/legion-of-mary-meeting-489/
END:VEVENT
BEGIN:VEVENT
DTSTART;TZID=America/Denver:20271021T093000
DTEND;TZID=America/Denver:20271021T110000
DTSTAMP:20260422T161923
CREATED:20251025T020840Z
LAST-MODIFIED:20260418T025330Z
UID:13337-1824111000-1824116400@www.olmcfssp.org
SUMMARY:St. Therese Book Club
DESCRIPTION:Come and study the works of St. Therese as a group. All are welcome.
URL:https://www.olmcfssp.org/calendar/st-therese-book-club-56/
END:VEVENT
BEGIN:VEVENT
DTSTART;TZID=America/Denver:20271023T101500
DTEND;TZID=America/Denver:20271023T110000
DTSTAMP:20260422T161923
CREATED:20251025T042330Z
LAST-MODIFIED:20260418T060828Z
UID:13348-1824286500-1824289200@www.olmcfssp.org
SUMMARY:Planned Parenthood Prayer Vigil
DESCRIPTION:Please join us for our monthly parish prayer vigil at Planned Parenthood starting at 10:15 am. The facility is located at 7155 E 38th Ave. in Denver.
URL:https://www.olmcfssp.org/calendar/planned-parenthood-prayer-vigil-71/
END:VEVENT
BEGIN:VEVENT
DTSTART;TZID=America/Denver:20271024T123000
DTEND;TZID=America/Denver:20271024T141500
DTSTAMP:20260422T161923
CREATED:20260213T020836Z
LAST-MODIFIED:20260417T023834Z
UID:14131-1824381000-1824387300@www.olmcfssp.org
SUMMARY:Carmel Rookies Chess Club
DESCRIPTION:Carmel Rookies Chess Club for players under 18. Players/parents must RSVP to Mr. Mudd at rdm3rdm3@gmail.com to reserve their spot as space is limited.
URL:https://www.olmcfssp.org/calendar/carmel-rookies-chess-club-91/
END:VEVENT
BEGIN:VEVENT
DTSTART;TZID=America/Denver:20271024T170000
DTEND;TZID=America/Denver:20271024T180000
DTSTAMP:20260422T161923
CREATED:20251025T010839Z
LAST-MODIFIED:20260418T022334Z
UID:13334-1824397200-1824400800@www.olmcfssp.org
SUMMARY:Sung Vespers
DESCRIPTION:
URL:https://www.olmcfssp.org/calendar/sung-vespers-233/
END:VEVENT
BEGIN:VEVENT
DTSTART;TZID=America/Denver:20271025T180000
DTEND;TZID=America/Denver:20271025T190000
DTSTAMP:20260422T161923
CREATED:20260213T020836Z
LAST-MODIFIED:20260417T023834Z
UID:14132-1824487200-1824490800@www.olmcfssp.org
SUMMARY:Legion of Mary Meeting
DESCRIPTION:The legion exists to be a sign of Mary’s maternal love for the world and a means of enlisting all her children in the Church’s evangelizing work. It is at the disposal of the parish priest for any form of service deemed useful for the welfare of the Church.
URL:https://www.olmcfssp.org/calendar/legion-of-mary-meeting-490/
END:VEVENT
BEGIN:VEVENT
DTSTART;TZID=America/Denver:20271026T093000
DTEND;TZID=America/Denver:20271026T110000
DTSTAMP:20260422T161923
CREATED:20251101T023841Z
LAST-MODIFIED:20260418T053836Z
UID:13383-1824543000-1824548400@www.olmcfssp.org
SUMMARY:Tuesday Morning Book Club
DESCRIPTION:The Tuesday morning book club meets to read and discuss a selected book that assists with spiritual growth and knowledge of our wonderful Catholic faith. All members of the parish are welcome to drop by and check us out.
URL:https://www.olmcfssp.org/calendar/tuesday-morning-book-club-246/
END:VEVENT
BEGIN:VEVENT
DTSTART;TZID=America/Denver:20271026T170000
DTEND;TZID=America/Denver:20271026T180000
DTSTAMP:20260422T161923
CREATED:20251101T010904Z
LAST-MODIFIED:20260418T022334Z
UID:13375-1824570000-1824573600@www.olmcfssp.org
SUMMARY:Shepherds of Christ Prayer Group
DESCRIPTION:
URL:https://www.olmcfssp.org/calendar/shepherds-of-christ-prayer-group-247/
END:VEVENT
BEGIN:VEVENT
DTSTART;TZID=America/Denver:20271027T180000
DTEND;TZID=America/Denver:20271027T210000
DTSTAMP:20260422T161923
CREATED:20260220T020842Z
LAST-MODIFIED:20260417T023834Z
UID:14165-1824660000-1824670800@www.olmcfssp.org
SUMMARY:Hibernia Music Group
DESCRIPTION:An OLMC acoustic music group. We play traditional Irish\, Folk and Americana music. All are welcome to join us\, beginner or advanced\, Instrumentalist or Vocalist. Our goal is to sharpen our skills\, increase our musical knowledge\, have good Catholic fellowship\, and share our music.
URL:https://www.olmcfssp.org/calendar/hibernia-music-group-111/
END:VEVENT
BEGIN:VEVENT
DTSTART;TZID=America/Denver:20271027T190000
DTEND;TZID=America/Denver:20271027T203000
DTSTAMP:20260422T161923
CREATED:20251101T022333Z
LAST-MODIFIED:20260418T032330Z
UID:13380-1824663600-1824669000@www.olmcfssp.org
SUMMARY:Choir Practice
DESCRIPTION:
URL:https://www.olmcfssp.org/calendar/choir-practice-245/
END:VEVENT
BEGIN:VEVENT
DTSTART;TZID=America/Denver:20271028T093000
DTEND;TZID=America/Denver:20271028T103000
DTSTAMP:20260422T161923
CREATED:20260220T020842Z
LAST-MODIFIED:20260417T023834Z
UID:14166-1824715800-1824719400@www.olmcfssp.org
SUMMARY:Legion of Mary Meeting
DESCRIPTION:The legion exists to be a sign of Mary’s maternal love for the world and a means of enlisting all her children in the Church’s evangelizing work. It is at the disposal of the parish priest for any form of service deemed useful for the welfare of the Church.
URL:https://www.olmcfssp.org/calendar/legion-of-mary-meeting-491/
END:VEVENT
BEGIN:VEVENT
DTSTART;TZID=America/Denver:20271031T170000
DTEND;TZID=America/Denver:20271031T180000
DTSTAMP:20260422T161923
CREATED:20251101T010904Z
LAST-MODIFIED:20260418T022334Z
UID:13376-1825002000-1825005600@www.olmcfssp.org
SUMMARY:Sung Vespers
DESCRIPTION:
URL:https://www.olmcfssp.org/calendar/sung-vespers-234/
END:VEVENT
BEGIN:VEVENT
DTSTART;TZID=America/Denver:20271101T180000
DTEND;TZID=America/Denver:20271101T190000
DTSTAMP:20260422T161923
CREATED:20260220T020842Z
LAST-MODIFIED:20260417T023834Z
UID:14167-1825092000-1825095600@www.olmcfssp.org
SUMMARY:Legion of Mary Meeting
DESCRIPTION:The legion exists to be a sign of Mary’s maternal love for the world and a means of enlisting all her children in the Church’s evangelizing work. It is at the disposal of the parish priest for any form of service deemed useful for the welfare of the Church.
URL:https://www.olmcfssp.org/calendar/legion-of-mary-meeting-492/
END:VEVENT
BEGIN:VEVENT
DTSTART;TZID=America/Denver:20271102T093000
DTEND;TZID=America/Denver:20271102T110000
DTSTAMP:20260422T161923
CREATED:20251108T034005Z
LAST-MODIFIED:20260418T053836Z
UID:13414-1825147800-1825153200@www.olmcfssp.org
SUMMARY:Tuesday Morning Book Club
DESCRIPTION:The Tuesday morning book club meets to read and discuss a selected book that assists with spiritual growth and knowledge of our wonderful Catholic faith. All members of the parish are welcome to drop by and check us out.
URL:https://www.olmcfssp.org/calendar/tuesday-morning-book-club-247/
END:VEVENT
BEGIN:VEVENT
DTSTART;TZID=America/Denver:20271102T170000
DTEND;TZID=America/Denver:20271102T180000
DTSTAMP:20260422T161923
CREATED:20251108T020839Z
LAST-MODIFIED:20260418T022334Z
UID:13405-1825174800-1825178400@www.olmcfssp.org
SUMMARY:Shepherds of Christ Prayer Group
DESCRIPTION:
URL:https://www.olmcfssp.org/calendar/shepherds-of-christ-prayer-group-248/
END:VEVENT
BEGIN:VEVENT
DTSTART;TZID=America/Denver:20271103T183000
DTEND;TZID=America/Denver:20271103T203000
DTSTAMP:20260422T161923
CREATED:20251108T030840Z
LAST-MODIFIED:20260418T025330Z
UID:13408-1825266600-1825273800@www.olmcfssp.org
SUMMARY:Safety Team Meeting
DESCRIPTION:The purpose of the OLMC Safety Team is to provide a safe and secure environment for all parishioners and visitors. Primarily\, this is accomplished by the observation of people\, places and events and your assessment of situations and then to follow through with appropriate action.
URL:https://www.olmcfssp.org/calendar/safety-team-meeting-57/
END:VEVENT
BEGIN:VEVENT
DTSTART;TZID=America/Denver:20271103T190000
DTEND;TZID=America/Denver:20271103T203000
DTSTAMP:20260422T161923
CREATED:20251108T033840Z
LAST-MODIFIED:20260418T032330Z
UID:13412-1825268400-1825273800@www.olmcfssp.org
SUMMARY:Choir Practice
DESCRIPTION:
URL:https://www.olmcfssp.org/calendar/choir-practice-246/
END:VEVENT
BEGIN:VEVENT
DTSTART;TZID=America/Denver:20271104T093000
DTEND;TZID=America/Denver:20271104T103000
DTSTAMP:20260422T161923
CREATED:20260220T020842Z
LAST-MODIFIED:20260417T023834Z
UID:14168-1825320600-1825324200@www.olmcfssp.org
SUMMARY:Legion of Mary Meeting
DESCRIPTION:The legion exists to be a sign of Mary’s maternal love for the world and a means of enlisting all her children in the Church’s evangelizing work. It is at the disposal of the parish priest for any form of service deemed useful for the welfare of the Church.
URL:https://www.olmcfssp.org/calendar/legion-of-mary-meeting-493/
END:VEVENT
BEGIN:VEVENT
DTSTART;TZID=America/Denver:20271106T093000
DTEND;TZID=America/Denver:20271106T113000
DTSTAMP:20260422T161923
CREATED:20251108T055331Z
LAST-MODIFIED:20260418T055332Z
UID:13422-1825493400-1825500600@www.olmcfssp.org
SUMMARY:Confraternity of Christian Mothers
DESCRIPTION:All women aged 16 and up of all walks of life are invited to attend. Some of us are called to physical motherhood\, but we are all called to spiritual motherhood. 
URL:https://www.olmcfssp.org/calendar/confraternity-of-christian-mothers-101/
END:VEVENT
END:VCALENDAR