BEGIN:VCALENDAR
VERSION:2.0
PRODID:-//Our Lady of Mt. Carmel - ECPv6.15.20//NONSGML v1.0//EN
CALSCALE:GREGORIAN
METHOD:PUBLISH
X-WR-CALNAME:Our Lady of Mt. Carmel
X-ORIGINAL-URL:https://www.olmcfssp.org
X-WR-CALDESC:Events for Our Lady of Mt. Carmel
REFRESH-INTERVAL;VALUE=DURATION:PT1H
X-Robots-Tag:noindex
X-PUBLISHED-TTL:PT1H
BEGIN:VTIMEZONE
TZID:America/Denver
BEGIN:DAYLIGHT
TZOFFSETFROM:-0700
TZOFFSETTO:-0600
TZNAME:MDT
DTSTART:20230312T090000
END:DAYLIGHT
BEGIN:STANDARD
TZOFFSETFROM:-0600
TZOFFSETTO:-0700
TZNAME:MST
DTSTART:20231105T080000
END:STANDARD
BEGIN:DAYLIGHT
TZOFFSETFROM:-0700
TZOFFSETTO:-0600
TZNAME:MDT
DTSTART:20240310T090000
END:DAYLIGHT
BEGIN:STANDARD
TZOFFSETFROM:-0600
TZOFFSETTO:-0700
TZNAME:MST
DTSTART:20241103T080000
END:STANDARD
BEGIN:DAYLIGHT
TZOFFSETFROM:-0700
TZOFFSETTO:-0600
TZNAME:MDT
DTSTART:20250309T090000
END:DAYLIGHT
BEGIN:STANDARD
TZOFFSETFROM:-0600
TZOFFSETTO:-0700
TZNAME:MST
DTSTART:20251102T080000
END:STANDARD
END:VTIMEZONE
BEGIN:VEVENT
DTSTART;TZID=America/Denver:20240901T170000
DTEND;TZID=America/Denver:20240901T180000
DTSTAMP:20260419T201734
CREATED:20231027T172445Z
LAST-MODIFIED:20240830T222327Z
UID:6267-1725210000-1725213600@www.olmcfssp.org
SUMMARY:Sung Vespers
DESCRIPTION:
URL:https://www.olmcfssp.org/calendar/sung-vespers-69/
END:VEVENT
BEGIN:VEVENT
DTSTART;TZID=America/Denver:20240902T180000
DTEND;TZID=America/Denver:20240902T190000
DTSTAMP:20260419T201734
CREATED:20231027T173123Z
LAST-MODIFIED:20240831T002440Z
UID:6774-1725300000-1725303600@www.olmcfssp.org
SUMMARY:Legion of Mary Meeting
DESCRIPTION:The legion exists to be a sign of Mary’s maternal love for the world and a means of enlisting all her children in the Church’s evangelizing work. It is at the disposal of the parish priest for any form of service deemed useful for the welfare of the Church.
URL:https://www.olmcfssp.org/calendar/legion-of-mary-meeting-162/
END:VEVENT
BEGIN:VEVENT
DTSTART;TZID=America/Denver:20240903T093000
DTEND;TZID=America/Denver:20240903T110000
DTSTAMP:20260419T201734
CREATED:20231027T173356Z
LAST-MODIFIED:20231027T173356Z
UID:7029-1725355800-1725361200@www.olmcfssp.org
SUMMARY:Tuesday Morning Book Club
DESCRIPTION:The Tuesday morning book club meets to read and discuss a selected book that assists with spiritual growth and knowledge of our wonderful Catholic faith. All members of the parish are welcome to drop by and check us out.
URL:https://www.olmcfssp.org/calendar/tuesday-morning-book-club-83/
END:VEVENT
BEGIN:VEVENT
DTSTART;TZID=America/Denver:20240903T170000
DTEND;TZID=America/Denver:20240903T180000
DTSTAMP:20260419T201734
CREATED:20231027T172445Z
LAST-MODIFIED:20240830T222327Z
UID:6268-1725382800-1725386400@www.olmcfssp.org
SUMMARY:Shepherds of Christ Prayer Group
DESCRIPTION:
URL:https://www.olmcfssp.org/calendar/shepherds-of-christ-prayer-group-83/
END:VEVENT
BEGIN:VEVENT
DTSTART;TZID=America/Denver:20240904T183000
DTEND;TZID=America/Denver:20240904T203000
DTSTAMP:20260419T201734
CREATED:20231027T174344Z
LAST-MODIFIED:20240830T225336Z
UID:7286-1725474600-1725481800@www.olmcfssp.org
SUMMARY:Safety Team Meeting
DESCRIPTION:The purpose of the OLMC Safety Team is to provide a safe and secure environment for all parishioners and visitors. Primarily\, this is accomplished by the observation of people\, places and events and your assessment of situations and then to follow through with appropriate action.
URL:https://www.olmcfssp.org/calendar/safety-team-meeting-19/
END:VEVENT
BEGIN:VEVENT
DTSTART;TZID=America/Denver:20240904T190000
DTEND;TZID=America/Denver:20240904T203000
DTSTAMP:20260419T201734
CREATED:20231027T173630Z
LAST-MODIFIED:20240831T000847Z
UID:7167-1725476400-1725481800@www.olmcfssp.org
SUMMARY:Choir Practice
DESCRIPTION:
URL:https://www.olmcfssp.org/calendar/choir-practice-81/
END:VEVENT
BEGIN:VEVENT
DTSTART;TZID=America/Denver:20240905T093000
DTEND;TZID=America/Denver:20240905T103000
DTSTAMP:20260419T201734
CREATED:20231027T173124Z
LAST-MODIFIED:20240831T002440Z
UID:6775-1725528600-1725532200@www.olmcfssp.org
SUMMARY:Legion of Mary Meeting
DESCRIPTION:The legion exists to be a sign of Mary’s maternal love for the world and a means of enlisting all her children in the Church’s evangelizing work. It is at the disposal of the parish priest for any form of service deemed useful for the welfare of the Church.
URL:https://www.olmcfssp.org/calendar/legion-of-mary-meeting-163/
END:VEVENT
BEGIN:VEVENT
DTSTART;TZID=America/Denver:20240906T093000
DTEND;TZID=America/Denver:20240907T080000
DTSTAMP:20260419T201734
CREATED:20230922T160150Z
LAST-MODIFIED:20240906T222331Z
UID:5851-1725615000-1725696000@www.olmcfssp.org
SUMMARY:First Friday Adoration
DESCRIPTION:
URL:https://www.olmcfssp.org/calendar/first-friday-adoration-19/
END:VEVENT
BEGIN:VEVENT
DTSTART;TZID=America/Denver:20240907T093000
DTEND;TZID=America/Denver:20240907T113000
DTSTAMP:20260419T201734
CREATED:20240110T230754Z
LAST-MODIFIED:20240907T002420Z
UID:8746-1725701400-1725708600@www.olmcfssp.org
SUMMARY:Confraternity of Christian Mothers
DESCRIPTION:All women aged 16 and up of all walks of life are invited to attend. Some of us are called to physical motherhood\, but we are all called to spiritual motherhood. 
URL:https://www.olmcfssp.org/calendar/confraternity-of-christian-mothers-63/
END:VEVENT
BEGIN:VEVENT
DTSTART;TZID=America/Denver:20240908T123000
DTEND;TZID=America/Denver:20240908T140000
DTSTAMP:20260419T201734
CREATED:20231027T173124Z
LAST-MODIFIED:20240907T002423Z
UID:6776-1725798600-1725804000@www.olmcfssp.org
SUMMARY:Knights of Columbus Meeting
DESCRIPTION:As faithful Catholics\, we are called to be salt and light in this material world. As traditional Catholics within the Church Universal\, we are sometimes called\, in charity\, to bring more illumination and flavor to our fellow Catholics. Let us join with him in spreading the message within the Knights of Columbus.
URL:https://www.olmcfssp.org/calendar/knights-of-columbus-meeting-18/
END:VEVENT
BEGIN:VEVENT
DTSTART;TZID=America/Denver:20240908T170000
DTEND;TZID=America/Denver:20240908T180000
DTSTAMP:20260419T201734
CREATED:20231027T172446Z
LAST-MODIFIED:20240906T222331Z
UID:6270-1725814800-1725818400@www.olmcfssp.org
SUMMARY:Sung Vespers
DESCRIPTION:
URL:https://www.olmcfssp.org/calendar/sung-vespers-70/
END:VEVENT
BEGIN:VEVENT
DTSTART;TZID=America/Denver:20240909T180000
DTEND;TZID=America/Denver:20240909T190000
DTSTAMP:20260419T201734
CREATED:20231027T173124Z
LAST-MODIFIED:20240907T002423Z
UID:6777-1725904800-1725908400@www.olmcfssp.org
SUMMARY:Legion of Mary Meeting
DESCRIPTION:The legion exists to be a sign of Mary’s maternal love for the world and a means of enlisting all her children in the Church’s evangelizing work. It is at the disposal of the parish priest for any form of service deemed useful for the welfare of the Church.
URL:https://www.olmcfssp.org/calendar/legion-of-mary-meeting-164/
END:VEVENT
BEGIN:VEVENT
DTSTART;TZID=America/Denver:20240910T093000
DTEND;TZID=America/Denver:20240910T103000
DTSTAMP:20260419T201734
CREATED:20240110T185517Z
LAST-MODIFIED:20240906T222331Z
UID:8707-1725960600-1725964200@www.olmcfssp.org
SUMMARY:Holy Face Devotion Group
DESCRIPTION:His Holy Face Ministry’s mission is to bring the Face of God back into the world to breathe life into souls by making reparation for the sins committed against the majesty of God and the Catholic Church. Join us as a community in making public reparation before a 2nd class relic image of the Veil of St. Veronica on the second Tuesday or third Saturday of each month after the 8:30 AM mass. We also offer presentations on the Holy Face Devotion\, a Home Enthronement Program with the image\, and a Parish Enthronement Program to share with a wider audience.
URL:https://www.olmcfssp.org/calendar/holy-face-devotion-group-26/
END:VEVENT
BEGIN:VEVENT
DTSTART;TZID=America/Denver:20240910T093000
DTEND;TZID=America/Denver:20240910T110000
DTSTAMP:20260419T201734
CREATED:20231027T173356Z
LAST-MODIFIED:20231027T173356Z
UID:7030-1725960600-1725966000@www.olmcfssp.org
SUMMARY:Tuesday Morning Book Club
DESCRIPTION:The Tuesday morning book club meets to read and discuss a selected book that assists with spiritual growth and knowledge of our wonderful Catholic faith. All members of the parish are welcome to drop by and check us out.
URL:https://www.olmcfssp.org/calendar/tuesday-morning-book-club-84/
END:VEVENT
BEGIN:VEVENT
DTSTART;TZID=America/Denver:20240910T113000
DTEND;TZID=America/Denver:20240910T130000
DTSTAMP:20260419T201734
CREATED:20240712T220934Z
LAST-MODIFIED:20240907T002419Z
UID:9428-1725967800-1725973200@www.olmcfssp.org
SUMMARY:St. Joseph Business Club - Lunch and Learn
DESCRIPTION:
URL:https://www.olmcfssp.org/calendar/st-joseph-business-club-lunch-and-learn/
END:VEVENT
BEGIN:VEVENT
DTSTART;TZID=America/Denver:20240910T170000
DTEND;TZID=America/Denver:20240910T180000
DTSTAMP:20260419T201734
CREATED:20231027T172447Z
LAST-MODIFIED:20240906T222331Z
UID:6271-1725987600-1725991200@www.olmcfssp.org
SUMMARY:Shepherds of Christ Prayer Group
DESCRIPTION:
URL:https://www.olmcfssp.org/calendar/shepherds-of-christ-prayer-group-84/
END:VEVENT
BEGIN:VEVENT
DTSTART;TZID=America/Denver:20240911T190000
DTEND;TZID=America/Denver:20240911T203000
DTSTAMP:20260419T201734
CREATED:20231027T173630Z
LAST-MODIFIED:20240907T000913Z
UID:7168-1726081200-1726086600@www.olmcfssp.org
SUMMARY:Choir Practice
DESCRIPTION:
URL:https://www.olmcfssp.org/calendar/choir-practice-82/
END:VEVENT
BEGIN:VEVENT
DTSTART;TZID=America/Denver:20240912T093000
DTEND;TZID=America/Denver:20240912T103000
DTSTAMP:20260419T201734
CREATED:20231027T173124Z
LAST-MODIFIED:20240907T002423Z
UID:6778-1726133400-1726137000@www.olmcfssp.org
SUMMARY:Legion of Mary Meeting
DESCRIPTION:The legion exists to be a sign of Mary’s maternal love for the world and a means of enlisting all her children in the Church’s evangelizing work. It is at the disposal of the parish priest for any form of service deemed useful for the welfare of the Church.
URL:https://www.olmcfssp.org/calendar/legion-of-mary-meeting-165/
END:VEVENT
BEGIN:VEVENT
DTSTART;TZID=America/Denver:20240914T083000
DTEND;TZID=America/Denver:20240914T160000
DTSTAMP:20260419T201734
CREATED:20240802T232336Z
LAST-MODIFIED:20240913T235329Z
UID:9936-1726302600-1726329600@www.olmcfssp.org
SUMMARY:FNE
DESCRIPTION:
URL:https://www.olmcfssp.org/calendar/fne-2/
END:VEVENT
BEGIN:VEVENT
DTSTART;TZID=America/Denver:20240914T093000
DTEND;TZID=America/Denver:20240914T113000
DTSTAMP:20260419T201734
CREATED:20231027T172912Z
LAST-MODIFIED:20240914T002421Z
UID:6547-1726306200-1726313400@www.olmcfssp.org
SUMMARY:Holy Name Society Meeting
DESCRIPTION:The Holy Name Society is an organization of men striving to grow in holiness. The group is open to all men of the parish over the age of 18. Meetings include Mass\, the recitation of the Holy Rosary\, breakfast and a spiritual talk.
URL:https://www.olmcfssp.org/calendar/holy-name-society-meeting-17/
END:VEVENT
BEGIN:VEVENT
DTSTART;TZID=America/Denver:20240914T093000
DTEND;TZID=America/Denver:20240914T130000
DTSTAMP:20260419T201734
CREATED:20231027T174344Z
LAST-MODIFIED:20240913T230830Z
UID:7287-1726306200-1726318800@www.olmcfssp.org
SUMMARY:St. Teresa of Jesus Association
DESCRIPTION:A formation in the spirituality of St. Teresa of Jesus within a Study Group composed of men and women over the age of 25 years. This formation includes daily Mass\, Lectio Divina\, Divine Office and the living a life of apostolic endeavors: ministering to our families and the world.  The members endeavor to give glory to God\, to honor our Blessed Lady of Carmel and to aid our Holy Mother the Church by their prayers.
URL:https://www.olmcfssp.org/calendar/st-teresa-of-jesus-association-18/
END:VEVENT
BEGIN:VEVENT
DTSTART;TZID=America/Denver:20240914T130000
DTEND;TZID=America/Denver:20240914T160000
DTSTAMP:20260419T201734
CREATED:20231027T173124Z
LAST-MODIFIED:20240914T002426Z
UID:6779-1726318800-1726329600@www.olmcfssp.org
SUMMARY:Hibernia Music Group
DESCRIPTION:An OLMC acoustic music group. We play traditional Irish\, Folk and Americana music. All are welcome to join us\, beginner or advanced\, Instrumentalist or Vocalist. Our goal is to sharpen our skills\, increase our musical knowledge\, have good Catholic fellowship\, and share our music.
URL:https://www.olmcfssp.org/calendar/hibernia-music-group-36/
END:VEVENT
BEGIN:VEVENT
DTSTART;TZID=America/Denver:20240915T123000
DTEND;TZID=America/Denver:20240915T140000
DTSTAMP:20260419T201734
CREATED:20231027T173356Z
LAST-MODIFIED:20240913T232329Z
UID:7031-1726403400-1726408800@www.olmcfssp.org
SUMMARY:Creation Study Group
DESCRIPTION:This group is dedicated to studying the traditional Catholic teaching on creation and Genesis as believed and taught by the Doctors\, Fathers\, Councils and Popes for two thousand years. We explore various aspects of the creation/evolutionism debate and the effects of evolutionary thought on culture\, science and the Church. As Pope St Pius X said about Modernism\, that it is the “synthesis of all heresies.” And “the chief of their doctrines\, that of evolution.” \nAll are welcome to attend and contribute their experience and expertise.
URL:https://www.olmcfssp.org/calendar/creation-study-group-11/
END:VEVENT
BEGIN:VEVENT
DTSTART;TZID=America/Denver:20240915T140000
DTEND;TZID=America/Denver:20240915T170000
DTSTAMP:20260419T201734
CREATED:20231027T173125Z
LAST-MODIFIED:20240914T002426Z
UID:6789-1726408800-1726419600@www.olmcfssp.org
SUMMARY:Laeta Vita
DESCRIPTION:Leata Vita (Joyful Life) is a group for single women ages 18-35. The purpose of our group is to meet and grow in fellowship with other women who are in a similar season of life. We meet two times a month. The first meeting of the month consists of discussing a book as part of our book club and socializing with each other. The second meeting of the month consists of a fun outing or activity (and every now and then something charitable for the parish or some other organization)\, meant to give the members a chance to get out and have some fun.
URL:https://www.olmcfssp.org/calendar/laeta-vita-29/
END:VEVENT
BEGIN:VEVENT
DTSTART;TZID=America/Denver:20240915T170000
DTEND;TZID=America/Denver:20240915T180000
DTSTAMP:20260419T201734
CREATED:20231027T172447Z
LAST-MODIFIED:20240913T222337Z
UID:6272-1726419600-1726423200@www.olmcfssp.org
SUMMARY:Sung Vespers
DESCRIPTION:
URL:https://www.olmcfssp.org/calendar/sung-vespers-71/
END:VEVENT
BEGIN:VEVENT
DTSTART;TZID=America/Denver:20240916T180000
DTEND;TZID=America/Denver:20240916T190000
DTSTAMP:20260419T201734
CREATED:20231027T173125Z
LAST-MODIFIED:20240914T002426Z
UID:6791-1726509600-1726513200@www.olmcfssp.org
SUMMARY:Legion of Mary Meeting
DESCRIPTION:The legion exists to be a sign of Mary’s maternal love for the world and a means of enlisting all her children in the Church’s evangelizing work. It is at the disposal of the parish priest for any form of service deemed useful for the welfare of the Church.
URL:https://www.olmcfssp.org/calendar/legion-of-mary-meeting-166/
END:VEVENT
BEGIN:VEVENT
DTSTART;TZID=America/Denver:20240917T093000
DTEND;TZID=America/Denver:20240917T110000
DTSTAMP:20260419T201734
CREATED:20231027T173357Z
LAST-MODIFIED:20231027T173357Z
UID:7032-1726565400-1726570800@www.olmcfssp.org
SUMMARY:Tuesday Morning Book Club
DESCRIPTION:The Tuesday morning book club meets to read and discuss a selected book that assists with spiritual growth and knowledge of our wonderful Catholic faith. All members of the parish are welcome to drop by and check us out.
URL:https://www.olmcfssp.org/calendar/tuesday-morning-book-club-85/
END:VEVENT
BEGIN:VEVENT
DTSTART;TZID=America/Denver:20240917T170000
DTEND;TZID=America/Denver:20240917T180000
DTSTAMP:20260419T201734
CREATED:20231027T172447Z
LAST-MODIFIED:20240913T222337Z
UID:6273-1726592400-1726596000@www.olmcfssp.org
SUMMARY:Shepherds of Christ Prayer Group
DESCRIPTION:
URL:https://www.olmcfssp.org/calendar/shepherds-of-christ-prayer-group-85/
END:VEVENT
BEGIN:VEVENT
DTSTART;TZID=America/Denver:20240918T190000
DTEND;TZID=America/Denver:20240918T203000
DTSTAMP:20260419T201734
CREATED:20231027T173630Z
LAST-MODIFIED:20240914T000930Z
UID:7169-1726686000-1726691400@www.olmcfssp.org
SUMMARY:Choir Practice
DESCRIPTION:
URL:https://www.olmcfssp.org/calendar/choir-practice-83/
END:VEVENT
BEGIN:VEVENT
DTSTART;TZID=America/Denver:20240919T093000
DTEND;TZID=America/Denver:20240919T103000
DTSTAMP:20260419T201734
CREATED:20231027T173125Z
LAST-MODIFIED:20240914T002426Z
UID:6792-1726738200-1726741800@www.olmcfssp.org
SUMMARY:Legion of Mary Meeting
DESCRIPTION:The legion exists to be a sign of Mary’s maternal love for the world and a means of enlisting all her children in the Church’s evangelizing work. It is at the disposal of the parish priest for any form of service deemed useful for the welfare of the Church.
URL:https://www.olmcfssp.org/calendar/legion-of-mary-meeting-167/
END:VEVENT
END:VCALENDAR