BEGIN:VCALENDAR
VERSION:2.0
PRODID:-//Our Lady of Mt. Carmel - ECPv6.15.20//NONSGML v1.0//EN
CALSCALE:GREGORIAN
METHOD:PUBLISH
X-WR-CALNAME:Our Lady of Mt. Carmel
X-ORIGINAL-URL:https://www.olmcfssp.org
X-WR-CALDESC:Events for Our Lady of Mt. Carmel
REFRESH-INTERVAL;VALUE=DURATION:PT1H
X-Robots-Tag:noindex
X-PUBLISHED-TTL:PT1H
BEGIN:VTIMEZONE
TZID:America/Denver
BEGIN:DAYLIGHT
TZOFFSETFROM:-0700
TZOFFSETTO:-0600
TZNAME:MDT
DTSTART:20230312T090000
END:DAYLIGHT
BEGIN:STANDARD
TZOFFSETFROM:-0600
TZOFFSETTO:-0700
TZNAME:MST
DTSTART:20231105T080000
END:STANDARD
BEGIN:DAYLIGHT
TZOFFSETFROM:-0700
TZOFFSETTO:-0600
TZNAME:MDT
DTSTART:20240310T090000
END:DAYLIGHT
BEGIN:STANDARD
TZOFFSETFROM:-0600
TZOFFSETTO:-0700
TZNAME:MST
DTSTART:20241103T080000
END:STANDARD
BEGIN:DAYLIGHT
TZOFFSETFROM:-0700
TZOFFSETTO:-0600
TZNAME:MDT
DTSTART:20250309T090000
END:DAYLIGHT
BEGIN:STANDARD
TZOFFSETFROM:-0600
TZOFFSETTO:-0700
TZNAME:MST
DTSTART:20251102T080000
END:STANDARD
END:VTIMEZONE
BEGIN:VTIMEZONE
TZID:America/Chicago
BEGIN:DAYLIGHT
TZOFFSETFROM:-0600
TZOFFSETTO:-0500
TZNAME:CDT
DTSTART:20230312T080000
END:DAYLIGHT
BEGIN:STANDARD
TZOFFSETFROM:-0500
TZOFFSETTO:-0600
TZNAME:CST
DTSTART:20231105T070000
END:STANDARD
BEGIN:DAYLIGHT
TZOFFSETFROM:-0600
TZOFFSETTO:-0500
TZNAME:CDT
DTSTART:20240310T080000
END:DAYLIGHT
BEGIN:STANDARD
TZOFFSETFROM:-0500
TZOFFSETTO:-0600
TZNAME:CST
DTSTART:20241103T070000
END:STANDARD
BEGIN:DAYLIGHT
TZOFFSETFROM:-0600
TZOFFSETTO:-0500
TZNAME:CDT
DTSTART:20250309T080000
END:DAYLIGHT
BEGIN:STANDARD
TZOFFSETFROM:-0500
TZOFFSETTO:-0600
TZNAME:CST
DTSTART:20251102T070000
END:STANDARD
END:VTIMEZONE
BEGIN:VEVENT
DTSTART;TZID=America/Denver:20241201T170000
DTEND;TZID=America/Denver:20241201T180000
DTSTAMP:20260420T123548
CREATED:20231027T172453Z
LAST-MODIFIED:20241129T235325Z
UID:6305-1733072400-1733076000@www.olmcfssp.org
SUMMARY:Sung Vespers
DESCRIPTION:
URL:https://www.olmcfssp.org/calendar/sung-vespers-82/
END:VEVENT
BEGIN:VEVENT
DTSTART;TZID=America/Denver:20241202T180000
DTEND;TZID=America/Denver:20241202T190000
DTSTAMP:20260420T123548
CREATED:20231027T173133Z
LAST-MODIFIED:20241129T002328Z
UID:6828-1733162400-1733166000@www.olmcfssp.org
SUMMARY:Legion of Mary Meeting
DESCRIPTION:The legion exists to be a sign of Mary’s maternal love for the world and a means of enlisting all her children in the Church’s evangelizing work. It is at the disposal of the parish priest for any form of service deemed useful for the welfare of the Church.
URL:https://www.olmcfssp.org/calendar/legion-of-mary-meeting-188/
END:VEVENT
BEGIN:VEVENT
DTSTART;TZID=America/Denver:20241203T093000
DTEND;TZID=America/Denver:20241203T110000
DTSTAMP:20260420T123548
CREATED:20231027T173359Z
LAST-MODIFIED:20231027T173359Z
UID:7045-1733218200-1733223600@www.olmcfssp.org
SUMMARY:Tuesday Morning Book Club
DESCRIPTION:The Tuesday morning book club meets to read and discuss a selected book that assists with spiritual growth and knowledge of our wonderful Catholic faith. All members of the parish are welcome to drop by and check us out.
URL:https://www.olmcfssp.org/calendar/tuesday-morning-book-club-96/
END:VEVENT
BEGIN:VEVENT
DTSTART;TZID=America/Denver:20241203T170000
DTEND;TZID=America/Denver:20241203T180000
DTSTAMP:20260420T123548
CREATED:20231027T172453Z
LAST-MODIFIED:20241129T235325Z
UID:6306-1733245200-1733248800@www.olmcfssp.org
SUMMARY:Shepherds of Christ Prayer Group
DESCRIPTION:
URL:https://www.olmcfssp.org/calendar/shepherds-of-christ-prayer-group-96/
END:VEVENT
BEGIN:VEVENT
DTSTART;TZID=America/Denver:20241204T183000
DTEND;TZID=America/Denver:20241204T203000
DTSTAMP:20260420T123548
CREATED:20231027T174344Z
LAST-MODIFIED:20241130T002323Z
UID:7295-1733337000-1733344200@www.olmcfssp.org
SUMMARY:Safety Team Meeting
DESCRIPTION:The purpose of the OLMC Safety Team is to provide a safe and secure environment for all parishioners and visitors. Primarily\, this is accomplished by the observation of people\, places and events and your assessment of situations and then to follow through with appropriate action.
URL:https://www.olmcfssp.org/calendar/safety-team-meeting-22/
END:VEVENT
BEGIN:VEVENT
DTSTART;TZID=America/Denver:20241204T190000
DTEND;TZID=America/Denver:20241204T203000
DTSTAMP:20260420T123548
CREATED:20231027T173633Z
LAST-MODIFIED:20241130T013826Z
UID:7190-1733338800-1733344200@www.olmcfssp.org
SUMMARY:Choir Practice
DESCRIPTION:
URL:https://www.olmcfssp.org/calendar/choir-practice-94/
END:VEVENT
BEGIN:VEVENT
DTSTART;TZID=America/Denver:20241205T093000
DTEND;TZID=America/Denver:20241205T103000
DTSTAMP:20260420T123548
CREATED:20231027T173134Z
LAST-MODIFIED:20241129T002328Z
UID:6829-1733391000-1733394600@www.olmcfssp.org
SUMMARY:Legion of Mary Meeting
DESCRIPTION:The legion exists to be a sign of Mary’s maternal love for the world and a means of enlisting all her children in the Church’s evangelizing work. It is at the disposal of the parish priest for any form of service deemed useful for the welfare of the Church.
URL:https://www.olmcfssp.org/calendar/legion-of-mary-meeting-189/
END:VEVENT
BEGIN:VEVENT
DTSTART;TZID=America/Denver:20241206T093000
DTEND;TZID=America/Denver:20241207T080000
DTSTAMP:20260420T123548
CREATED:20230922T160150Z
LAST-MODIFIED:20241206T235333Z
UID:5854-1733477400-1733558400@www.olmcfssp.org
SUMMARY:First Friday Adoration
DESCRIPTION:
URL:https://www.olmcfssp.org/calendar/first-friday-adoration-22/
END:VEVENT
BEGIN:VEVENT
DTSTART;TZID=America/Chicago:20241207T060000
DTEND;TZID=America/Chicago:20241207T070000
DTSTAMP:20260420T123548
CREATED:20241122T181119Z
LAST-MODIFIED:20241122T181119Z
UID:10833-1733551200-1733554800@www.olmcfssp.org
SUMMARY:Rorate Mass
DESCRIPTION:The ‘Rorate’ Mass is the Saturday Mass of the BVM in Advent\, sung before dawn by candlelight recalling the darkness which shrouded the earth before the Incarnation\, well worth making the effort to attend.
URL:https://www.olmcfssp.org/calendar/rorate-mass-3/
LOCATION:Church
ORGANIZER;CN="Our Lady of Mt. Carmel":MAILTO:secretary@olmcfssp.org
END:VEVENT
BEGIN:VEVENT
DTSTART;TZID=America/Denver:20241207T093000
DTEND;TZID=America/Denver:20241207T113000
DTSTAMP:20260420T123548
CREATED:20231027T172913Z
LAST-MODIFIED:20241122T192219Z
UID:6555-1733563800-1733571000@www.olmcfssp.org
SUMMARY:Confraternity of Christian Mothers
DESCRIPTION:Do you see other woman as a threat? Is social isolation a recurring theme in your life? All women of the parish who are married\, widowed\, single\, and teens are invited to a Freedom From Comparison workshop Saturday\, December 7 at 9:30am in the St. Albert room. Bring a friend (or foe) and a brunch dish to share. Childcare provided. \nAll women aged 17 and up of all walks of life are invited to attend. Some of us are called to physical motherhood\, but we are all called to spiritual motherhood.  \n 
URL:https://www.olmcfssp.org/calendar/confraternity-of-christian-mothers-19/
END:VEVENT
BEGIN:VEVENT
DTSTART;TZID=America/Denver:20241208T123000
DTEND;TZID=America/Denver:20241208T140000
DTSTAMP:20260420T123548
CREATED:20231027T173134Z
LAST-MODIFIED:20241206T002340Z
UID:6830-1733661000-1733666400@www.olmcfssp.org
SUMMARY:Knights of Columbus Meeting
DESCRIPTION:As faithful Catholics\, we are called to be salt and light in this material world. As traditional Catholics within the Church Universal\, we are sometimes called\, in charity\, to bring more illumination and flavor to our fellow Catholics. Let us join with him in spreading the message within the Knights of Columbus.
URL:https://www.olmcfssp.org/calendar/knights-of-columbus-meeting-21/
END:VEVENT
BEGIN:VEVENT
DTSTART;TZID=America/Denver:20241208T170000
DTEND;TZID=America/Denver:20241208T180000
DTSTAMP:20260420T123548
CREATED:20231027T172454Z
LAST-MODIFIED:20241206T235333Z
UID:6308-1733677200-1733680800@www.olmcfssp.org
SUMMARY:Sung Vespers
DESCRIPTION:
URL:https://www.olmcfssp.org/calendar/sung-vespers-83/
END:VEVENT
BEGIN:VEVENT
DTSTART;VALUE=DATE:20241209
DTEND;VALUE=DATE:20241210
DTSTAMP:20260420T123548
CREATED:20241122T183852Z
LAST-MODIFIED:20241122T183852Z
UID:10858-1733702400-1733788799@www.olmcfssp.org
SUMMARY:Feast of the Immaculate Conception (Transferred)
DESCRIPTION:
URL:https://www.olmcfssp.org/calendar/feast-of-the-immaculate-conception-transferred/
END:VEVENT
BEGIN:VEVENT
DTSTART;TZID=America/Chicago:20241209T063000
DTEND;TZID=America/Chicago:20241209T073000
DTSTAMP:20260420T123548
CREATED:20241122T191352Z
LAST-MODIFIED:20241122T191352Z
UID:10866-1733725800-1733729400@www.olmcfssp.org
SUMMARY:High Mass (Carmelite Monastery)
DESCRIPTION:
URL:https://www.olmcfssp.org/calendar/high-mass-carmelite-monastery/
LOCATION:Carmelite Monastery\, 6138 South Gallup\, Littleton\, CO\, 80120
ORGANIZER;CN="Our Lady of Mt. Carmel":MAILTO:secretary@olmcfssp.org
END:VEVENT
BEGIN:VEVENT
DTSTART;TZID=America/Chicago:20241209T083000
DTEND;TZID=America/Chicago:20241209T091500
DTSTAMP:20260420T123548
CREATED:20241122T184003Z
LAST-MODIFIED:20241122T184003Z
UID:10860-1733733000-1733735700@www.olmcfssp.org
SUMMARY:Low Mass
DESCRIPTION:
URL:https://www.olmcfssp.org/calendar/low-mass-2/
LOCATION:Church
ORGANIZER;CN="Our Lady of Mt. Carmel":MAILTO:secretary@olmcfssp.org
END:VEVENT
BEGIN:VEVENT
DTSTART;TZID=America/Chicago:20241209T120000
DTEND;TZID=America/Chicago:20241209T130000
DTSTAMP:20260420T123548
CREATED:20241122T191202Z
LAST-MODIFIED:20241122T191202Z
UID:10862-1733745600-1733749200@www.olmcfssp.org
SUMMARY:Low Mass
DESCRIPTION:
URL:https://www.olmcfssp.org/calendar/low-mass-3/
LOCATION:Church
ORGANIZER;CN="Our Lady of Mt. Carmel":MAILTO:secretary@olmcfssp.org
END:VEVENT
BEGIN:VEVENT
DTSTART;TZID=America/Denver:20241209T180000
DTEND;TZID=America/Denver:20241209T190000
DTSTAMP:20260420T123548
CREATED:20231027T173134Z
LAST-MODIFIED:20241206T002340Z
UID:6831-1733767200-1733770800@www.olmcfssp.org
SUMMARY:Legion of Mary Meeting
DESCRIPTION:The legion exists to be a sign of Mary’s maternal love for the world and a means of enlisting all her children in the Church’s evangelizing work. It is at the disposal of the parish priest for any form of service deemed useful for the welfare of the Church.
URL:https://www.olmcfssp.org/calendar/legion-of-mary-meeting-190/
END:VEVENT
BEGIN:VEVENT
DTSTART;TZID=America/Chicago:20241209T190000
DTEND;TZID=America/Chicago:20241209T203000
DTSTAMP:20260420T123548
CREATED:20241122T191246Z
LAST-MODIFIED:20241122T191246Z
UID:10864-1733770800-1733776200@www.olmcfssp.org
SUMMARY:Solemn High Mass
DESCRIPTION:
URL:https://www.olmcfssp.org/calendar/solemn-high-mass-3/
LOCATION:Church
ORGANIZER;CN="Our Lady of Mt. Carmel":MAILTO:secretary@olmcfssp.org
END:VEVENT
BEGIN:VEVENT
DTSTART;TZID=America/Denver:20241210T093000
DTEND;TZID=America/Denver:20241210T103000
DTSTAMP:20260420T123548
CREATED:20240110T185518Z
LAST-MODIFIED:20241206T235333Z
UID:8710-1733823000-1733826600@www.olmcfssp.org
SUMMARY:Holy Face Devotion Group
DESCRIPTION:His Holy Face Ministry’s mission is to bring the Face of God back into the world to breathe life into souls by making reparation for the sins committed against the majesty of God and the Catholic Church. Join us as a community in making public reparation before a 2nd class relic image of the Veil of St. Veronica on the second Tuesday or third Saturday of each month after the 8:30 AM mass. We also offer presentations on the Holy Face Devotion\, a Home Enthronement Program with the image\, and a Parish Enthronement Program to share with a wider audience.
URL:https://www.olmcfssp.org/calendar/holy-face-devotion-group-29/
END:VEVENT
BEGIN:VEVENT
DTSTART;TZID=America/Denver:20241210T093000
DTEND;TZID=America/Denver:20241210T110000
DTSTAMP:20260420T123548
CREATED:20231027T173359Z
LAST-MODIFIED:20231027T173359Z
UID:7046-1733823000-1733828400@www.olmcfssp.org
SUMMARY:Tuesday Morning Book Club
DESCRIPTION:The Tuesday morning book club meets to read and discuss a selected book that assists with spiritual growth and knowledge of our wonderful Catholic faith. All members of the parish are welcome to drop by and check us out.
URL:https://www.olmcfssp.org/calendar/tuesday-morning-book-club-97/
END:VEVENT
BEGIN:VEVENT
DTSTART;TZID=America/Denver:20241210T170000
DTEND;TZID=America/Denver:20241210T180000
DTSTAMP:20260420T123548
CREATED:20231027T172454Z
LAST-MODIFIED:20241206T235333Z
UID:6309-1733850000-1733853600@www.olmcfssp.org
SUMMARY:Shepherds of Christ Prayer Group
DESCRIPTION:
URL:https://www.olmcfssp.org/calendar/shepherds-of-christ-prayer-group-97/
END:VEVENT
BEGIN:VEVENT
DTSTART;TZID=America/Denver:20241211T180000
DTEND;TZID=America/Denver:20241211T200000
DTSTAMP:20260420T123548
CREATED:20241122T002327Z
LAST-MODIFIED:20241206T002340Z
UID:10817-1733940000-1733947200@www.olmcfssp.org
SUMMARY:Third Order of St. Francis of Assisi
DESCRIPTION:  The object of the Third Order of St. Francis of Assisi is to lead its members to Eternal Salvation by a life in conformity with the “Life and Poverty of the Most High Lord Jesus Christ and His Most Holy Mother” in imitation of St. Francis. The Third Order form of Religious Life provides a structure and form of life conducive to the pursuit of virtue and Holiness for those out in the world without the obligation of Vows under sin. The Rule of this Order is adapted to all: it takes into consideration the different circumstances and frailties of human life. Those who are discerning a vocation to the MFM Third Order are welcome to attend our meetings.
URL:https://www.olmcfssp.org/calendar/third-order-of-st-francis-of-assisi-2/
END:VEVENT
BEGIN:VEVENT
DTSTART;TZID=America/Denver:20241211T190000
DTEND;TZID=America/Denver:20241211T203000
DTSTAMP:20260420T123548
CREATED:20231027T173633Z
LAST-MODIFIED:20241207T013829Z
UID:7191-1733943600-1733949000@www.olmcfssp.org
SUMMARY:Choir Practice
DESCRIPTION:
URL:https://www.olmcfssp.org/calendar/choir-practice-95/
END:VEVENT
BEGIN:VEVENT
DTSTART;TZID=America/Denver:20241212T093000
DTEND;TZID=America/Denver:20241212T103000
DTSTAMP:20260420T123548
CREATED:20231027T173134Z
LAST-MODIFIED:20241206T002340Z
UID:6832-1733995800-1733999400@www.olmcfssp.org
SUMMARY:Legion of Mary Meeting
DESCRIPTION:The legion exists to be a sign of Mary’s maternal love for the world and a means of enlisting all her children in the Church’s evangelizing work. It is at the disposal of the parish priest for any form of service deemed useful for the welfare of the Church.
URL:https://www.olmcfssp.org/calendar/legion-of-mary-meeting-191/
END:VEVENT
BEGIN:VEVENT
DTSTART;TZID=America/Chicago:20241214T060000
DTEND;TZID=America/Chicago:20241214T070000
DTSTAMP:20260420T123548
CREATED:20241122T181319Z
LAST-MODIFIED:20241122T181319Z
UID:10835-1734156000-1734159600@www.olmcfssp.org
SUMMARY:Rorate Mass (Carmelite Monastery)
DESCRIPTION:The ‘Rorate’ Mass is the Saturday Mass of the BVM in Advent\, sung before dawn by candlelight recalling the darkness which shrouded the earth before the Incarnation\, well worth making the effort to attend.
URL:https://www.olmcfssp.org/calendar/rorate-mass-carmelite-monastery/
LOCATION:Carmelite Monastery\, 6138 South Gallup\, Littleton\, CO\, 80120
END:VEVENT
BEGIN:VEVENT
DTSTART;TZID=America/Denver:20241214T083000
DTEND;TZID=America/Denver:20241214T160000
DTSTAMP:20260420T123548
CREATED:20240802T232337Z
LAST-MODIFIED:20241214T030826Z
UID:9947-1734165000-1734192000@www.olmcfssp.org
SUMMARY:FNE
DESCRIPTION:
URL:https://www.olmcfssp.org/calendar/fne-8/
END:VEVENT
BEGIN:VEVENT
DTSTART;TZID=America/Denver:20241214T093000
DTEND;TZID=America/Denver:20241214T113000
DTSTAMP:20260420T123548
CREATED:20231027T172914Z
LAST-MODIFIED:20241214T025328Z
UID:6556-1734168600-1734175800@www.olmcfssp.org
SUMMARY:Holy Name Society Meeting
DESCRIPTION:The Holy Name Society is an organization of men striving to grow in holiness. The group is open to all men of the parish over the age of 18. Meetings include Mass\, the recitation of the Holy Rosary\, breakfast and a spiritual talk.
URL:https://www.olmcfssp.org/calendar/holy-name-society-meeting-20/
END:VEVENT
BEGIN:VEVENT
DTSTART;TZID=America/Denver:20241214T093000
DTEND;TZID=America/Denver:20241214T130000
DTSTAMP:20260420T123548
CREATED:20231027T174344Z
LAST-MODIFIED:20241214T002335Z
UID:7296-1734168600-1734181200@www.olmcfssp.org
SUMMARY:St. Teresa of Jesus Association
DESCRIPTION:A formation in the spirituality of St. Teresa of Jesus within a Study Group composed of men and women over the age of 25 years. This formation includes daily Mass\, Lectio Divina\, Divine Office and the living a life of apostolic endeavors: ministering to our families and the world.  The members endeavor to give glory to God\, to honor our Blessed Lady of Carmel and to aid our Holy Mother the Church by their prayers.
URL:https://www.olmcfssp.org/calendar/st-teresa-of-jesus-association-21/
END:VEVENT
BEGIN:VEVENT
DTSTART;TZID=America/Denver:20241214T130000
DTEND;TZID=America/Denver:20241214T160000
DTSTAMP:20260420T123548
CREATED:20231027T173134Z
LAST-MODIFIED:20241213T002335Z
UID:6833-1734181200-1734192000@www.olmcfssp.org
SUMMARY:Hibernia Music Group
DESCRIPTION:An OLMC acoustic music group. We play traditional Irish\, Folk and Americana music. All are welcome to join us\, beginner or advanced\, Instrumentalist or Vocalist. Our goal is to sharpen our skills\, increase our musical knowledge\, have good Catholic fellowship\, and share our music.
URL:https://www.olmcfssp.org/calendar/hibernia-music-group-42/
END:VEVENT
BEGIN:VEVENT
DTSTART;TZID=America/Denver:20241215T123000
DTEND;TZID=America/Denver:20241215T140000
DTSTAMP:20260420T123548
CREATED:20231027T173400Z
LAST-MODIFIED:20241214T003836Z
UID:7047-1734265800-1734271200@www.olmcfssp.org
SUMMARY:Creation Study Group
DESCRIPTION:This group is dedicated to studying the traditional Catholic teaching on creation and Genesis as believed and taught by the Doctors\, Fathers\, Councils and Popes for two thousand years. We explore various aspects of the creation/evolutionism debate and the effects of evolutionary thought on culture\, science and the Church. As Pope St Pius X said about Modernism\, that it is the “synthesis of all heresies.” And “the chief of their doctrines\, that of evolution.” \nAll are welcome to attend and contribute their experience and expertise.
URL:https://www.olmcfssp.org/calendar/creation-study-group-14/
END:VEVENT
END:VCALENDAR