BEGIN:VCALENDAR
VERSION:2.0
PRODID:-//Our Lady of Mt. Carmel - ECPv6.15.20//NONSGML v1.0//EN
CALSCALE:GREGORIAN
METHOD:PUBLISH
X-ORIGINAL-URL:https://www.olmcfssp.org
X-WR-CALDESC:Events for Our Lady of Mt. Carmel
REFRESH-INTERVAL;VALUE=DURATION:PT1H
X-Robots-Tag:noindex
X-PUBLISHED-TTL:PT1H
BEGIN:VTIMEZONE
TZID:America/Denver
BEGIN:DAYLIGHT
TZOFFSETFROM:-0700
TZOFFSETTO:-0600
TZNAME:MDT
DTSTART:20230312T090000
END:DAYLIGHT
BEGIN:STANDARD
TZOFFSETFROM:-0600
TZOFFSETTO:-0700
TZNAME:MST
DTSTART:20231105T080000
END:STANDARD
BEGIN:DAYLIGHT
TZOFFSETFROM:-0700
TZOFFSETTO:-0600
TZNAME:MDT
DTSTART:20240310T090000
END:DAYLIGHT
BEGIN:STANDARD
TZOFFSETFROM:-0600
TZOFFSETTO:-0700
TZNAME:MST
DTSTART:20241103T080000
END:STANDARD
BEGIN:DAYLIGHT
TZOFFSETFROM:-0700
TZOFFSETTO:-0600
TZNAME:MDT
DTSTART:20250309T090000
END:DAYLIGHT
BEGIN:STANDARD
TZOFFSETFROM:-0600
TZOFFSETTO:-0700
TZNAME:MST
DTSTART:20251102T080000
END:STANDARD
END:VTIMEZONE
BEGIN:VTIMEZONE
TZID:America/Chicago
BEGIN:DAYLIGHT
TZOFFSETFROM:-0600
TZOFFSETTO:-0500
TZNAME:CDT
DTSTART:20230312T080000
END:DAYLIGHT
BEGIN:STANDARD
TZOFFSETFROM:-0500
TZOFFSETTO:-0600
TZNAME:CST
DTSTART:20231105T070000
END:STANDARD
BEGIN:DAYLIGHT
TZOFFSETFROM:-0600
TZOFFSETTO:-0500
TZNAME:CDT
DTSTART:20240310T080000
END:DAYLIGHT
BEGIN:STANDARD
TZOFFSETFROM:-0500
TZOFFSETTO:-0600
TZNAME:CST
DTSTART:20241103T070000
END:STANDARD
BEGIN:DAYLIGHT
TZOFFSETFROM:-0600
TZOFFSETTO:-0500
TZNAME:CDT
DTSTART:20250309T080000
END:DAYLIGHT
BEGIN:STANDARD
TZOFFSETFROM:-0500
TZOFFSETTO:-0600
TZNAME:CST
DTSTART:20251102T070000
END:STANDARD
BEGIN:DAYLIGHT
TZOFFSETFROM:-0600
TZOFFSETTO:-0500
TZNAME:CDT
DTSTART:20260308T080000
END:DAYLIGHT
BEGIN:STANDARD
TZOFFSETFROM:-0500
TZOFFSETTO:-0600
TZNAME:CST
DTSTART:20261101T070000
END:STANDARD
END:VTIMEZONE
BEGIN:VEVENT
DTSTART;TZID=America/Denver:20241214T093000
DTEND;TZID=America/Denver:20241214T130000
DTSTAMP:20260420T151149
CREATED:20231027T174344Z
LAST-MODIFIED:20241214T002335Z
UID:7296-1734168600-1734181200@www.olmcfssp.org
SUMMARY:St. Teresa of Jesus Association
DESCRIPTION:A formation in the spirituality of St. Teresa of Jesus within a Study Group composed of men and women over the age of 25 years. This formation includes daily Mass\, Lectio Divina\, Divine Office and the living a life of apostolic endeavors: ministering to our families and the world.  The members endeavor to give glory to God\, to honor our Blessed Lady of Carmel and to aid our Holy Mother the Church by their prayers.
URL:https://www.olmcfssp.org/calendar/st-teresa-of-jesus-association-21/
END:VEVENT
BEGIN:VEVENT
DTSTART;TZID=America/Denver:20241214T130000
DTEND;TZID=America/Denver:20241214T160000
DTSTAMP:20260420T151149
CREATED:20231027T173134Z
LAST-MODIFIED:20241213T002335Z
UID:6833-1734181200-1734192000@www.olmcfssp.org
SUMMARY:Hibernia Music Group
DESCRIPTION:An OLMC acoustic music group. We play traditional Irish\, Folk and Americana music. All are welcome to join us\, beginner or advanced\, Instrumentalist or Vocalist. Our goal is to sharpen our skills\, increase our musical knowledge\, have good Catholic fellowship\, and share our music.
URL:https://www.olmcfssp.org/calendar/hibernia-music-group-42/
END:VEVENT
BEGIN:VEVENT
DTSTART;TZID=America/Denver:20241215T123000
DTEND;TZID=America/Denver:20241215T140000
DTSTAMP:20260420T151149
CREATED:20231027T173400Z
LAST-MODIFIED:20241214T003836Z
UID:7047-1734265800-1734271200@www.olmcfssp.org
SUMMARY:Creation Study Group
DESCRIPTION:This group is dedicated to studying the traditional Catholic teaching on creation and Genesis as believed and taught by the Doctors\, Fathers\, Councils and Popes for two thousand years. We explore various aspects of the creation/evolutionism debate and the effects of evolutionary thought on culture\, science and the Church. As Pope St Pius X said about Modernism\, that it is the “synthesis of all heresies.” And “the chief of their doctrines\, that of evolution.” \nAll are welcome to attend and contribute their experience and expertise.
URL:https://www.olmcfssp.org/calendar/creation-study-group-14/
END:VEVENT
BEGIN:VEVENT
DTSTART;TZID=America/Denver:20241215T140000
DTEND;TZID=America/Denver:20241215T170000
DTSTAMP:20260420T151149
CREATED:20231027T173135Z
LAST-MODIFIED:20241213T002335Z
UID:6834-1734271200-1734282000@www.olmcfssp.org
SUMMARY:Laeta Vita
DESCRIPTION:Leata Vita (Joyful Life) is a group for single women ages 18-35. The purpose of our group is to meet and grow in fellowship with other women who are in a similar season of life. We meet two times a month. The first meeting of the month consists of discussing a book as part of our book club and socializing with each other. The second meeting of the month consists of a fun outing or activity (and every now and then something charitable for the parish or some other organization)\, meant to give the members a chance to get out and have some fun.
URL:https://www.olmcfssp.org/calendar/laeta-vita-35/
END:VEVENT
BEGIN:VEVENT
DTSTART;TZID=America/Denver:20241215T170000
DTEND;TZID=America/Denver:20241215T180000
DTSTAMP:20260420T151149
CREATED:20231027T172454Z
LAST-MODIFIED:20241213T235328Z
UID:6310-1734282000-1734285600@www.olmcfssp.org
SUMMARY:Sung Vespers
DESCRIPTION:
URL:https://www.olmcfssp.org/calendar/sung-vespers-84/
END:VEVENT
BEGIN:VEVENT
DTSTART;TZID=America/Denver:20241215T180000
DTEND;TZID=America/Denver:20241215T190000
DTSTAMP:20260420T151149
CREATED:20241213T235328Z
LAST-MODIFIED:20241213T235328Z
UID:11013-1734285600-1734289200@www.olmcfssp.org
SUMMARY:Advent Lessons and Carols
DESCRIPTION:Please join us at 6pm in the church for this hour-long service centering around readings from Sacred Scripture prophesying the birth of our Lord\, interspersed with chants\, motets\, and congregational hymns. The OLMC Parish Choir\, St. Cecilia & St. Gregory Student Scholæ\, & Our Lady of Good Counsel Cooperative schola will sing. A festive reception will follow in the parish hall. All are welcome!
URL:https://www.olmcfssp.org/calendar/advent-lessons-and-carols/
END:VEVENT
BEGIN:VEVENT
DTSTART;TZID=America/Denver:20241216T180000
DTEND;TZID=America/Denver:20241216T190000
DTSTAMP:20260420T151149
CREATED:20231027T173135Z
LAST-MODIFIED:20241213T002335Z
UID:6835-1734372000-1734375600@www.olmcfssp.org
SUMMARY:Legion of Mary Meeting
DESCRIPTION:The legion exists to be a sign of Mary’s maternal love for the world and a means of enlisting all her children in the Church’s evangelizing work. It is at the disposal of the parish priest for any form of service deemed useful for the welfare of the Church.
URL:https://www.olmcfssp.org/calendar/legion-of-mary-meeting-192/
END:VEVENT
BEGIN:VEVENT
DTSTART;TZID=America/Denver:20241217T093000
DTEND;TZID=America/Denver:20241217T110000
DTSTAMP:20260420T151149
CREATED:20231027T173400Z
LAST-MODIFIED:20231027T173400Z
UID:7048-1734427800-1734433200@www.olmcfssp.org
SUMMARY:Tuesday Morning Book Club
DESCRIPTION:The Tuesday morning book club meets to read and discuss a selected book that assists with spiritual growth and knowledge of our wonderful Catholic faith. All members of the parish are welcome to drop by and check us out.
URL:https://www.olmcfssp.org/calendar/tuesday-morning-book-club-98/
END:VEVENT
BEGIN:VEVENT
DTSTART;TZID=America/Denver:20241217T170000
DTEND;TZID=America/Denver:20241217T180000
DTSTAMP:20260420T151149
CREATED:20231027T172454Z
LAST-MODIFIED:20241213T235328Z
UID:6311-1734454800-1734458400@www.olmcfssp.org
SUMMARY:Shepherds of Christ Prayer Group
DESCRIPTION:
URL:https://www.olmcfssp.org/calendar/shepherds-of-christ-prayer-group-98/
END:VEVENT
BEGIN:VEVENT
DTSTART;TZID=America/Denver:20241218T190000
DTEND;TZID=America/Denver:20241218T203000
DTSTAMP:20260420T151149
CREATED:20231027T173633Z
LAST-MODIFIED:20241214T013827Z
UID:7192-1734548400-1734553800@www.olmcfssp.org
SUMMARY:Choir Practice
DESCRIPTION:
URL:https://www.olmcfssp.org/calendar/choir-practice-96/
END:VEVENT
BEGIN:VEVENT
DTSTART;TZID=America/Denver:20241219T093000
DTEND;TZID=America/Denver:20241219T103000
DTSTAMP:20260420T151150
CREATED:20231027T173135Z
LAST-MODIFIED:20241213T002335Z
UID:6836-1734600600-1734604200@www.olmcfssp.org
SUMMARY:Legion of Mary Meeting
DESCRIPTION:The legion exists to be a sign of Mary’s maternal love for the world and a means of enlisting all her children in the Church’s evangelizing work. It is at the disposal of the parish priest for any form of service deemed useful for the welfare of the Church.
URL:https://www.olmcfssp.org/calendar/legion-of-mary-meeting-193/
END:VEVENT
BEGIN:VEVENT
DTSTART;TZID=America/Denver:20241219T093000
DTEND;TZID=America/Denver:20241219T110000
DTSTAMP:20260420T151150
CREATED:20231027T174344Z
LAST-MODIFIED:20241214T002335Z
UID:7297-1734600600-1734606000@www.olmcfssp.org
SUMMARY:St. Therese Book Club
DESCRIPTION:Come and study the works of St. Therese as a group. All are welcome.
URL:https://www.olmcfssp.org/calendar/st-therese-book-club-22/
END:VEVENT
BEGIN:VEVENT
DTSTART;TZID=America/Denver:20241221T093000
DTEND;TZID=America/Denver:20241221T120000
DTSTAMP:20260420T151150
CREATED:20231027T172914Z
LAST-MODIFIED:20231103T182346Z
UID:6557-1734773400-1734782400@www.olmcfssp.org
SUMMARY:Altar & Rosary Society Meeting
DESCRIPTION:The Altar and Rosary Society is an organization of women who foster and spread devotion to the Holy Rosary\, maintain the cleanliness of the church sanctuary\, wash and iron altar linens\, and arrange flowers for the altar.
URL:https://www.olmcfssp.org/calendar/altar-rosary-society-meeting-23/
END:VEVENT
BEGIN:VEVENT
DTSTART;TZID=America/Denver:20241222T123000
DTEND;TZID=America/Denver:20241222T141500
DTSTAMP:20260420T151150
CREATED:20231103T173837Z
LAST-MODIFIED:20231215T185340Z
UID:7724-1734870600-1734876900@www.olmcfssp.org
SUMMARY:Carmel Rookies Chess Club
DESCRIPTION:Players must RSVP to Mr. Mudd at rdm3rdm3@gmail.com to reserve their spot as space is limited.
URL:https://www.olmcfssp.org/calendar/carmel-rookies-chess-club-46/
END:VEVENT
BEGIN:VEVENT
DTSTART;TZID=America/Denver:20241222T123000
DTEND;TZID=America/Denver:20241222T141500
DTSTAMP:20260420T151150
CREATED:20240712T220701Z
LAST-MODIFIED:20241220T002331Z
UID:9305-1734870600-1734876900@www.olmcfssp.org
SUMMARY:Carmel Rookies Chess Club
DESCRIPTION:Carmel Rookies Chess Club for players under 18. Players/parents must RSVP to Mr. Mudd at rdm3rdm3@gmail.com to reserve their spot as space is limited.
URL:https://www.olmcfssp.org/calendar/carmel-rookies-chess-club-57/
END:VEVENT
BEGIN:VEVENT
DTSTART;TZID=America/Denver:20241222T170000
DTEND;TZID=America/Denver:20241222T180000
DTSTAMP:20260420T151150
CREATED:20231027T172454Z
LAST-MODIFIED:20241221T000828Z
UID:6312-1734886800-1734890400@www.olmcfssp.org
SUMMARY:Sung Vespers
DESCRIPTION:
URL:https://www.olmcfssp.org/calendar/sung-vespers-85/
END:VEVENT
BEGIN:VEVENT
DTSTART;TZID=America/Denver:20241223T180000
DTEND;TZID=America/Denver:20241223T190000
DTSTAMP:20260420T151150
CREATED:20231027T173136Z
LAST-MODIFIED:20241220T002331Z
UID:6848-1734976800-1734980400@www.olmcfssp.org
SUMMARY:Legion of Mary Meeting
DESCRIPTION:The legion exists to be a sign of Mary’s maternal love for the world and a means of enlisting all her children in the Church’s evangelizing work. It is at the disposal of the parish priest for any form of service deemed useful for the welfare of the Church.
URL:https://www.olmcfssp.org/calendar/legion-of-mary-meeting-194/
END:VEVENT
BEGIN:VEVENT
DTSTART;TZID=America/Chicago:20241224T000000
DTEND;TZID=America/Chicago:20241224T013000
DTSTAMP:20260420T151150
CREATED:20241122T182504Z
LAST-MODIFIED:20241122T182504Z
UID:10839-1734998400-1735003800@www.olmcfssp.org
SUMMARY:Midnight Mass
DESCRIPTION:
URL:https://www.olmcfssp.org/calendar/midnight-mass/
LOCATION:Church
ORGANIZER;CN="Our Lady of Mt. Carmel":MAILTO:secretary@olmcfssp.org
END:VEVENT
BEGIN:VEVENT
DTSTART;VALUE=DATE:20241224
DTEND;VALUE=DATE:20250102
DTSTAMP:20260420T151150
CREATED:20240925T174412Z
LAST-MODIFIED:20240925T174412Z
UID:10411-1734998400-1735775999@www.olmcfssp.org
SUMMARY:Parish Office Closed - Christmas Break
DESCRIPTION:
URL:https://www.olmcfssp.org/calendar/parish-office-closed-christmas-break/
LOCATION:Church
END:VEVENT
BEGIN:VEVENT
DTSTART;TZID=America/Denver:20241224T093000
DTEND;TZID=America/Denver:20241224T110000
DTSTAMP:20260420T151150
CREATED:20231027T173400Z
LAST-MODIFIED:20231027T173400Z
UID:7049-1735032600-1735038000@www.olmcfssp.org
SUMMARY:Tuesday Morning Book Club
DESCRIPTION:The Tuesday morning book club meets to read and discuss a selected book that assists with spiritual growth and knowledge of our wonderful Catholic faith. All members of the parish are welcome to drop by and check us out.
URL:https://www.olmcfssp.org/calendar/tuesday-morning-book-club-99/
END:VEVENT
BEGIN:VEVENT
DTSTART;TZID=America/Denver:20241224T170000
DTEND;TZID=America/Denver:20241224T180000
DTSTAMP:20260420T151150
CREATED:20231027T172455Z
LAST-MODIFIED:20241221T000828Z
UID:6313-1735059600-1735063200@www.olmcfssp.org
SUMMARY:Shepherds of Christ Prayer Group
DESCRIPTION:
URL:https://www.olmcfssp.org/calendar/shepherds-of-christ-prayer-group-99/
END:VEVENT
BEGIN:VEVENT
DTSTART;TZID=America/Chicago:20241225T000000
DTEND;TZID=America/Chicago:20241225T013000
DTSTAMP:20260420T151150
CREATED:20241122T181431Z
LAST-MODIFIED:20241122T181431Z
UID:10837-1735084800-1735090200@www.olmcfssp.org
SUMMARY:Midnight Mass (Carmelite Monastery)
DESCRIPTION:
URL:https://www.olmcfssp.org/calendar/midnight-mass-carmelite-monastery/
LOCATION:Carmelite Monastery\, 6138 South Gallup\, Littleton\, CO\, 80120
END:VEVENT
BEGIN:VEVENT
DTSTART;TZID=America/Chicago:20241225T000000
DTEND;TZID=America/Chicago:20241225T013000
DTSTAMP:20260420T151150
CREATED:20241122T183259Z
LAST-MODIFIED:20241122T183259Z
UID:10853-1735084800-1735090200@www.olmcfssp.org
SUMMARY:Midnight Mass
DESCRIPTION:
URL:https://www.olmcfssp.org/calendar/midnight-mass-2/
LOCATION:Church
ORGANIZER;CN="Our Lady of Mt. Carmel":MAILTO:secretary@olmcfssp.org
END:VEVENT
BEGIN:VEVENT
DTSTART;TZID=America/Chicago:20241225T063000
DTEND;TZID=America/Chicago:20241225T073000
DTSTAMP:20260420T151150
CREATED:20241122T182619Z
LAST-MODIFIED:20241122T182619Z
UID:10841-1735108200-1735111800@www.olmcfssp.org
SUMMARY:Low Mass - Mass of Christmas Dawn
DESCRIPTION:
URL:https://www.olmcfssp.org/calendar/low-mass-mass-of-christmas-dawn/
LOCATION:Church
ORGANIZER;CN="Our Lady of Mt. Carmel":MAILTO:secretary@olmcfssp.org
END:VEVENT
BEGIN:VEVENT
DTSTART;TZID=America/Chicago:20241225T080000
DTEND;TZID=America/Chicago:20241225T090000
DTSTAMP:20260420T151150
CREATED:20241122T182718Z
LAST-MODIFIED:20241122T182718Z
UID:10843-1735113600-1735117200@www.olmcfssp.org
SUMMARY:High Mass - Mass of Christmas Dawn
DESCRIPTION:
URL:https://www.olmcfssp.org/calendar/high-mass-mass-of-christmas-dawn/
LOCATION:Church
ORGANIZER;CN="Our Lady of Mt. Carmel":MAILTO:secretary@olmcfssp.org
END:VEVENT
BEGIN:VEVENT
DTSTART;TZID=America/Chicago:20241225T080000
DTEND;TZID=America/Chicago:20241225T090000
DTSTAMP:20260420T151150
CREATED:20241122T183006Z
LAST-MODIFIED:20241122T183006Z
UID:10846-1735113600-1735117200@www.olmcfssp.org
SUMMARY:High Mass - Mass of Christmas Dawn (Carmelite Monastery)
DESCRIPTION:
URL:https://www.olmcfssp.org/calendar/high-mass-mass-of-christmas-dawn-carmelite-monastery/
LOCATION:Carmelite Monastery\, 6138 South Gallup\, Littleton\, CO\, 80120
END:VEVENT
BEGIN:VEVENT
DTSTART;TZID=America/Chicago:20241225T093000
DTEND;TZID=America/Chicago:20241225T103000
DTSTAMP:20260420T151150
CREATED:20241122T183142Z
LAST-MODIFIED:20241122T183352Z
UID:10849-1735119000-1735122600@www.olmcfssp.org
SUMMARY:Low Mass - Mass of Christmas Day
DESCRIPTION:
URL:https://www.olmcfssp.org/calendar/low-mass/
LOCATION:Church
ORGANIZER;CN="Our Lady of Mt. Carmel":MAILTO:secretary@olmcfssp.org
END:VEVENT
BEGIN:VEVENT
DTSTART;TZID=America/Chicago:20241225T110000
DTEND;TZID=America/Chicago:20241225T121500
DTSTAMP:20260420T151150
CREATED:20241122T183220Z
LAST-MODIFIED:20241122T183220Z
UID:10851-1735124400-1735128900@www.olmcfssp.org
SUMMARY:High Mass - Mass of Christmas Day
DESCRIPTION:
URL:https://www.olmcfssp.org/calendar/high-mass-mass-of-christmas-day/
LOCATION:Church
ORGANIZER;CN="Our Lady of Mt. Carmel":MAILTO:secretary@olmcfssp.org
END:VEVENT
BEGIN:VEVENT
DTSTART;TZID=America/Denver:20241225T180000
DTEND;TZID=America/Denver:20241225T210000
DTSTAMP:20260420T151150
CREATED:20231027T173136Z
LAST-MODIFIED:20241220T002331Z
UID:6849-1735149600-1735160400@www.olmcfssp.org
SUMMARY:Hibernia Music Group
DESCRIPTION:An OLMC acoustic music group. We play traditional Irish\, Folk and Americana music. All are welcome to join us\, beginner or advanced\, Instrumentalist or Vocalist. Our goal is to sharpen our skills\, increase our musical knowledge\, have good Catholic fellowship\, and share our music.
URL:https://www.olmcfssp.org/calendar/hibernia-music-group-43/
END:VEVENT
BEGIN:VEVENT
DTSTART;TZID=America/Denver:20241226T093000
DTEND;TZID=America/Denver:20241226T103000
DTSTAMP:20260420T151150
CREATED:20231027T173136Z
LAST-MODIFIED:20241220T002331Z
UID:6850-1735205400-1735209000@www.olmcfssp.org
SUMMARY:Legion of Mary Meeting
DESCRIPTION:The legion exists to be a sign of Mary’s maternal love for the world and a means of enlisting all her children in the Church’s evangelizing work. It is at the disposal of the parish priest for any form of service deemed useful for the welfare of the Church.
URL:https://www.olmcfssp.org/calendar/legion-of-mary-meeting-195/
END:VEVENT
END:VCALENDAR