BEGIN:VCALENDAR
VERSION:2.0
PRODID:-//Our Lady of Mt. Carmel - ECPv6.15.20//NONSGML v1.0//EN
CALSCALE:GREGORIAN
METHOD:PUBLISH
X-ORIGINAL-URL:https://www.olmcfssp.org
X-WR-CALDESC:Events for Our Lady of Mt. Carmel
REFRESH-INTERVAL;VALUE=DURATION:PT1H
X-Robots-Tag:noindex
X-PUBLISHED-TTL:PT1H
BEGIN:VTIMEZONE
TZID:America/Denver
BEGIN:DAYLIGHT
TZOFFSETFROM:-0700
TZOFFSETTO:-0600
TZNAME:MDT
DTSTART:20270314T090000
END:DAYLIGHT
BEGIN:STANDARD
TZOFFSETFROM:-0600
TZOFFSETTO:-0700
TZNAME:MST
DTSTART:20271107T080000
END:STANDARD
BEGIN:DAYLIGHT
TZOFFSETFROM:-0700
TZOFFSETTO:-0600
TZNAME:MDT
DTSTART:20280312T090000
END:DAYLIGHT
BEGIN:STANDARD
TZOFFSETFROM:-0600
TZOFFSETTO:-0700
TZNAME:MST
DTSTART:20281105T080000
END:STANDARD
BEGIN:DAYLIGHT
TZOFFSETFROM:-0700
TZOFFSETTO:-0600
TZNAME:MDT
DTSTART:20290311T090000
END:DAYLIGHT
BEGIN:STANDARD
TZOFFSETFROM:-0600
TZOFFSETTO:-0700
TZNAME:MST
DTSTART:20291104T080000
END:STANDARD
END:VTIMEZONE
BEGIN:VEVENT
DTSTART;TZID=America/Denver:20280419T190000
DTEND;TZID=America/Denver:20280419T203000
DTSTAMP:20260424T215214
CREATED:20260425T032357Z
LAST-MODIFIED:20260425T032357Z
UID:14627-1839783600-1839789000@www.olmcfssp.org
SUMMARY:Choir Practice
DESCRIPTION:
URL:https://www.olmcfssp.org/calendar/choir-practice-270/
END:VEVENT
BEGIN:VEVENT
DTSTART;TZID=America/Denver:20280420T093000
DTEND;TZID=America/Denver:20280420T110000
DTSTAMP:20260424T215214
CREATED:20260425T025333Z
LAST-MODIFIED:20260425T025333Z
UID:14624-1839835800-1839841200@www.olmcfssp.org
SUMMARY:St. Therese Book Club
DESCRIPTION:Come and study the works of St. Therese as a group. All are welcome.
URL:https://www.olmcfssp.org/calendar/st-therese-book-club-62/
END:VEVENT
BEGIN:VEVENT
DTSTART;TZID=America/Denver:20280423T170000
DTEND;TZID=America/Denver:20280423T180000
DTSTAMP:20260424T215214
CREATED:20260425T022348Z
LAST-MODIFIED:20260425T022348Z
UID:14621-1840122000-1840125600@www.olmcfssp.org
SUMMARY:Sung Vespers
DESCRIPTION:
URL:https://www.olmcfssp.org/calendar/sung-vespers-259/
END:VEVENT
BEGIN:VEVENT
DTSTART;TZID=America/Denver:20280425T170000
DTEND;TZID=America/Denver:20280425T180000
DTSTAMP:20260424T215214
CREATED:20260425T022348Z
LAST-MODIFIED:20260425T022348Z
UID:14622-1840294800-1840298400@www.olmcfssp.org
SUMMARY:Shepherds of Christ Prayer Group
DESCRIPTION:
URL:https://www.olmcfssp.org/calendar/shepherds-of-christ-prayer-group-273/
END:VEVENT
END:VCALENDAR